BEGIN:VCALENDAR
VERSION:2.0
PRODID:-//Mecop - ECPv6.5.1.5//NONSGML v1.0//EN
CALSCALE:GREGORIAN
METHOD:PUBLISH
X-WR-CALNAME:Mecop
X-ORIGINAL-URL:https://mecop.stagingthedigitalscratch.com
X-WR-CALDESC:Events for Mecop
REFRESH-INTERVAL;VALUE=DURATION:PT1H
X-Robots-Tag:noindex
X-PUBLISHED-TTL:PT1H
BEGIN:VTIMEZONE
TZID:America/Chicago
BEGIN:DAYLIGHT
TZOFFSETFROM:-0600
TZOFFSETTO:-0500
TZNAME:CDT
DTSTART:20250309T080000
END:DAYLIGHT
BEGIN:STANDARD
TZOFFSETFROM:-0500
TZOFFSETTO:-0600
TZNAME:CST
DTSTART:20251102T070000
END:STANDARD
END:VTIMEZONE
BEGIN:VEVENT
DTSTART;TZID=America/Chicago:20250328T080000
DTEND;TZID=America/Chicago:20250328T170000
DTSTAMP:20260420T203130
CREATED:20250407T223927Z
LAST-MODIFIED:20250407T223927Z
UID:62051-1743148800-1743181200@mecop.stagingthedigitalscratch.com
SUMMARY:2025 Faculty Teaching Credits Endocrinology Clerkship
DESCRIPTION:Unavailable
URL:https://mecop.stagingthedigitalscratch.com/event/2025-faculty-teaching-credits-endocrinology-clerkship/
LOCATION:Tallahassee Regional Campus\, Tallahassee\, FL\, United States
CATEGORIES:AMA
END:VEVENT
BEGIN:VEVENT
DTSTART;TZID=America/Chicago:20250328T080000
DTEND;TZID=America/Chicago:20250328T170000
DTSTAMP:20260420T203130
CREATED:20250406T164439Z
LAST-MODIFIED:20250406T164439Z
UID:62041-1743148800-1743181200@mecop.stagingthedigitalscratch.com
SUMMARY:2025 Faculty Teaching Credits Geriatrics Clerkship
DESCRIPTION:Unavailable
URL:https://mecop.stagingthedigitalscratch.com/event/2025-faculty-teaching-credits-geriatrics-clerkship-2/
LOCATION:Fort Pierce Regional Campus\, 1200 W International Speedway Blvd #101\, Daytona Beach\, FL\, 32114\, United States
CATEGORIES:AMA
END:VEVENT
BEGIN:VEVENT
DTSTART;TZID=America/Chicago:20250328T080000
DTEND;TZID=America/Chicago:20250328T170000
DTSTAMP:20260420T203130
CREATED:20250405T221633Z
LAST-MODIFIED:20250512T084938Z
UID:62034-1743148800-1743181200@mecop.stagingthedigitalscratch.com
SUMMARY:2025 Faculty Teaching Credits OBGYN Clerkship
DESCRIPTION:Unavailable
URL:https://mecop.stagingthedigitalscratch.com/event/2025-faculty-teaching-credits-obgyn-clerkship-2/
LOCATION:Daytona Beach Regional Campus\, 1200 W International Speedway\, Daytona Beach\, FL\, 32114\, United States
CATEGORIES:AMA
END:VEVENT
BEGIN:VEVENT
DTSTART;TZID=America/Chicago:20250328T080000
DTEND;TZID=America/Chicago:20250328T170000
DTSTAMP:20260420T203130
CREATED:20250401T163142Z
LAST-MODIFIED:20250401T163627Z
UID:61978-1743148800-1743181200@mecop.stagingthedigitalscratch.com
SUMMARY:FADAA Baby Boomers and Opioid Use Disorder
DESCRIPTION:Describe substance use and opioid use disorder for the baby boomer generation. \nMaster how opioid use disorder impacts the brain and the decision-making pathways of individuals using opioids and related substances. \nDiscover the concepts of medication for opioid use disorder and how medication can support the patient’s road to recovery. \nOutline three FDA-approved medications to treat substance use disorders (SUD). \nApply strategies to help the older generation fight OUD
URL:https://mecop.stagingthedigitalscratch.com/event/fadaa-baby-boomers-and-opioid-use-disorder-2/
LOCATION:Internet Live Webcast
CATEGORIES:AMA
END:VEVENT
BEGIN:VEVENT
DTSTART;TZID=America/Chicago:20250328T080000
DTEND;TZID=America/Chicago:20250328T170000
DTSTAMP:20260420T203130
CREATED:20250401T143633Z
LAST-MODIFIED:20250510T123428Z
UID:61974-1743148800-1743181200@mecop.stagingthedigitalscratch.com
SUMMARY:2025 Faculty Teaching Credits Surgery Clerkship
DESCRIPTION:Unavailable
URL:https://mecop.stagingthedigitalscratch.com/event/2025-faculty-teaching-credits-surgery-clerkship-2/
LOCATION:Pensacola Regional Campus\, 11000 University Parkway Bldg 234\, 2nd Floor\, Pensacola\, FL\, 32514-5750\, United States
CATEGORIES:AMA
END:VEVENT
BEGIN:VEVENT
DTSTART;TZID=America/Chicago:20250328T080000
DTEND;TZID=America/Chicago:20250328T170000
DTSTAMP:20260420T203130
CREATED:20250330T191729Z
LAST-MODIFIED:20250330T191729Z
UID:61947-1743148800-1743181200@mecop.stagingthedigitalscratch.com
SUMMARY:2025 Faculty Teaching Credits Doctoring 3
DESCRIPTION:Unavailable
URL:https://mecop.stagingthedigitalscratch.com/event/2025-faculty-teaching-credits-doctoring-3/
LOCATION:Daytona Beach Regional Campus\, 1200 W International Speedway\, Daytona Beach\, FL\, 32114\, United States
CATEGORIES:AMA
END:VEVENT
BEGIN:VEVENT
DTSTART;TZID=America/Chicago:20250327T080000
DTEND;TZID=America/Chicago:20250327T170000
DTSTAMP:20260420T203130
CREATED:20250409T194139Z
LAST-MODIFIED:20250409T194336Z
UID:62095-1743062400-1743094800@mecop.stagingthedigitalscratch.com
SUMMARY:UpToDate
DESCRIPTION:Unavailable
URL:https://mecop.stagingthedigitalscratch.com/event/uptodate-16/
LOCATION:Internet point-of-care
CATEGORIES:AMA
END:VEVENT
BEGIN:VEVENT
DTSTART;TZID=America/Chicago:20250327T080000
DTEND;TZID=America/Chicago:20250327T170000
DTSTAMP:20260420T203130
CREATED:20250409T154943Z
LAST-MODIFIED:20250512T201723Z
UID:62089-1743062400-1743094800@mecop.stagingthedigitalscratch.com
SUMMARY:NFO Business of Medicine Web Series: When is Modifier 25 Appropriate with Minor Procedures?
DESCRIPTION:In this session the audience will learn about the appropriate and inappropriate us of modifier 25. We will discuss Otolaryngology scenarios that include nasal endoscopies and laryngoscopies. \nWhat you will know at the end of this lesson: \n1. What is modifier 25. 2. What is the risk related to modifier 25. 3. What are the requirements to use modifier 25. 4. When modifier 25 should be used and when if should not be used.
URL:https://mecop.stagingthedigitalscratch.com/event/62089/
LOCATION:Internet Live Webcast
CATEGORIES:AMA
END:VEVENT
BEGIN:VEVENT
DTSTART;TZID=America/Chicago:20250327T080000
DTEND;TZID=America/Chicago:20250327T170000
DTSTAMP:20260420T203130
CREATED:20250402T144454Z
LAST-MODIFIED:20250402T144710Z
UID:61993-1743062400-1743094800@mecop.stagingthedigitalscratch.com
SUMMARY:Method Aesthetics Academy: Level 1 Training
DESCRIPTION:Demonstrate competency in facial anatomy as it pertains to placement of botulinium toxin and filler. Demonstrate competence in neurotoxin and filler. Perform proper placement and injection of neurotoxin and filler for glabella\, frontalis and crow’s feet\, as well as cheeks\, lips and nasolabial folds.
URL:https://mecop.stagingthedigitalscratch.com/event/method-aesthetics-academy-level-1-training-9/
LOCATION:Mela MedSpa
CATEGORIES:AMA
END:VEVENT
BEGIN:VEVENT
DTSTART;TZID=America/Chicago:20250327T080000
DTEND;TZID=America/Chicago:20250327T170000
DTSTAMP:20260420T203130
CREATED:20250327T180410Z
LAST-MODIFIED:20250327T180416Z
UID:61856-1743062400-1743094800@mecop.stagingthedigitalscratch.com
SUMMARY:PEEP Risk Adjustment and Vascular Disease
DESCRIPTION:Review CMS-HCC risk adjustment model and why it is important\nReview specific official ICD-10-CM coding guidelines and how they are applied for HCC diagnosis coding\nIdentify elements of the medical record that help support the validation of an HCC diagnosis condition\nIdentify documentation deficiencies for specific conditions
URL:https://mecop.stagingthedigitalscratch.com/event/peep-risk-adjustment-and-vascular-disease-8/
LOCATION:Internet Enduring Material
CATEGORIES:AMA
END:VEVENT
BEGIN:VEVENT
DTSTART;TZID=America/Chicago:20250326T174500
DTEND;TZID=America/Chicago:20250326T194500
DTSTAMP:20260420T203130
CREATED:20250326T200954Z
LAST-MODIFIED:20250410T133936Z
UID:61814-1743011100-1743018300@mecop.stagingthedigitalscratch.com
SUMMARY:FSU-Ft. Pierce
DESCRIPTION:1. Describe 3 features of the FSUCOM curriculum that you would include in a conversation with someone who was unfamiliar with the curriculum.\n2. Identify learning objectives you can help the FSUCOM student accomplish that are located in the syllabus specific to the required clerkship or elective rotation on which you teach.\n3. List the three characteristics/skills of effective clinical teachers that you feel are particularly/most important.\n4. List/describe one characteristic of effective teachers that you feel need to enhance and one characteristic/skill you feel is a strength at this time.\n5. Describe the wave model which is a teaching strategy designed to help make teaching in the ambulatory setting efficient.\n6. Describe how to provide an orientation at the beginning of a clerkship to a student arriving at your office or clinical setting.\n7. Describe the ARCH model for giving feedback to the student.
URL:https://mecop.stagingthedigitalscratch.com/event/fsu-ft-pierce-195/
LOCATION:Fort Pierce Regional Campus\, 1200 W International Speedway Blvd #101\, Daytona Beach\, FL\, 32114\, United States
CATEGORIES:AMA
END:VEVENT
BEGIN:VEVENT
DTSTART;TZID=America/Chicago:20250326T080000
DTEND;TZID=America/Chicago:20250326T170000
DTSTAMP:20260420T203130
CREATED:20250329T210407Z
LAST-MODIFIED:20250329T210407Z
UID:61929-1742976000-1743008400@mecop.stagingthedigitalscratch.com
SUMMARY:General Adult Tumor Board 2025
DESCRIPTION:Unavailable
URL:https://mecop.stagingthedigitalscratch.com/event/general-adult-tumor-board-2025-7/
LOCATION:Ascension Sacred Heart Hospital\, FL
CATEGORIES:AMA
END:VEVENT
BEGIN:VEVENT
DTSTART;TZID=America/Chicago:20250325T080000
DTEND;TZID=America/Chicago:20250325T170000
DTSTAMP:20260420T203130
CREATED:20250520T144139Z
LAST-MODIFIED:20250520T144144Z
UID:62955-1742889600-1742922000@mecop.stagingthedigitalscratch.com
SUMMARY:PEEP Risk Adjustment and The Heart of Rock n Roll and Arrhythmias
DESCRIPTION:* Review CMS-HCC risk adjustment model and know why it is important\n* Stronger understanding of the medical coding guidelines and regulations\, including compliance and the impact of diagnosis coding on CMS-HCC risk-adjustment payment models\n* Mindfulness to the auditing process for CMS- HCC risk adjustment models\n* Have a better understanding of how to utilize the appropriate Major Depressive Disorder and Diabetic complication codes.
URL:https://mecop.stagingthedigitalscratch.com/event/peep-risk-adjustment-and-the-heart-of-rock-n-roll-and-arrhythmias/
LOCATION:Internet Enduring Material
CATEGORIES:AMA
END:VEVENT
BEGIN:VEVENT
DTSTART;TZID=America/Chicago:20250325T080000
DTEND;TZID=America/Chicago:20250325T170000
DTSTAMP:20260420T203130
CREATED:20250515T134958Z
LAST-MODIFIED:20250515T134958Z
UID:62848-1742889600-1742922000@mecop.stagingthedigitalscratch.com
SUMMARY:FSU Generational Differences: Implications on Teaching and Learning Module
DESCRIPTION:Unavailable
URL:https://mecop.stagingthedigitalscratch.com/event/fsu-generational-differences-implications-on-teaching-and-learning-module-3/
LOCATION:Enduring Material
CATEGORIES:AMA
END:VEVENT
BEGIN:VEVENT
DTSTART;TZID=America/Chicago:20250324T080000
DTEND;TZID=America/Chicago:20250324T170000
DTSTAMP:20260420T203130
CREATED:20250502T215450Z
LAST-MODIFIED:20250502T215733Z
UID:62305-1742803200-1742835600@mecop.stagingthedigitalscratch.com
SUMMARY:ANI Dermal Filler Training
DESCRIPTION:Describe the facial anatomy involved in ageing\, and understand how the loss of volume in the fat pads impact appearance. \nOutline the various dermal filler categories\, products and brands available. \nPerform a patient consultation and prepare the product for administration.. \nIdentify contraindications and adverse events and perform appropriate management \nInject dermal filler on a variety of patients to successfully address their ageing concern.
URL:https://mecop.stagingthedigitalscratch.com/event/ani-dermal-filler-training-4/
LOCATION:Live Course
CATEGORIES:AMA
END:VEVENT
BEGIN:VEVENT
DTSTART;TZID=America/Chicago:20250321T080000
DTEND;TZID=America/Chicago:20250321T120000
DTSTAMP:20260420T203130
CREATED:20250213T211119Z
LAST-MODIFIED:20250405T144921Z
UID:61229-1742544000-1742558400@mecop.stagingthedigitalscratch.com
SUMMARY:FSU COM 2025 Spring Clerkship Directors Meeting
DESCRIPTION:Shenifa Taite PhD \nThe Emotional Intelligent Leader \nIdentify key components of emotional intelligence and their application in medical education. \nDiscuss how high emotional intelligence directly contributes to better patient care and patient outcomes\, and role-modeling for students. \nCompose at least one emotional intelligence SMART Goal related to your role in medical education. \nEd Mobley MD LFAPA and Matthew Thomas MD \nResolving Conflict in Medical Education \nIdentify sources of conflict that may impact the interactions of medical educators of all ranks (Deans\, EDs\, CD’s\, faculty) in the performance their various roles \nRecognize the dynamics that exist between faculty and students that can lead to conflict and interfere with attainment of core competencies by medical learners. \nLearn about a structured approach to conflict resolution that emphasizes professionalism and preservation of relationships. \nHighlight the benefits of adopting a structured model for conflict resolution. \n 
URL:https://mecop.stagingthedigitalscratch.com/event/fsu-com-2025-spring-clerkship-directors-meeting/
LOCATION:Tallahassee\, Florida
CATEGORIES:AMA
END:VEVENT
BEGIN:VEVENT
DTSTART;TZID=America/Chicago:20250320T123000
DTEND;TZID=America/Chicago:20250320T170000
DTSTAMP:20260420T203130
CREATED:20250213T211928Z
LAST-MODIFIED:20250405T153154Z
UID:61233-1742473800-1742490000@mecop.stagingthedigitalscratch.com
SUMMARY:FSU COM 2025 Spring Clerkship Directors Meeting
DESCRIPTION:
URL:https://mecop.stagingthedigitalscratch.com/event/fsu-com-2025-spring-clerkship-directors-meeting-3/
LOCATION:Tallahassee\, Florida
CATEGORIES:AMA
END:VEVENT
BEGIN:VEVENT
DTSTART;TZID=America/Chicago:20250320T080000
DTEND;TZID=America/Chicago:20250320T170000
DTSTAMP:20260420T203130
CREATED:20250409T154451Z
LAST-MODIFIED:20250409T154620Z
UID:62086-1742457600-1742490000@mecop.stagingthedigitalscratch.com
SUMMARY:NFO Business of Medicine Web Series: Medication Management-Inventory and Medication Samples
DESCRIPTION:Description: Effective Medication Inventory Management is crucial for ensuring patient safety\, preventing errors\, and meeting legal and regulatory requirements within healthcare practices. Whether a healthcare practice maintains a small or large inventory\, proper management systems should cover key areas such as medication storage\, security\, documentation\, safety processes\, and auditing. Ensuring these systems are functional\, well-maintained\, and well-documented is vital for safeguarding patient health and minimizing risks related to medication errors. \nObjectives:\n1. Understand the Importance of Medication Storage and Organization.\n2. Implement Security Protocols for Medication Inventory.\n3. Ensure Comprehensive Documentation for Medication Tracking.\n4. Develop Emergency Protocols and Procedures for Inventory Management.\n5. Identify safe prescribing practices for new prescriptions\, refills\, and sample medications.\n6. Understand the specific risks and management strategies for high-alert medications.
URL:https://mecop.stagingthedigitalscratch.com/event/nfo-business-of-medicine-web-series-medication-management-inventory-and-medication-samples/
LOCATION:Internet Live Webcast
CATEGORIES:AMA
END:VEVENT
BEGIN:VEVENT
DTSTART;TZID=America/Chicago:20250320T080000
DTEND;TZID=America/Chicago:20250320T170000
DTSTAMP:20260420T203130
CREATED:20250322T000538Z
LAST-MODIFIED:20250324T155113Z
UID:61751-1742457600-1742490000@mecop.stagingthedigitalscratch.com
SUMMARY:Risk Adjustment and The Empire Strikes Back with Diabetes
DESCRIPTION:Review CMS-HCC risk adjustment model and why it is important\nReview specific official ICD-10-CM coding guidelines and how they are applied for HCC diagnosis coding\nIdentify elements of the medical record that help support the validation of an HCC diagnosis condition\nIdentify documentation deficiencies for specific conditions.
URL:https://mecop.stagingthedigitalscratch.com/event/risk-adjustment-and-the-empire-strikes-back-with-diabetes-5/
LOCATION:Internet Live Webcast
CATEGORIES:AMA
END:VEVENT
BEGIN:VEVENT
DTSTART;TZID=America/Chicago:20250320T080000
DTEND;TZID=America/Chicago:20250320T120000
DTSTAMP:20260420T203130
CREATED:20250213T211438Z
LAST-MODIFIED:20250409T115818Z
UID:61231-1742457600-1742472000@mecop.stagingthedigitalscratch.com
SUMMARY:FSU COM 2025 Spring Clerkship Directors Meeting
DESCRIPTION:
URL:https://mecop.stagingthedigitalscratch.com/event/fsu-com-2025-spring-clerkship-directors-meeting-2/
LOCATION:Tallahassee\, Florida
CATEGORIES:AMA
END:VEVENT
BEGIN:VEVENT
DTSTART;TZID=America/Chicago:20250319T120000
DTEND;TZID=America/Chicago:20250319T130000
DTSTAMP:20260420T203130
CREATED:20250310T201515Z
LAST-MODIFIED:20250410T171757Z
UID:61572-1742385600-1742389200@mecop.stagingthedigitalscratch.com
SUMMARY:MUSM Clinical Faculty Development Series
DESCRIPTION:a. Describe the historical development of geospatial approaches in clinical medicine\nb. Identify types of geospatial data that are being utilized to improve patient-centered care\nc. Explain the current state of the science of geomarkers.
URL:https://mecop.stagingthedigitalscratch.com/event/musm-clinical-faculty-development-series-36/
LOCATION:Live
CATEGORIES:AMA
END:VEVENT
BEGIN:VEVENT
DTSTART;TZID=America/Chicago:20250318T080000
DTEND;TZID=America/Chicago:20250318T170000
DTSTAMP:20260420T203130
CREATED:20250320T091918Z
LAST-MODIFIED:20250410T153714Z
UID:61726-1742284800-1742317200@mecop.stagingthedigitalscratch.com
SUMMARY:CMS Monthly Provider Meeting
DESCRIPTION:This live videoconference provides a team opportunity to discuss openly with all of our providers ways that we can improve our care.  In this session\, we discussed new clinic openings\, nursing turnover and nursing interactions. We discussed CORE 4 which provides our providers with a list of goals for 2025. We also discussed recent dosing data trends and how those trends effect outcomes.  We outline opportunities for providers to partner with and train up nurses.  Additionally\, we will open this meeting to nurses in an effort to improve collaboration and teamwork.
URL:https://mecop.stagingthedigitalscratch.com/event/cms-monthly-provider-meeting-10/
LOCATION:Internet Live Webcast
CATEGORIES:AMA
END:VEVENT
BEGIN:VEVENT
DTSTART;TZID=America/Chicago:20250318T080000
DTEND;TZID=America/Chicago:20250318T170000
DTSTAMP:20260420T203130
CREATED:20250318T142921Z
LAST-MODIFIED:20250318T225659Z
UID:61697-1742284800-1742317200@mecop.stagingthedigitalscratch.com
SUMMARY:Risk Adjustment and The Empire Strikes Back with Diabetes
DESCRIPTION:Review CMS-HCC risk adjustment model and why it is important\nReview specific official ICD-10-CM coding guidelines and how they are applied for HCC diagnosis coding\nIdentify elements of the medical record that help support the validation of an HCC diagnosis condition\nIdentify documentation deficiencies for specific conditions.
URL:https://mecop.stagingthedigitalscratch.com/event/risk-adjustment-and-the-empire-strikes-back-with-diabetes-2/
LOCATION:Internet Live Webcast
CATEGORIES:AMA
END:VEVENT
BEGIN:VEVENT
DTSTART;TZID=America/Chicago:20250318T070000
DTEND;TZID=America/Chicago:20250318T080000
DTSTAMP:20260420T203130
CREATED:20250218T205829Z
LAST-MODIFIED:20250416T172344Z
UID:61280-1742281200-1742284800@mecop.stagingthedigitalscratch.com
SUMMARY:Baldwin Health Tumor Board
DESCRIPTION:1. Review patient cases and all necessary findings (pathology\, radiology\, surgery\, etc.) and discuss key findings to determine course of treatment.\n2. Discuss implications amongst multidisciplinary team members\, and review best practices\, current\nevidence-based findings\, etc.\n3. Assign treatment protocols based on consensus of the multidisciplinary team.
URL:https://mecop.stagingthedigitalscratch.com/event/baldwin-health-tumor-board-4/
LOCATION:Baldwin Health
CATEGORIES:AMA
END:VEVENT
BEGIN:VEVENT
DTSTART;TZID=America/Chicago:20250316T080000
DTEND;TZID=America/Chicago:20250316T170000
DTSTAMP:20260420T203130
CREATED:20250520T215904Z
LAST-MODIFIED:20250520T215909Z
UID:62987-1742112000-1742144400@mecop.stagingthedigitalscratch.com
SUMMARY:PEEP Risk Adjustment and the Bucket List for Coding Cancer
DESCRIPTION:See content.
URL:https://mecop.stagingthedigitalscratch.com/event/peep-risk-adjustment-and-the-bucket-list-for-coding-cancer-4/
LOCATION:Internet Enduring Material
CATEGORIES:AMA
END:VEVENT
BEGIN:VEVENT
DTSTART;TZID=America/Chicago:20250315T080000
DTEND;TZID=America/Chicago:20250315T170000
DTSTAMP:20260420T203130
CREATED:20250520T220050Z
LAST-MODIFIED:20250520T220358Z
UID:62989-1742025600-1742058000@mecop.stagingthedigitalscratch.com
SUMMARY:PEEP Risk Adjustment Rules of Engagement ICD-10 Coding
DESCRIPTION:See content.
URL:https://mecop.stagingthedigitalscratch.com/event/peep-risk-adjustment-rules-of-engagement-icd-10-coding-6/
LOCATION:Internet Enduring Material
CATEGORIES:AMA
END:VEVENT
BEGIN:VEVENT
DTSTART;TZID=America/Chicago:20250315T080000
DTEND;TZID=America/Chicago:20250315T170000
DTSTAMP:20260420T203130
CREATED:20250329T142948Z
LAST-MODIFIED:20250401T161517Z
UID:61896-1742025600-1742058000@mecop.stagingthedigitalscratch.com
SUMMARY:KAMAP 2025 Annual Summit: Day 2
DESCRIPTION:See course content with objectives by topic in KAMAP 2025 folder.
URL:https://mecop.stagingthedigitalscratch.com/event/kamap-2025-annual-summit-day-2/
LOCATION:Live Course
CATEGORIES:AMA
END:VEVENT
BEGIN:VEVENT
DTSTART;TZID=America/Chicago:20250314T080000
DTEND;TZID=America/Chicago:20250314T170000
DTSTAMP:20260420T203130
CREATED:20250328T162606Z
LAST-MODIFIED:20250329T140829Z
UID:61883-1741939200-1741971600@mecop.stagingthedigitalscratch.com
SUMMARY:KAMAP 2025 Annual Summit: Cadaver Lab
DESCRIPTION:See cadaver outline saved to KAMAP 2025 Cadaver
URL:https://mecop.stagingthedigitalscratch.com/event/kamap-2025-annual-summit-cadaver-lab/
LOCATION:Live Course
CATEGORIES:AMA
END:VEVENT
BEGIN:VEVENT
DTSTART;TZID=America/Chicago:20250314T080000
DTEND;TZID=America/Chicago:20250314T170000
DTSTAMP:20260420T203130
CREATED:20250326T153318Z
LAST-MODIFIED:20250403T183421Z
UID:61800-1741939200-1741971600@mecop.stagingthedigitalscratch.com
SUMMARY:2025 Faculty Teaching Credits Forensic Pathology Clerkship
DESCRIPTION:Unavailable
URL:https://mecop.stagingthedigitalscratch.com/event/2025-faculty-teaching-credits-forensic-pathology-clerkship/
LOCATION:Daytona Beach Regional Campus\, 1200 W International Speedway\, Daytona Beach\, FL\, 32114\, United States
CATEGORIES:AMA
END:VEVENT
BEGIN:VEVENT
DTSTART;TZID=America/Chicago:20250314T080000
DTEND;TZID=America/Chicago:20250314T170000
DTSTAMP:20260420T203130
CREATED:20250320T153609Z
LAST-MODIFIED:20250324T144208Z
UID:61735-1741939200-1741971600@mecop.stagingthedigitalscratch.com
SUMMARY:FADAA Baby Boomers and Opioid Use Disorder
DESCRIPTION:Describe substance use and opioid use disorder for the baby boomer generation. \nMaster how opioid use disorder impacts the brain and the decision-making pathways of individuals using opioids and related substances. \nDiscover the concepts of medication for opioid use disorder and how medication can support the patient’s road to recovery. \nOutline three FDA-approved medications to treat substance use disorders (SUD). \nApply strategies to help the older generation fight OUD
URL:https://mecop.stagingthedigitalscratch.com/event/fadaa-baby-boomers-and-opioid-use-disorder/
LOCATION:Internet Live Webcast
CATEGORIES:AMA
END:VEVENT
END:VCALENDAR