BEGIN:VCALENDAR
VERSION:2.0
PRODID:-//Mecop - ECPv6.5.1.5//NONSGML v1.0//EN
CALSCALE:GREGORIAN
METHOD:PUBLISH
X-WR-CALNAME:Mecop
X-ORIGINAL-URL:https://mecop.stagingthedigitalscratch.com
X-WR-CALDESC:Events for Mecop
REFRESH-INTERVAL;VALUE=DURATION:PT1H
X-Robots-Tag:noindex
X-PUBLISHED-TTL:PT1H
BEGIN:VTIMEZONE
TZID:America/Chicago
BEGIN:DAYLIGHT
TZOFFSETFROM:-0600
TZOFFSETTO:-0500
TZNAME:CDT
DTSTART:20240310T080000
END:DAYLIGHT
BEGIN:STANDARD
TZOFFSETFROM:-0500
TZOFFSETTO:-0600
TZNAME:CST
DTSTART:20241103T070000
END:STANDARD
END:VTIMEZONE
BEGIN:VEVENT
DTSTART;TZID=America/Chicago:20240223T080000
DTEND;TZID=America/Chicago:20240223T170000
DTSTAMP:20260425T161435
CREATED:20240507T175006Z
LAST-MODIFIED:20241125T144359Z
UID:56845-1708675200-1708707600@mecop.stagingthedigitalscratch.com
SUMMARY:2024 Faculty Teaching Credits Gastroenterology Clerkship
DESCRIPTION:Unavailable
URL:https://mecop.stagingthedigitalscratch.com/event/2024-faculty-teaching-credits-gastroenterology-clerkship/
LOCATION:Sarasota Regional Campus\, 5560 Bee Ridge Rd\, Sarasota\, FL\, 34233\, United States
CATEGORIES:AMA
END:VEVENT
BEGIN:VEVENT
DTSTART;TZID=America/Chicago:20240223T080000
DTEND;TZID=America/Chicago:20240223T170000
DTSTAMP:20260425T161435
CREATED:20240424T120749Z
LAST-MODIFIED:20241211T122416Z
UID:56666-1708675200-1708707600@mecop.stagingthedigitalscratch.com
SUMMARY:2024 Faculty Teaching Credits Geriatrics Clerkship
DESCRIPTION:Unavailable
URL:https://mecop.stagingthedigitalscratch.com/event/2024-faculty-teaching-credits-geriatrics-clerkship-2/
LOCATION:Pensacola Regional Campus\, 11000 University Parkway Bldg 234\, 2nd Floor\, Pensacola\, FL\, 32514-5750\, United States
CATEGORIES:AMA
END:VEVENT
BEGIN:VEVENT
DTSTART;TZID=America/Chicago:20240223T080000
DTEND;TZID=America/Chicago:20240223T170000
DTSTAMP:20260425T161435
CREATED:20240315T162255Z
LAST-MODIFIED:20241115T221517Z
UID:56252-1708675200-1708707600@mecop.stagingthedigitalscratch.com
SUMMARY:2024 Faculty Teaching Credits Hematology/Oncology Clerkship
DESCRIPTION:Unavailable
URL:https://mecop.stagingthedigitalscratch.com/event/2024-faculty-teaching-credits-hematology-oncology-clerkship/
LOCATION:Tallahassee Regional Campus\, Tallahassee\, FL\, United States
CATEGORIES:AMA
END:VEVENT
BEGIN:VEVENT
DTSTART;TZID=America/Chicago:20240223T080000
DTEND;TZID=America/Chicago:20240223T170000
DTSTAMP:20260425T161435
CREATED:20240311T181002Z
LAST-MODIFIED:20241211T184516Z
UID:56177-1708675200-1708707600@mecop.stagingthedigitalscratch.com
SUMMARY:2024 Faculty Teaching Credits Family Medicine Clerkship
DESCRIPTION:Unavailable
URL:https://mecop.stagingthedigitalscratch.com/event/2024-faculty-teaching-credits-family-medicine-clerkship-2/
LOCATION:Daytona Beach Regional Campus\, 1200 W International Speedway\, Daytona Beach\, FL\, 32114\, United States
CATEGORIES:AMA
END:VEVENT
BEGIN:VEVENT
DTSTART;TZID=America/Chicago:20240223T080000
DTEND;TZID=America/Chicago:20240223T170000
DTSTAMP:20260425T161435
CREATED:20240306T171035Z
LAST-MODIFIED:20250114T175954Z
UID:56130-1708675200-1708707600@mecop.stagingthedigitalscratch.com
SUMMARY:2024 Faculty Teaching Credits Emergency Medicine Clerkship
DESCRIPTION:Unavailable
URL:https://mecop.stagingthedigitalscratch.com/event/2024-faculty-teaching-credits-emergency-medicine-clerkship/
LOCATION:Tallahassee Regional Campus\, Tallahassee\, FL\, United States
CATEGORIES:AMA
END:VEVENT
BEGIN:VEVENT
DTSTART;TZID=America/Chicago:20240223T080000
DTEND;TZID=America/Chicago:20240223T170000
DTSTAMP:20260425T161435
CREATED:20240229T204740Z
LAST-MODIFIED:20240229T204922Z
UID:56049-1708675200-1708707600@mecop.stagingthedigitalscratch.com
SUMMARY:#47174 Medical Ethics for Physicians
DESCRIPTION:Unavailable
URL:https://mecop.stagingthedigitalscratch.com/event/47174-medical-ethics-for-physicians/
LOCATION:Enduring Material
CATEGORIES:AMA
END:VEVENT
BEGIN:VEVENT
DTSTART;TZID=America/Chicago:20240222T180000
DTEND;TZID=America/Chicago:20240222T200000
DTSTAMP:20260425T161435
CREATED:20240202T205601Z
LAST-MODIFIED:20240403T201543Z
UID:55649-1708624800-1708632000@mecop.stagingthedigitalscratch.com
SUMMARY:FSU-Daytona Beach
DESCRIPTION:To increase an understanding of the role the amgydala and frontal lobe plays in disorders the most common psychiatric presentations \nTo improve competency and understanding regarding the different presentations of the most common psychiatric presentations. \nTo improve intervention techniques\, psychoeducation and communication with patients regarding mental health concerns and related diagnoses.
URL:https://mecop.stagingthedigitalscratch.com/event/fsu-college-of-medicine-5/
LOCATION:Daytona Beach Regional Campus\, 1200 W International Speedway\, Daytona Beach\, FL\, 32114\, United States
CATEGORIES:AMA
END:VEVENT
BEGIN:VEVENT
DTSTART;TZID=America/Chicago:20240221T180000
DTEND;TZID=America/Chicago:20240221T200000
DTSTAMP:20260425T161435
CREATED:20240221T201947Z
LAST-MODIFIED:20240307T180731Z
UID:55918-1708538400-1708545600@mecop.stagingthedigitalscratch.com
SUMMARY:FSU-Ft. Pierce
DESCRIPTION:Review the Pediatrics Clerkship general overview and learning objectives \nBe aware of the required clinical encounters and level of participation during the Pediatric Clerkship \nReview and discuss grading policy changes \nReview and discuss the revised evaluation form for faculty of student \nReview Pediatric Clerkship data and comparability among regional campuses \nShare successful teaching practices in the clinical setting \nDiscuss respiratory syncytial virus updates and prevention
URL:https://mecop.stagingthedigitalscratch.com/event/fsu-ft-pierce-190/
LOCATION:Fort Pierce Regional Campus\, 1200 W International Speedway Blvd #101\, Daytona Beach\, FL\, 32114\, United States
CATEGORIES:AMA
END:VEVENT
BEGIN:VEVENT
DTSTART;TZID=America/Chicago:20240221T120000
DTEND;TZID=America/Chicago:20240221T130000
DTSTAMP:20260425T161435
CREATED:20240217T155012Z
LAST-MODIFIED:20240306T213707Z
UID:55872-1708516800-1708520400@mecop.stagingthedigitalscratch.com
SUMMARY:MUSM Clinical Faculty Development Series
DESCRIPTION:1. Identify the needs of surgery for rural patients\n2. Identify the current shortage of rural surgeons\n3. Identify causes of rural surgeon shortage\n4. Recognize the need for teams of surgical personnel for underserved areas in rural America\n5. Learn the needs internationally of surgical care in remote locations as a major determinant of health\n6. Identify the needed changes in training and compensation to support rural surgery.
URL:https://mecop.stagingthedigitalscratch.com/event/musm-clinical-faculty-development-series-14/
LOCATION:Live Lecture
CATEGORIES:AMA
END:VEVENT
BEGIN:VEVENT
DTSTART;TZID=America/Chicago:20240221T080000
DTEND;TZID=America/Chicago:20240221T170000
DTSTAMP:20260425T161435
CREATED:20240730T140740Z
LAST-MODIFIED:20240730T140740Z
UID:57802-1708502400-1708534800@mecop.stagingthedigitalscratch.com
SUMMARY:General Adult Tumor Board 2024
DESCRIPTION:Unavailable
URL:https://mecop.stagingthedigitalscratch.com/event/general-adult-tumor-board-2024-17/
LOCATION:Ascension Sacred Heart Hospital\, FL
CATEGORIES:AMA
END:VEVENT
BEGIN:VEVENT
DTSTART;TZID=America/Chicago:20240221T080000
DTEND;TZID=America/Chicago:20240221T170000
DTSTAMP:20260425T161435
CREATED:20240607T161346Z
LAST-MODIFIED:20240607T162219Z
UID:57177-1708502400-1708534800@mecop.stagingthedigitalscratch.com
SUMMARY:2024 ABP Question of the Week -
DESCRIPTION:Unavailable
URL:https://mecop.stagingthedigitalscratch.com/event/2024-abp-question-of-the-week/
LOCATION:Enduring Material
CATEGORIES:AMA
END:VEVENT
BEGIN:VEVENT
DTSTART;TZID=America/Chicago:20240221T080000
DTEND;TZID=America/Chicago:20240221T170000
DTSTAMP:20260425T161435
CREATED:20240312T123358Z
LAST-MODIFIED:20240520T185616Z
UID:56190-1708502400-1708534800@mecop.stagingthedigitalscratch.com
SUMMARY:SMG 2024 Annual Provider Risk Adjustment Documentation and Coding Training
DESCRIPTION:Review Hierarchical Condition Category (HCC) Value Based Risk Adjustment model(s) and why it is important \nStronger understanding of the medical coding guidelines and regulations\, including compliance and the impact of diagnosis coding \nMindfulness to the auditing process for Center for Medicare and Medicaid Services (CMS) – HCC risk adjustment models and documenting and reporting chronic conditions yearly \nAwareness of “other” HCC Risk Models (Commercial\, Medicaid (TENNCARE)) \nRealize the importance of a Risk Adjustment auditing process \nQuality Updates \nCare Coordination Services
URL:https://mecop.stagingthedigitalscratch.com/event/smg-2024-annual-provider-risk-adjustment-documentation-and-coding-training/
LOCATION:Live Webinar
CATEGORIES:AMA
END:VEVENT
BEGIN:VEVENT
DTSTART;TZID=America/Chicago:20240221T080000
DTEND;TZID=America/Chicago:20240221T170000
DTSTAMP:20260425T161435
CREATED:20240228T152138Z
LAST-MODIFIED:20240916T182313Z
UID:56023-1708502400-1708534800@mecop.stagingthedigitalscratch.com
SUMMARY:FSU Identifying and Preventing Academic and Non-academic Difficulties Among M3 and M4 Learners Module
DESCRIPTION:Unavailable
URL:https://mecop.stagingthedigitalscratch.com/event/fsu-identifying-and-preventing-academic-and-non-academic-difficulties-in-m3-and-m4-students-module/
LOCATION:Enduring Material
CATEGORIES:AMA
END:VEVENT
BEGIN:VEVENT
DTSTART;TZID=America/Chicago:20240221T080000
DTEND;TZID=America/Chicago:20240221T170000
DTSTAMP:20260425T161435
CREATED:20240228T150844Z
LAST-MODIFIED:20240228T151604Z
UID:56020-1708502400-1708534800@mecop.stagingthedigitalscratch.com
SUMMARY:FSU COM Medical Educators:
DESCRIPTION:Unavailable
URL:https://mecop.stagingthedigitalscratch.com/event/fsu-com-medical-educators/
LOCATION:Enduring Material
CATEGORIES:AMA
END:VEVENT
BEGIN:VEVENT
DTSTART;TZID=America/Chicago:20240221T080000
DTEND;TZID=America/Chicago:20240221T170000
DTSTAMP:20260425T161435
CREATED:20240227T150445Z
LAST-MODIFIED:20240227T150729Z
UID:56013-1708502400-1708534800@mecop.stagingthedigitalscratch.com
SUMMARY:FSU Integrating Learners into Your Busy Practice Module
DESCRIPTION:Unavailable
URL:https://mecop.stagingthedigitalscratch.com/event/fsu-integrating-learners-into-your-busy-practice-module/
LOCATION:Enduring Material
CATEGORIES:AMA
END:VEVENT
BEGIN:VEVENT
DTSTART;TZID=America/Chicago:20240221T080000
DTEND;TZID=America/Chicago:20240221T170000
DTSTAMP:20260425T161435
CREATED:20240227T125755Z
LAST-MODIFIED:20240227T125755Z
UID:56010-1708502400-1708534800@mecop.stagingthedigitalscratch.com
SUMMARY:FSU Developing FSU Medical Students Using Emotional Intelligence Module
DESCRIPTION:Unavailable
URL:https://mecop.stagingthedigitalscratch.com/event/fsu-developing-fsu-medical-students-using-emotional-intelligence-module-3/
LOCATION:Enduring Material
CATEGORIES:AMA
END:VEVENT
BEGIN:VEVENT
DTSTART;TZID=America/Chicago:20240221T080000
DTEND;TZID=America/Chicago:20240221T170000
DTSTAMP:20260425T161435
CREATED:20240227T125251Z
LAST-MODIFIED:20240227T125251Z
UID:56008-1708502400-1708534800@mecop.stagingthedigitalscratch.com
SUMMARY:FSU What Can a Clinician Educator Learn from a Coach? Module
DESCRIPTION:Unavailable
URL:https://mecop.stagingthedigitalscratch.com/event/fsu-what-can-a-clinician-educator-learn-from-a-coach-module-5/
LOCATION:Enduring Material
CATEGORIES:AMA
END:VEVENT
BEGIN:VEVENT
DTSTART;TZID=America/Chicago:20240221T080000
DTEND;TZID=America/Chicago:20240221T170000
DTSTAMP:20260425T161435
CREATED:20240227T123448Z
LAST-MODIFIED:20240227T123753Z
UID:56004-1708502400-1708534800@mecop.stagingthedigitalscratch.com
SUMMARY:FSU Essentials for Inpatient Teaching Rounds: From Classroom to Bedside Module
DESCRIPTION:Unavailable
URL:https://mecop.stagingthedigitalscratch.com/event/fsu-essentials-for-inpatient-teaching-rounds-module-2/
LOCATION:Enduring Material
CATEGORIES:AMA
END:VEVENT
BEGIN:VEVENT
DTSTART;TZID=America/Chicago:20240221T080000
DTEND;TZID=America/Chicago:20240221T170000
DTSTAMP:20260425T161435
CREATED:20240226T143727Z
LAST-MODIFIED:20240226T143727Z
UID:55989-1708502400-1708534800@mecop.stagingthedigitalscratch.com
SUMMARY:FSU Essentials for Teaching Learners in a Virtual Care Environment Module
DESCRIPTION:Unavailable
URL:https://mecop.stagingthedigitalscratch.com/event/fsu-essentials-for-teaching-learners-in-a-virtual-care-environment-module-2/
LOCATION:Enduring Material
CATEGORIES:AMA
END:VEVENT
BEGIN:VEVENT
DTSTART;TZID=America/Chicago:20240221T080000
DTEND;TZID=America/Chicago:20240221T170000
DTSTAMP:20260425T161435
CREATED:20240226T143028Z
LAST-MODIFIED:20240226T143028Z
UID:55985-1708502400-1708534800@mecop.stagingthedigitalscratch.com
SUMMARY:FSU Small Group Facilitation Module
DESCRIPTION:Unavailable
URL:https://mecop.stagingthedigitalscratch.com/event/fsu-small-group-facilitation-module-2/
LOCATION:Enduring Material
CATEGORIES:AMA
END:VEVENT
BEGIN:VEVENT
DTSTART;TZID=America/Chicago:20240221T080000
DTEND;TZID=America/Chicago:20240221T170000
DTSTAMP:20260425T161435
CREATED:20240226T142208Z
LAST-MODIFIED:20250204T183827Z
UID:55980-1708502400-1708534800@mecop.stagingthedigitalscratch.com
SUMMARY:FSU Reducing the Potential for FSU COM Student Mistreatment Module
DESCRIPTION:Unavailable
URL:https://mecop.stagingthedigitalscratch.com/event/fsu-reducing-the-potential-for-fsu-com-student-mistreatment-module-7/
LOCATION:Enduring Material
CATEGORIES:AMA
END:VEVENT
BEGIN:VEVENT
DTSTART;TZID=America/Chicago:20240221T080000
DTEND;TZID=America/Chicago:20240221T170000
DTSTAMP:20260425T161435
CREATED:20240226T141044Z
LAST-MODIFIED:20240301T193640Z
UID:55974-1708502400-1708534800@mecop.stagingthedigitalscratch.com
SUMMARY:FSU MBTI-Using Knowledge of Personality Type to Enhance Clinical Teaching Module
DESCRIPTION:Unavailable
URL:https://mecop.stagingthedigitalscratch.com/event/fsu-mbti-using-knowledge-of-personality-type-to-enhance-clinical-teaching-module-7/
LOCATION:Enduring Material
CATEGORIES:AMA
END:VEVENT
BEGIN:VEVENT
DTSTART;TZID=America/Chicago:20240221T080000
DTEND;TZID=America/Chicago:20240221T170000
DTSTAMP:20260425T161435
CREATED:20240226T140504Z
LAST-MODIFIED:20240226T140708Z
UID:55972-1708502400-1708534800@mecop.stagingthedigitalscratch.com
SUMMARY:FSU Letters of Recommendation Module
DESCRIPTION:Unavailable
URL:https://mecop.stagingthedigitalscratch.com/event/fsu-letters-of-recommendation-module-24/
LOCATION:Enduring Material
CATEGORIES:AMA
END:VEVENT
BEGIN:VEVENT
DTSTART;TZID=America/Chicago:20240221T080000
DTEND;TZID=America/Chicago:20240221T170000
DTSTAMP:20260425T161435
CREATED:20240212T164720Z
LAST-MODIFIED:20240422T160218Z
UID:55764-1708502400-1708534800@mecop.stagingthedigitalscratch.com
SUMMARY:Better Health Group Monthly Town Hall Meeting
DESCRIPTION:TBA
URL:https://mecop.stagingthedigitalscratch.com/event/physician-partners-monthly-town-hall-meeting/
LOCATION:Zoom
CATEGORIES:AMA
END:VEVENT
BEGIN:VEVENT
DTSTART;TZID=America/Chicago:20240220T180000
DTEND;TZID=America/Chicago:20240220T200000
DTSTAMP:20260425T161435
CREATED:20240219T213311Z
LAST-MODIFIED:20240322T141828Z
UID:55878-1708452000-1708459200@mecop.stagingthedigitalscratch.com
SUMMARY:FSU-Orlando
DESCRIPTION:1. The learner will review the Psychiatric Clerkship general overview and learning objectives.\n2. The learner will be aware of required clinical encounters and level of participation during the Psychiatric Clerkship.\n3. The learner will review and discuss grading policy changes.\n4. The learner will review and discuss the revised student evaluation form for faculty.
URL:https://mecop.stagingthedigitalscratch.com/event/fsu-orlando-129/
LOCATION:Orlando Regional Campus\, Orlando\, FL\, United States
CATEGORIES:AMA
END:VEVENT
BEGIN:VEVENT
DTSTART;TZID=America/Chicago:20240220T080000
DTEND;TZID=America/Chicago:20240220T170000
DTSTAMP:20260425T161435
CREATED:20240408T130241Z
LAST-MODIFIED:20240408T130904Z
UID:56480-1708416000-1708448400@mecop.stagingthedigitalscratch.com
SUMMARY:CME Monthly Provider Meeting
DESCRIPTION:Discuss new treatment protocols for various STI’s within our patient population\nDiscuss Hep A\, B and C screening and treatment\nDiscuss missed dose policy and how to get orders updated to nursing including dose increases\nDiscuss Brixadi\, the newest long acting injectable buprenorphine\nReview patient visit frequencies when they are tapering their dose\nReminder to check PDMP on patients
URL:https://mecop.stagingthedigitalscratch.com/event/cme-monthly-provider-meeting/
LOCATION:Live
CATEGORIES:AMA
END:VEVENT
BEGIN:VEVENT
DTSTART;TZID=America/Chicago:20240220T080000
DTEND;TZID=America/Chicago:20240220T170000
DTSTAMP:20260425T161435
CREATED:20240222T153932Z
LAST-MODIFIED:20240312T164953Z
UID:55922-1708416000-1708448400@mecop.stagingthedigitalscratch.com
SUMMARY:Risk Adjustment and Heart Failure
DESCRIPTION:Review CMS-HCC risk adjustment model and why it is important\nReview specific official ICD-10-CM coding guidelines and how they are applied for HCC diagnosis coding\nIdentify elements of the medical record that help support the validation of an HCC diagnosis condition\nIdentify documentation deficiencies for specific conditions
URL:https://mecop.stagingthedigitalscratch.com/event/risk-adjustment-and-heart-failure/
LOCATION:Live Webinar
CATEGORIES:AMA
END:VEVENT
BEGIN:VEVENT
DTSTART;TZID=America/Chicago:20240220T080000
DTEND;TZID=America/Chicago:20240220T170000
DTSTAMP:20260425T161435
CREATED:20240219T221340Z
LAST-MODIFIED:20240222T212100Z
UID:55883-1708416000-1708448400@mecop.stagingthedigitalscratch.com
SUMMARY:South Baldwin Tumor Board
DESCRIPTION:1. Review patient cases and all necessary findings (pathology\, radiology\, surgery\, etc.) and discuss key\nfindings to determine course of treatment.\n2. Discuss implications amongst multidisciplinary team members\, and review best practices\, current\nevidence-based findings\, etc.\n3. Assign treatment protocols based on consensus of the multidisciplinary team.
URL:https://mecop.stagingthedigitalscratch.com/event/south-baldwin-tumor-board-28/
LOCATION:Baldwin Health
CATEGORIES:AMA
END:VEVENT
BEGIN:VEVENT
DTSTART;TZID=America/Chicago:20240220T000000
DTEND;TZID=America/Chicago:20240220T000000
DTSTAMP:20260425T161435
CREATED:20240424T160626Z
LAST-MODIFIED:20240426T131626Z
UID:56678-1708387200-1708387200@mecop.stagingthedigitalscratch.com
SUMMARY:CMS Monthly Provider Meeting
DESCRIPTION:We reviewed procedures that are changing and some new treatments. We discussed how to navigate the healthcare system to get our patients their correct medication and dose of medicine.\nWe explored new treatment opportunities for our patients that have concomitant medical issues \nObjectives: Discuss new treatment protocols for various STI’s within our patient population\nDiscuss Hep A\, B and C screening and treatment\nDiscuss missed dose policy and how to get orders updated to nursing including dose increases\nDiscuss Brixadi\, the newest long acting injectable buprenorphine\nReview patient visit frequencies when they are tapering their dose\nReminder to check PDMP on patients
URL:https://mecop.stagingthedigitalscratch.com/event/cms-monthly-provider-meeting-2/
LOCATION:Internet Live Webcast
CATEGORIES:AMA
END:VEVENT
BEGIN:VEVENT
DTSTART;TZID=America/Chicago:20240219T080000
DTEND;TZID=America/Chicago:20240219T170000
DTSTAMP:20260425T161435
CREATED:20240312T122035Z
LAST-MODIFIED:20240318T172613Z
UID:56186-1708329600-1708362000@mecop.stagingthedigitalscratch.com
SUMMARY:SMG 2024 Annual Provider Risk Adjustment Documentation and Coding Training
DESCRIPTION:Review Hierarchical Condition Category (HCC) Value Based Risk Adjustment model(s) and why it is important \nStronger understanding of the medical coding guidelines and regulations\, including compliance and the impact of diagnosis coding \nMindfulness to the auditing process for Center for Medicare and Medicaid Services (CMS) – HCC risk adjustment models and documenting and reporting chronic conditions yearly \nAwareness of “other” HCC Risk Models (Commercial\, Medicaid (TENNCARE)) \nRealize the importance of a Risk Adjustment auditing process \nQuality Updates \nCare Coordination Services
URL:https://mecop.stagingthedigitalscratch.com/event/smg-2024-annual-provider-risk-adjustment-training/
LOCATION:Live Webinar
CATEGORIES:AMA
END:VEVENT
END:VCALENDAR