BEGIN:VCALENDAR
VERSION:2.0
PRODID:-//Mecop - ECPv6.5.1.5//NONSGML v1.0//EN
CALSCALE:GREGORIAN
METHOD:PUBLISH
X-WR-CALNAME:Mecop
X-ORIGINAL-URL:https://mecop.stagingthedigitalscratch.com
X-WR-CALDESC:Events for Mecop
REFRESH-INTERVAL;VALUE=DURATION:PT1H
X-Robots-Tag:noindex
X-PUBLISHED-TTL:PT1H
BEGIN:VTIMEZONE
TZID:America/Chicago
BEGIN:DAYLIGHT
TZOFFSETFROM:-0600
TZOFFSETTO:-0500
TZNAME:CDT
DTSTART:20240310T080000
END:DAYLIGHT
BEGIN:STANDARD
TZOFFSETFROM:-0500
TZOFFSETTO:-0600
TZNAME:CST
DTSTART:20241103T070000
END:STANDARD
TZID:America/New_York
BEGIN:DAYLIGHT
TZOFFSETFROM:-0500
TZOFFSETTO:-0400
TZNAME:EDT
DTSTART:20240310T070000
END:DAYLIGHT
BEGIN:STANDARD
TZOFFSETFROM:-0400
TZOFFSETTO:-0500
TZNAME:EST
DTSTART:20241103T060000
END:STANDARD
END:VTIMEZONE
BEGIN:VEVENT
DTSTART;TZID=America/Chicago:20240301T000000
DTEND;TZID=America/Chicago:20240301T000000
DTSTAMP:20260425T110159
CREATED:20240308T165350Z
LAST-MODIFIED:20241114T164302Z
UID:56157-1709251200-1709251200@mecop.stagingthedigitalscratch.com
SUMMARY:Method Aesthetics Academy: Level 2 Training
DESCRIPTION:Upon completion\, learners will:\nAssess and place lower face neuromodulators and neuromodulators for medical necessity\nPlace and inject dermal filler for tear troughs\, temples\, brow bone\, jaw and chin\nSelect\, place and utilize cannulas effectively
URL:https://mecop.stagingthedigitalscratch.com/event/method-aesthetics-academy-level-2-training-5/
LOCATION:Mela MedSpa
CATEGORIES:AMA
END:VEVENT
BEGIN:VEVENT
DTSTART;TZID=America/Chicago:20240229T183000
DTEND;TZID=America/Chicago:20240229T213000
DTSTAMP:20260425T110159
CREATED:20240206T142645Z
LAST-MODIFIED:20250318T134854Z
UID:55685-1709231400-1709242200@mecop.stagingthedigitalscratch.com
SUMMARY:Pediatric Associates PACE Meeting
DESCRIPTION:TBA
URL:https://mecop.stagingthedigitalscratch.com/event/pediatric-associates-pace-meeting-38/
LOCATION:Zoom
CATEGORIES:AMA
END:VEVENT
BEGIN:VEVENT
DTSTART;TZID=America/Chicago:20240229T180000
DTEND;TZID=America/Chicago:20240229T200000
DTSTAMP:20260425T110159
CREATED:20240126T195536Z
LAST-MODIFIED:20240304T163701Z
UID:55508-1709229600-1709236800@mecop.stagingthedigitalscratch.com
SUMMARY:FSU-Daytona Beach
DESCRIPTION:Access DynaMedex and Isabel Pro on the medical library’s website and mobile devices. Describe clinical content featured in DynaMedex. Locate and evaluate clinical evidence and drug information within DynaMedex. Perform a differential diagnosis with Isabel Pro.\nDemonstrate how to use DynaMed Decisions in shared decision-making.\nExplore how to use DynaMedex and Isabel Pro in clinical teaching with MD/PA students
URL:https://mecop.stagingthedigitalscratch.com/event/fsu-college-of-medicine-4/
LOCATION:Daytona Beach Regional Campus\, 1200 W International Speedway\, Daytona Beach\, FL\, 32114\, United States
CATEGORIES:AMA
END:VEVENT
BEGIN:VEVENT
DTSTART;TZID=America/Chicago:20240229T080000
DTEND;TZID=America/Chicago:20240229T170000
DTSTAMP:20260425T110159
CREATED:20240405T183329Z
LAST-MODIFIED:20240408T222732Z
UID:56477-1709193600-1709226000@mecop.stagingthedigitalscratch.com
SUMMARY:Pediatric Associates PACE Meeting
DESCRIPTION:
URL:https://mecop.stagingthedigitalscratch.com/event/pediatric-associates-pace-meeting-44/
LOCATION:Zoom
CATEGORIES:AMA
END:VEVENT
BEGIN:VEVENT
DTSTART;TZID=America/Chicago:20240228T180000
DTEND;TZID=America/Chicago:20240228T200000
DTSTAMP:20260425T110159
CREATED:20240418T191936Z
LAST-MODIFIED:20240419T145024Z
UID:56577-1709143200-1709150400@mecop.stagingthedigitalscratch.com
SUMMARY:FSU-Orlando
DESCRIPTION:Unavailable
URL:https://mecop.stagingthedigitalscratch.com/event/fsu-orlando-131/
LOCATION:Orlando Regional Campus\, Orlando\, FL\, United States
CATEGORIES:AMA
END:VEVENT
BEGIN:VEVENT
DTSTART;TZID=America/Chicago:20240228T180000
DTEND;TZID=America/Chicago:20240228T200000
DTSTAMP:20260425T110159
CREATED:20240207T150057Z
LAST-MODIFIED:20240311T183709Z
UID:55711-1709143200-1709150400@mecop.stagingthedigitalscratch.com
SUMMARY:FSU-Sarasota
DESCRIPTION:As a result of attending this session\, participants will be able to:\n1. The learner will review the Pediatrics Clerkship general overview and learning objectives\n2. Be Aware of required clinical encounters and level of participation during the Pediatric Clerkship\n3. Review and discuss grading policy changes\n4. Review and discuss the revised evaluation form for faculty of student\n5. Review Pediatric Clerkship data and comparability among regional campuses\n6. Share successful teaching practices in the clinical setting\n7. Discuss respiratory syncytial virus updates and prevention
URL:https://mecop.stagingthedigitalscratch.com/event/fsu-sarasota-134/
LOCATION:Sarasota Regional Campus\, 5560 Bee Ridge Rd\, Sarasota\, FL\, 34233\, United States
CATEGORIES:AMA
END:VEVENT
BEGIN:VEVENT
DTSTART;TZID=America/Chicago:20240228T080000
DTEND;TZID=America/Chicago:20240228T170000
DTSTAMP:20260425T110159
CREATED:20240308T161046Z
LAST-MODIFIED:20240308T161046Z
UID:56155-1709107200-1709139600@mecop.stagingthedigitalscratch.com
SUMMARY:Summit Medical Grand Rounds Oncology Preparation
DESCRIPTION:Preparing February SMG Grand Rounds presentation.
URL:https://mecop.stagingthedigitalscratch.com/event/summit-medical-grand-rounds-oncology-preparation/
CATEGORIES:AMA
END:VEVENT
BEGIN:VEVENT
DTSTART;TZID=America/Chicago:20240228T080000
DTEND;TZID=America/Chicago:20240228T170000
DTSTAMP:20260425T110159
CREATED:20240228T141248Z
LAST-MODIFIED:20240228T141509Z
UID:56018-1709107200-1709139600@mecop.stagingthedigitalscratch.com
SUMMARY:General Adult Tumor Board 2024
DESCRIPTION:Unavailable
URL:https://mecop.stagingthedigitalscratch.com/event/general-adult-tumor-board-2024-4/
LOCATION:Ascension Sacred Heart Hospital\, FL
CATEGORIES:AMA
END:VEVENT
BEGIN:VEVENT
DTSTART;TZID=America/Chicago:20240228T080000
DTEND;TZID=America/Chicago:20240228T170000
DTSTAMP:20260425T110159
CREATED:20240207T205441Z
LAST-MODIFIED:20240308T160834Z
UID:55724-1709107200-1709139600@mecop.stagingthedigitalscratch.com
SUMMARY:Summit Medical Grand Rounds
DESCRIPTION:Discuss current national landscape of value-based oncology\, and how we an oncology group can successfully navigate the challenges and opportunities surrounding value-based care.
URL:https://mecop.stagingthedigitalscratch.com/event/summit-medical-grand-rounds-3/
LOCATION:Webinar
CATEGORIES:AMA
END:VEVENT
BEGIN:VEVENT
DTSTART;TZID=America/Chicago:20240228T070000
DTEND;TZID=America/Chicago:20240228T120000
DTSTAMP:20260425T110159
CREATED:20231219T173522Z
LAST-MODIFIED:20240508T152927Z
UID:54644-1709103600-1709121600@mecop.stagingthedigitalscratch.com
SUMMARY:2024 APGO Susan M. Cox\, MD\, Clerkship Directors’ School 301
DESCRIPTION:Join ob-gyn clerkship directors from across the U.S. and Canada for a truly innovative CME\nexperience. The 2024 Advanced Clerkship Directors’ School is designed to address some of the\nmost challenging aspects of the ob-gyn clerkship. Sessions will be conducted in interactive large and\nsmall group settings with opportunities to share ideas and network. This program will not only\nenhance your professional career but will allow you an opportunity to meet in an interactive learning\nenvironment with your colleagues. This program is Part 301 of  the APGO Clerkship Directors’\nSchool. Although Part 301 is more advanced in nature\, it is designed for clerkship directors of all\nlevels of experience and is a stand-alone course.
URL:https://mecop.stagingthedigitalscratch.com/event/2024-apgo-susan-m-cox-md-clerkship-directors-school-301/
LOCATION:San Antonio Texas
CATEGORIES:AMA
END:VEVENT
BEGIN:VEVENT
DTSTART;TZID=America/Chicago:20240227T120000
DTEND;TZID=America/Chicago:20240227T130000
DTSTAMP:20260425T110159
CREATED:20240223T180144Z
LAST-MODIFIED:20240307T140211Z
UID:55942-1709035200-1709038800@mecop.stagingthedigitalscratch.com
SUMMARY:MUSM Clinical Faculty Development Series
DESCRIPTION:TBA
URL:https://mecop.stagingthedigitalscratch.com/event/musm-clinical-faculty-development-series-17/
LOCATION:Live
CATEGORIES:AMA
END:VEVENT
BEGIN:VEVENT
DTSTART;TZID=America/Chicago:20240227T080000
DTEND;TZID=America/Chicago:20240227T170000
DTSTAMP:20260425T110159
CREATED:20240312T124538Z
LAST-MODIFIED:20240318T173208Z
UID:56198-1709020800-1709053200@mecop.stagingthedigitalscratch.com
SUMMARY:SMG 2024 Annual Provider Risk Adjustment Documentation and Coding Training
DESCRIPTION:Review Hierarchical Condition Category (HCC) Value Based Risk Adjustment model(s) and why it is important \nStronger understanding of the medical coding guidelines and regulations\, including compliance and the impact of diagnosis coding \nMindfulness to the auditing process for Center for Medicare and Medicaid Services (CMS) – HCC risk adjustment models and documenting and reporting chronic conditions yearly \nAwareness of “other” HCC Risk Models (Commercial\, Medicaid (TENNCARE)) \nRealize the importance of a Risk Adjustment auditing process \nQuality Updates \nCare Coordination Services
URL:https://mecop.stagingthedigitalscratch.com/event/smg-2024-annual-provider-risk-adjustment-documentation-and-coding-training-2/
LOCATION:Live Webinar
CATEGORIES:AMA
END:VEVENT
BEGIN:VEVENT
DTSTART;TZID=America/Chicago:20240227T000000
DTEND;TZID=America/Chicago:20240227T000000
DTSTAMP:20260425T110159
CREATED:20240305T183514Z
LAST-MODIFIED:20240305T183853Z
UID:56116-1708992000-1708992000@mecop.stagingthedigitalscratch.com
SUMMARY:Risk Adjustment and Heart Failure
DESCRIPTION:Review CMS-HCC risk adjustment model and why it is important\nReview specific official ICD-10-CM coding guidelines and how they are applied for HCC diagnosis coding\nIdentify elements of the medical record that help support the validation of an HCC diagnosis condition\nIdentify documentation deficiencies for specific conditions
URL:https://mecop.stagingthedigitalscratch.com/event/risk-adjustment-and-heart-failure-2/
LOCATION:Live Webcast
CATEGORIES:AMA
END:VEVENT
BEGIN:VEVENT
DTSTART;TZID=America/Chicago:20240225T080000
DTEND;TZID=America/Chicago:20240225T170000
DTSTAMP:20260425T110159
CREATED:20240229T204301Z
LAST-MODIFIED:20240229T205053Z
UID:56046-1708848000-1708880400@mecop.stagingthedigitalscratch.com
SUMMARY:#94954 Osteoarthritis
DESCRIPTION:Unavailable
URL:https://mecop.stagingthedigitalscratch.com/event/94954-osteoarthritis/
LOCATION:Enduring Material
CATEGORIES:AMA
END:VEVENT
BEGIN:VEVENT
DTSTART;TZID=America/Chicago:20240224T080000
DTEND;TZID=America/Chicago:20240225T170000
DTSTAMP:20260425T110159
CREATED:20240301T160858Z
LAST-MODIFIED:20240925T144013Z
UID:56057-1708761600-1708880400@mecop.stagingthedigitalscratch.com
SUMMARY:Advanced Aesthetics with Injector Coach Institute
DESCRIPTION:Upon completion\, learners will:\nAssess and place lower face neuromodulators and neuromodulators for medical necessity\nPlace and inject dermal filler for tear troughs\, temples\, brow bone\, jaw and chin\nSelect\, place and utilize cannulas effectively
URL:https://mecop.stagingthedigitalscratch.com/event/advanced-aesthetics-with-the-injector-coach-2/
LOCATION:Mind Body Soul Medical
CATEGORIES:AMA
END:VEVENT
BEGIN:VEVENT
DTSTART;TZID=America/New_York:20240223T120000
DTEND;TZID=America/New_York:20240223T130000
DTSTAMP:20260425T110159
CREATED:20240219T143132Z
LAST-MODIFIED:20240528T130400Z
UID:55875-1708689600-1708693200@mecop.stagingthedigitalscratch.com
SUMMARY:MUSM Clinical Faculty Development Series
DESCRIPTION:What is gratitude? \nIs it going to make me happier? \nIf gratitude does lead to greater happiness in life how do I get started?
URL:https://mecop.stagingthedigitalscratch.com/event/musm-clinical-faculty-development-series-15/
LOCATION:Live Lecture
CATEGORIES:AMA
END:VEVENT
BEGIN:VEVENT
DTSTART;TZID=America/Chicago:20240223T080000
DTEND;TZID=America/Chicago:20240223T170000
DTSTAMP:20260425T110159
CREATED:20241025T154306Z
LAST-MODIFIED:20241025T154306Z
UID:59041-1708675200-1708707600@mecop.stagingthedigitalscratch.com
SUMMARY:2024 Faculty Teaching Credits Pediatrics Clerkship
DESCRIPTION:Unavailable
URL:https://mecop.stagingthedigitalscratch.com/event/2024-faculty-teaching-credits-pediatrics-clerkship-3/
LOCATION:Tallahassee Regional Campus\, Tallahassee\, FL\, United States
CATEGORIES:AMA
END:VEVENT
BEGIN:VEVENT
DTSTART;TZID=America/Chicago:20240223T080000
DTEND;TZID=America/Chicago:20240223T170000
DTSTAMP:20260425T110159
CREATED:20240807T204407Z
LAST-MODIFIED:20240807T204407Z
UID:57932-1708675200-1708707600@mecop.stagingthedigitalscratch.com
SUMMARY:2024 Faculty Teaching Credits Rheumatology Clerkship
DESCRIPTION:Unavailable
URL:https://mecop.stagingthedigitalscratch.com/event/2024-faculty-teaching-credits-rheumatology-clerkship/
LOCATION:Tallahassee Regional Campus\, Tallahassee\, FL\, United States
CATEGORIES:AMA
END:VEVENT
BEGIN:VEVENT
DTSTART;TZID=America/Chicago:20240223T080000
DTEND;TZID=America/Chicago:20240223T170000
DTSTAMP:20260425T110159
CREATED:20240717T153227Z
LAST-MODIFIED:20241203T184553Z
UID:57675-1708675200-1708707600@mecop.stagingthedigitalscratch.com
SUMMARY:2024 Faculty Teaching Credits Critical Care Clerkship
DESCRIPTION:Unavailable
URL:https://mecop.stagingthedigitalscratch.com/event/2024-faculty-teaching-credits-critical-care-clerkship/
LOCATION:Tallahassee Regional Campus\, Tallahassee\, FL\, United States
CATEGORIES:AMA
END:VEVENT
BEGIN:VEVENT
DTSTART;TZID=America/Chicago:20240223T080000
DTEND;TZID=America/Chicago:20240223T170000
DTSTAMP:20260425T110159
CREATED:20240528T201515Z
LAST-MODIFIED:20241125T183249Z
UID:57103-1708675200-1708707600@mecop.stagingthedigitalscratch.com
SUMMARY:2024 Faculty Teaching Credits Infectious Disease Clerkship
DESCRIPTION:Unavailable
URL:https://mecop.stagingthedigitalscratch.com/event/2024-faculty-teaching-credits-infectious-disease-clerkship/
LOCATION:Pensacola Regional Campus\, 11000 University Parkway Bldg 234\, 2nd Floor\, Pensacola\, FL\, 32514-5750\, United States
CATEGORIES:AMA
END:VEVENT
BEGIN:VEVENT
DTSTART;TZID=America/Chicago:20240223T080000
DTEND;TZID=America/Chicago:20240223T170000
DTSTAMP:20260425T110159
CREATED:20240520T134201Z
LAST-MODIFIED:20241106T191437Z
UID:57004-1708675200-1708707600@mecop.stagingthedigitalscratch.com
SUMMARY:2024 Faculty Teaching Credits Nephrology Clerkship
DESCRIPTION:Unavailable
URL:https://mecop.stagingthedigitalscratch.com/event/2024-faculty-teaching-credits-nephrology-clerkship/
LOCATION:Orlando Regional Campus\, Orlando\, FL\, United States
CATEGORIES:AMA
END:VEVENT
BEGIN:VEVENT
DTSTART;TZID=America/Chicago:20240223T080000
DTEND;TZID=America/Chicago:20240223T170000
DTSTAMP:20260425T110159
CREATED:20240509T193901Z
LAST-MODIFIED:20241009T135857Z
UID:56906-1708675200-1708707600@mecop.stagingthedigitalscratch.com
SUMMARY:2024 Faculty Teaching Credits Pediatric Surgery Clerkship
DESCRIPTION:Unavailable
URL:https://mecop.stagingthedigitalscratch.com/event/2024-faculty-teaching-credits-pediatric-surgery-clerkship/
LOCATION:Orlando Regional Campus\, Orlando\, FL\, United States
CATEGORIES:AMA
END:VEVENT
BEGIN:VEVENT
DTSTART;TZID=America/Chicago:20240223T080000
DTEND;TZID=America/Chicago:20240223T170000
DTSTAMP:20260425T110159
CREATED:20240509T185732Z
LAST-MODIFIED:20241016T195805Z
UID:56899-1708675200-1708707600@mecop.stagingthedigitalscratch.com
SUMMARY:2024 Faculty Teaching Credits Endocrinology Clerkship
DESCRIPTION:Unavailable
URL:https://mecop.stagingthedigitalscratch.com/event/2024-faculty-teaching-credits-endocrinology-clerkship/
LOCATION:Orlando Regional Campus\, Orlando\, FL\, United States
CATEGORIES:AMA
END:VEVENT
BEGIN:VEVENT
DTSTART;TZID=America/Chicago:20240223T080000
DTEND;TZID=America/Chicago:20240223T170000
DTSTAMP:20260425T110159
CREATED:20240508T173640Z
LAST-MODIFIED:20241108T234121Z
UID:56878-1708675200-1708707600@mecop.stagingthedigitalscratch.com
SUMMARY:2024 Faculty Teaching Credits Internal Medicine Sub-Internship
DESCRIPTION:Unavailable
URL:https://mecop.stagingthedigitalscratch.com/event/2024-faculty-teaching-credits-internal-medicine-sub-internship/
LOCATION:Orlando Regional Campus\, Orlando\, FL\, United States
CATEGORIES:AMA
END:VEVENT
BEGIN:VEVENT
DTSTART;TZID=America/Chicago:20240223T080000
DTEND;TZID=America/Chicago:20240223T170000
DTSTAMP:20260425T110159
CREATED:20240507T175006Z
LAST-MODIFIED:20241125T144359Z
UID:56845-1708675200-1708707600@mecop.stagingthedigitalscratch.com
SUMMARY:2024 Faculty Teaching Credits Gastroenterology Clerkship
DESCRIPTION:Unavailable
URL:https://mecop.stagingthedigitalscratch.com/event/2024-faculty-teaching-credits-gastroenterology-clerkship/
LOCATION:Sarasota Regional Campus\, 5560 Bee Ridge Rd\, Sarasota\, FL\, 34233\, United States
CATEGORIES:AMA
END:VEVENT
BEGIN:VEVENT
DTSTART;TZID=America/Chicago:20240223T080000
DTEND;TZID=America/Chicago:20240223T170000
DTSTAMP:20260425T110159
CREATED:20240424T120749Z
LAST-MODIFIED:20241211T122416Z
UID:56666-1708675200-1708707600@mecop.stagingthedigitalscratch.com
SUMMARY:2024 Faculty Teaching Credits Geriatrics Clerkship
DESCRIPTION:Unavailable
URL:https://mecop.stagingthedigitalscratch.com/event/2024-faculty-teaching-credits-geriatrics-clerkship-2/
LOCATION:Pensacola Regional Campus\, 11000 University Parkway Bldg 234\, 2nd Floor\, Pensacola\, FL\, 32514-5750\, United States
CATEGORIES:AMA
END:VEVENT
BEGIN:VEVENT
DTSTART;TZID=America/Chicago:20240223T080000
DTEND;TZID=America/Chicago:20240223T170000
DTSTAMP:20260425T110159
CREATED:20240315T162255Z
LAST-MODIFIED:20241115T221517Z
UID:56252-1708675200-1708707600@mecop.stagingthedigitalscratch.com
SUMMARY:2024 Faculty Teaching Credits Hematology/Oncology Clerkship
DESCRIPTION:Unavailable
URL:https://mecop.stagingthedigitalscratch.com/event/2024-faculty-teaching-credits-hematology-oncology-clerkship/
LOCATION:Tallahassee Regional Campus\, Tallahassee\, FL\, United States
CATEGORIES:AMA
END:VEVENT
BEGIN:VEVENT
DTSTART;TZID=America/Chicago:20240223T080000
DTEND;TZID=America/Chicago:20240223T170000
DTSTAMP:20260425T110159
CREATED:20240311T181002Z
LAST-MODIFIED:20241211T184516Z
UID:56177-1708675200-1708707600@mecop.stagingthedigitalscratch.com
SUMMARY:2024 Faculty Teaching Credits Family Medicine Clerkship
DESCRIPTION:Unavailable
URL:https://mecop.stagingthedigitalscratch.com/event/2024-faculty-teaching-credits-family-medicine-clerkship-2/
LOCATION:Daytona Beach Regional Campus\, 1200 W International Speedway\, Daytona Beach\, FL\, 32114\, United States
CATEGORIES:AMA
END:VEVENT
BEGIN:VEVENT
DTSTART;TZID=America/Chicago:20240223T080000
DTEND;TZID=America/Chicago:20240223T170000
DTSTAMP:20260425T110159
CREATED:20240306T171035Z
LAST-MODIFIED:20250114T175954Z
UID:56130-1708675200-1708707600@mecop.stagingthedigitalscratch.com
SUMMARY:2024 Faculty Teaching Credits Emergency Medicine Clerkship
DESCRIPTION:Unavailable
URL:https://mecop.stagingthedigitalscratch.com/event/2024-faculty-teaching-credits-emergency-medicine-clerkship/
LOCATION:Tallahassee Regional Campus\, Tallahassee\, FL\, United States
CATEGORIES:AMA
END:VEVENT
BEGIN:VEVENT
DTSTART;TZID=America/Chicago:20240223T080000
DTEND;TZID=America/Chicago:20240223T170000
DTSTAMP:20260425T110159
CREATED:20240229T204740Z
LAST-MODIFIED:20240229T204922Z
UID:56049-1708675200-1708707600@mecop.stagingthedigitalscratch.com
SUMMARY:#47174 Medical Ethics for Physicians
DESCRIPTION:Unavailable
URL:https://mecop.stagingthedigitalscratch.com/event/47174-medical-ethics-for-physicians/
LOCATION:Enduring Material
CATEGORIES:AMA
END:VEVENT
END:VCALENDAR