BEGIN:VCALENDAR
VERSION:2.0
PRODID:-//Mecop - ECPv6.5.1.5//NONSGML v1.0//EN
CALSCALE:GREGORIAN
METHOD:PUBLISH
X-WR-CALNAME:Mecop
X-ORIGINAL-URL:https://mecop.stagingthedigitalscratch.com
X-WR-CALDESC:Events for Mecop
REFRESH-INTERVAL;VALUE=DURATION:PT1H
X-Robots-Tag:noindex
X-PUBLISHED-TTL:PT1H
BEGIN:VTIMEZONE
TZID:America/Chicago
BEGIN:DAYLIGHT
TZOFFSETFROM:-0600
TZOFFSETTO:-0500
TZNAME:CDT
DTSTART:20240310T080000
END:DAYLIGHT
BEGIN:STANDARD
TZOFFSETFROM:-0500
TZOFFSETTO:-0600
TZNAME:CST
DTSTART:20241103T070000
END:STANDARD
END:VTIMEZONE
BEGIN:VEVENT
DTSTART;TZID=America/Chicago:20240409T120000
DTEND;TZID=America/Chicago:20240409T130000
DTSTAMP:20260425T085159
CREATED:20240223T181127Z
LAST-MODIFIED:20240529T174338Z
UID:55945-1712664000-1712667600@mecop.stagingthedigitalscratch.com
SUMMARY:MUSM Clinical Faculty Development Series
DESCRIPTION:What is postpartum depression?\nPrevalence\nRisk factors\nPathophysiology of postpartum depression\nAdverse outcomes\nPostpartum depression in men\nScreening\nTreatment options
URL:https://mecop.stagingthedigitalscratch.com/event/musm-clinical-faculty-development-series-18/
LOCATION:Live
CATEGORIES:AMA
END:VEVENT
BEGIN:VEVENT
DTSTART;TZID=America/Chicago:20240406T080000
DTEND;TZID=America/Chicago:20240406T170000
DTSTAMP:20260425T085159
CREATED:20240607T163105Z
LAST-MODIFIED:20240607T163210Z
UID:57190-1712390400-1712422800@mecop.stagingthedigitalscratch.com
SUMMARY:2024 PREP ICU\, Mar
DESCRIPTION:Unavailable
URL:https://mecop.stagingthedigitalscratch.com/event/2024-prep-icu-mar/
LOCATION:Enduring Material
CATEGORIES:AMA
END:VEVENT
BEGIN:VEVENT
DTSTART;TZID=America/Chicago:20240405T080000
DTEND;TZID=America/Chicago:20240405T170000
DTSTAMP:20260425T085159
CREATED:20240509T185023Z
LAST-MODIFIED:20240509T185023Z
UID:56897-1712304000-1712336400@mecop.stagingthedigitalscratch.com
SUMMARY:2024 Faculty Teaching Credits Special Topics in Pediatrics
DESCRIPTION:Unavailable
URL:https://mecop.stagingthedigitalscratch.com/event/2024-faculty-teaching-credits-special-topics-in-pediatrics/
LOCATION:Orlando Regional Campus\, Orlando\, FL\, United States
CATEGORIES:AMA
END:VEVENT
BEGIN:VEVENT
DTSTART;TZID=America/Chicago:20240404T180000
DTEND;TZID=America/Chicago:20240404T200000
DTSTAMP:20260425T085159
CREATED:20240418T164703Z
LAST-MODIFIED:20240418T170240Z
UID:56572-1712253600-1712260800@mecop.stagingthedigitalscratch.com
SUMMARY:FSU-Orlando
DESCRIPTION:Be able to discuss and be aware of new changes to the 3rd and 4th year Syllabi. \nReview with importance of rotation evaluations and mid-clerkship feedback \nDiscuss any issues with student feedback. \nReview the FM experience with PA students and discuss any issues. \nIdentify FM resources for students and faculty in the FSU medical library. \nIdentify any issues or need for FM faculty recruitment at the different campuses. \nOpen discussion will be the opportunity for faculty to voice their concerns or issues and see how those are being handled at different campuses in an attempt to resolve them.
URL:https://mecop.stagingthedigitalscratch.com/event/fsu-orlando-130/
LOCATION:Zoom
CATEGORIES:AMA
END:VEVENT
BEGIN:VEVENT
DTSTART;TZID=America/Chicago:20240404T080000
DTEND;TZID=America/Chicago:20240404T170000
DTSTAMP:20260425T085159
CREATED:20240410T132715Z
LAST-MODIFIED:20240415T134756Z
UID:56511-1712217600-1712250000@mecop.stagingthedigitalscratch.com
SUMMARY:FSU-Tallahassee
DESCRIPTION:Access and navigate FSU’s medical library web site\nFind an E-Book or E-Journal\nUse a drug and decision support resource\nFind a patient education handout\nFind mobile resources\nIdentify pathways to get help with using the medical library
URL:https://mecop.stagingthedigitalscratch.com/event/fsu-tallahassee-166/
LOCATION:Zoom
CATEGORIES:AMA
END:VEVENT
BEGIN:VEVENT
DTSTART;TZID=America/Chicago:20240403T120000
DTEND;TZID=America/Chicago:20240403T130000
DTSTAMP:20260425T085159
CREATED:20240321T135834Z
LAST-MODIFIED:20240404T153325Z
UID:56289-1712145600-1712149200@mecop.stagingthedigitalscratch.com
SUMMARY:MUSM Clinical Faculty Development Series
DESCRIPTION:To give an understanding of stress and its causes\nTo give an understanding of mindfulness and how it can be used to reduce stress\nTo offer some practice methods to reduce stress.
URL:https://mecop.stagingthedigitalscratch.com/event/musm-clinical-faculty-development-series-24/
LOCATION:Live
CATEGORIES:AMA
END:VEVENT
BEGIN:VEVENT
DTSTART;TZID=America/Chicago:20240403T120000
DTEND;TZID=America/Chicago:20240403T130000
DTSTAMP:20260425T085159
CREATED:20240110T140547Z
LAST-MODIFIED:20240424T154644Z
UID:55063-1712145600-1712149200@mecop.stagingthedigitalscratch.com
SUMMARY:MUSM Rural Healthcare Ethics ECHO Program
DESCRIPTION:With Concentrated community outreach education efforts in Rural Georgia on organ donation and using like educators in the African American community will increase the willingness for African Americans to register their decision to become organ\, eye and tissue donors.
URL:https://mecop.stagingthedigitalscratch.com/event/musm-rural-healthcare-ethics-echo-program-5/
LOCATION:Live
CATEGORIES:AMA
END:VEVENT
BEGIN:VEVENT
DTSTART;TZID=America/Chicago:20240402T120000
DTEND;TZID=America/Chicago:20240402T130000
DTSTAMP:20260425T085159
CREATED:20240226T191339Z
LAST-MODIFIED:20240527T205434Z
UID:55994-1712059200-1712062800@mecop.stagingthedigitalscratch.com
SUMMARY:MUSM Clinical Faculty Development Series
DESCRIPTION:Introducing the Mercer medical students and faculty to Immersive Virtual Medicine\nExplaining VR\, AR\, MR and MXR\, Medical Extended Reality\nThe growth of Immersive Technology in Hospitals and Medical Schools\nAn Overview of Immersive Technology in Medicine\, including:\nMedical Education\nBrain Surgery\nNeuropathic Rehab\nPain Management\nAddiction\nAnxiety and Depression\nPalliative Care\nPediatric Care
URL:https://mecop.stagingthedigitalscratch.com/event/musm-clinical-faculty-development-series-23/
LOCATION:Live
CATEGORIES:AMA
END:VEVENT
BEGIN:VEVENT
DTSTART;TZID=America/Chicago:20240330T000000
DTEND;TZID=America/Chicago:20240330T000000
DTSTAMP:20260425T085159
CREATED:20240402T173514Z
LAST-MODIFIED:20240509T152230Z
UID:56399-1711756800-1711756800@mecop.stagingthedigitalscratch.com
SUMMARY:KAMAP Introduction to Dermal Fillers
DESCRIPTION:Explain the mechanism of action of hyaluronic acid dermal fillers.\nIdentify safe prescribing practices of hyaluronic acid dermal fillers\nDemonstrate safe administration of hyaluronic acid dermal fillers\nAnticipate the risk of side effects\, adverse events\, and complications of administration of hyaluronic acid dermal fillers.\nOutline possible side effects of hyaluronic acid dermal fillers.\nUnderstand management of emergent complications of hyaluronic acid dermal fillers.
URL:https://mecop.stagingthedigitalscratch.com/event/kamap-introduction-to-dermal-fillers/
LOCATION:Kentucky
CATEGORIES:AMA
END:VEVENT
BEGIN:VEVENT
DTSTART;TZID=America/Chicago:20240330T000000
DTEND;TZID=America/Chicago:20240330T000000
DTSTAMP:20260425T085159
CREATED:20240402T173338Z
LAST-MODIFIED:20240509T152303Z
UID:56396-1711756800-1711756800@mecop.stagingthedigitalscratch.com
SUMMARY:KAMAP Introduction to Neuromodulators
DESCRIPTION:Explain the mechanism of action of neuromodulators.\nIdentify safe prescribing practices of neuromodulators.\nDemonstrate safe administration of neuromodulators.\nAnticipate the risk of side effects\, adverse events\, and complications of administration of neuromodulators.\nOutline possible side effects of neuromodulator administration.
URL:https://mecop.stagingthedigitalscratch.com/event/kamap-introduction-to-neuromodulators-2/
LOCATION:Kentucky
CATEGORIES:AMA
END:VEVENT
BEGIN:VEVENT
DTSTART;TZID=America/Chicago:20240329T000000
DTEND;TZID=America/Chicago:20240329T000000
DTSTAMP:20260425T085159
CREATED:20240403T222713Z
LAST-MODIFIED:20240611T132424Z
UID:56438-1711670400-1711670400@mecop.stagingthedigitalscratch.com
SUMMARY:Diabetes Preventing Microvascular Complications ACT
DESCRIPTION:See content.
URL:https://mecop.stagingthedigitalscratch.com/event/diabetes-preventing-microvascular-complications-act-3/
LOCATION:Internet Enduring Material
CATEGORIES:AMA
END:VEVENT
BEGIN:VEVENT
DTSTART;TZID=America/Chicago:20240329T000000
DTEND;TZID=America/Chicago:20240329T000000
DTSTAMP:20260425T085159
CREATED:20240403T222222Z
LAST-MODIFIED:20240907T164318Z
UID:56434-1711670400-1711670400@mecop.stagingthedigitalscratch.com
SUMMARY:Heart Failure ACT
DESCRIPTION:See content.
URL:https://mecop.stagingthedigitalscratch.com/event/heart-failure-act-3/
LOCATION:Internet Enduring Material
CATEGORIES:AMA
END:VEVENT
BEGIN:VEVENT
DTSTART;TZID=America/Chicago:20240328T000000
DTEND;TZID=America/Chicago:20240328T000000
DTSTAMP:20260425T085159
CREATED:20240422T145928Z
LAST-MODIFIED:20240724T181628Z
UID:56617-1711584000-1711584000@mecop.stagingthedigitalscratch.com
SUMMARY:NFO Business of Medicine Web Series: Documentation Tips to Avoid Medical Necessity Denials
DESCRIPTION:This webinar will discuss the disconnect between what a physician considers the standard of care\, the payer’s payment policies\, and potential professional liability issues. At the conclusion of this program\, participants should be able to: 1. Define medical necessity. 2. Understand the components of an order. 3. Discuss the difference between payer policy and “good medicine”.
URL:https://mecop.stagingthedigitalscratch.com/event/nfo-business-of-medicine-web-series-documentation-tips-to-avoid-medical-necessity-denials/
LOCATION:Internet Live Webcast
CATEGORIES:AMA
END:VEVENT
BEGIN:VEVENT
DTSTART;TZID=America/Chicago:20240327T173000
DTEND;TZID=America/Chicago:20240327T193000
DTSTAMP:20260425T085159
CREATED:20240327T213133Z
LAST-MODIFIED:20240809T171604Z
UID:56358-1711560600-1711567800@mecop.stagingthedigitalscratch.com
SUMMARY:FSU-Pensacola
DESCRIPTION:Update faculty on clerkship and student performance \nReview Match results for students in Surgery \nDiscuss mentoring and advising skill enhancement
URL:https://mecop.stagingthedigitalscratch.com/event/surgery-education-director-meeting/
LOCATION:FSU College of Medicine\, Pensacola Regional Campus\, 11000 University Pkwy Bldg 234 Conference Room\, Pensacola\, FL\, 32514\, United States
CATEGORIES:AMA
END:VEVENT
BEGIN:VEVENT
DTSTART;TZID=America/Chicago:20240327T080000
DTEND;TZID=America/Chicago:20240327T170000
DTSTAMP:20260425T085159
CREATED:20240730T140443Z
LAST-MODIFIED:20240730T140443Z
UID:57800-1711526400-1711558800@mecop.stagingthedigitalscratch.com
SUMMARY:General Adult Tumor Board 2024
DESCRIPTION:Unavailable
URL:https://mecop.stagingthedigitalscratch.com/event/general-adult-tumor-board-2024-16/
LOCATION:Ascension Sacred Heart Hospital\, FL
CATEGORIES:AMA
END:VEVENT
BEGIN:VEVENT
DTSTART;TZID=America/Chicago:20240326T000000
DTEND;TZID=America/Chicago:20240326T000000
DTSTAMP:20260425T085159
CREATED:20240326T153726Z
LAST-MODIFIED:20240326T154147Z
UID:56343-1711411200-1711411200@mecop.stagingthedigitalscratch.com
SUMMARY:Risk Adjustment and A Tale of Two Kidneys
DESCRIPTION:Review CMS-HCC risk adjustment model and why it is important\nReview specific official ICD-10-CM coding guidelines and how they are applied for HCC diagnosis coding\nIdentify elements of the medical record that help support the validation of an HCC diagnosis condition\nIdentify documentation deficiencies for specific conditions
URL:https://mecop.stagingthedigitalscratch.com/event/risk-adjustment-and-a-tale-of-two-kidneys-2/
LOCATION:Internet Live Webcast
CATEGORIES:AMA
END:VEVENT
BEGIN:VEVENT
DTSTART;TZID=America/Chicago:20240323T080000
DTEND;TZID=America/Chicago:20240323T170000
DTSTAMP:20260425T085159
CREATED:20240325T120220Z
LAST-MODIFIED:20240402T001116Z
UID:56317-1711180800-1711213200@mecop.stagingthedigitalscratch.com
SUMMARY:ECMS Super Saturday CME Conference
DESCRIPTION:
URL:https://mecop.stagingthedigitalscratch.com/event/ecms-super-saturday-cme-conference-3/
LOCATION:Pensacola\, Florida\, Pensacola\, FL\, 32514\, United States
CATEGORIES:AMA,DV
END:VEVENT
BEGIN:VEVENT
DTSTART;TZID=America/Chicago:20240323T080000
DTEND;TZID=America/Chicago:20240323T170000
DTSTAMP:20260425T085159
CREATED:20240325T115841Z
LAST-MODIFIED:20250203T171907Z
UID:56315-1711180800-1711213200@mecop.stagingthedigitalscratch.com
SUMMARY:ECMS Super Saturday CME Conference
DESCRIPTION:
URL:https://mecop.stagingthedigitalscratch.com/event/ecms-super-saturday-cme-conference-2/
LOCATION:Pensacola\, Florida\, Pensacola\, FL\, 32514\, United States
CATEGORIES:AMA,MedErrors
END:VEVENT
BEGIN:VEVENT
DTSTART;TZID=America/Chicago:20240323T080000
DTEND;TZID=America/Chicago:20240323T170000
DTSTAMP:20260425T085159
CREATED:20240325T115156Z
LAST-MODIFIED:20240402T001219Z
UID:56313-1711180800-1711213200@mecop.stagingthedigitalscratch.com
SUMMARY:ECMS Super Saturday CME Conference
DESCRIPTION:
URL:https://mecop.stagingthedigitalscratch.com/event/ecms-super-saturday-cme-conference/
LOCATION:Pensacola\, Florida\, Pensacola\, FL\, 32514\, United States
CATEGORIES:AMA,Prescribing of Controlled Substances
END:VEVENT
BEGIN:VEVENT
DTSTART;TZID=America/Chicago:20240322T080000
DTEND;TZID=America/Chicago:20240322T170000
DTSTAMP:20260425T085159
CREATED:20240827T185818Z
LAST-MODIFIED:20240827T185947Z
UID:58154-1711094400-1711126800@mecop.stagingthedigitalscratch.com
SUMMARY:2024 Faculty Teaching Credits OBGYN Advanced Clerkship
DESCRIPTION:Unavailable
URL:https://mecop.stagingthedigitalscratch.com/event/2024-faculty-teaching-credits-obgyn-advanced-clerkship/
LOCATION:Pensacola Regional Campus\, 11000 University Parkway Bldg 234\, 2nd Floor\, Pensacola\, FL\, 32514-5750\, United States
CATEGORIES:AMA
END:VEVENT
BEGIN:VEVENT
DTSTART;TZID=America/Chicago:20240322T080000
DTEND;TZID=America/Chicago:20240322T170000
DTSTAMP:20260425T085159
CREATED:20240822T132227Z
LAST-MODIFIED:20241126T195747Z
UID:58071-1711094400-1711126800@mecop.stagingthedigitalscratch.com
SUMMARY:2024 Faculty Teaching Credits Psychiatry Clerkship
DESCRIPTION:Unavailable
URL:https://mecop.stagingthedigitalscratch.com/event/2024-faculty-teaching-credits-psychiatry-clerkship-2/
LOCATION:Tallahassee Regional Campus\, Tallahassee\, FL\, United States
CATEGORIES:AMA
END:VEVENT
BEGIN:VEVENT
DTSTART;TZID=America/Chicago:20240322T080000
DTEND;TZID=America/Chicago:20240322T170000
DTSTAMP:20260425T085159
CREATED:20240712T143512Z
LAST-MODIFIED:20241201T220615Z
UID:57582-1711094400-1711126800@mecop.stagingthedigitalscratch.com
SUMMARY:2024 Faculty Teaching Credits Internal Medicine/Hospitalist Clerkship
DESCRIPTION:Unavailable
URL:https://mecop.stagingthedigitalscratch.com/event/2024-faculty-teaching-credits-internal-medicine-hospitalist-clerkship/
LOCATION:Daytona Beach Regional Campus\, 1200 W International Speedway\, Daytona Beach\, FL\, 32114\, United States
CATEGORIES:AMA
END:VEVENT
BEGIN:VEVENT
DTSTART;TZID=America/Chicago:20240322T080000
DTEND;TZID=America/Chicago:20240322T170000
DTSTAMP:20260425T085159
CREATED:20240604T194821Z
LAST-MODIFIED:20240604T195609Z
UID:57157-1711094400-1711126800@mecop.stagingthedigitalscratch.com
SUMMARY:2024 Faculty Teaching Credits Medical Intensive Care Unit Clerkship
DESCRIPTION:Unavailable
URL:https://mecop.stagingthedigitalscratch.com/event/2024-faculty-teaching-credits-medical-intensive-care-unit-clerkship/
LOCATION:Orlando Regional Campus\, Orlando\, FL\, United States
CATEGORIES:AMA
END:VEVENT
BEGIN:VEVENT
DTSTART;TZID=America/Chicago:20240322T080000
DTEND;TZID=America/Chicago:20240322T170000
DTSTAMP:20260425T085159
CREATED:20240604T194117Z
LAST-MODIFIED:20241124T200545Z
UID:57155-1711094400-1711126800@mecop.stagingthedigitalscratch.com
SUMMARY:2024 Faculty Teaching Credits Anesthesiology Clerkship
DESCRIPTION:Unavailable
URL:https://mecop.stagingthedigitalscratch.com/event/2024-faculty-teaching-credits-anesthesiology-clerkship-2/
LOCATION:Orlando Regional Campus\, Orlando\, FL\, United States
CATEGORIES:AMA
END:VEVENT
BEGIN:VEVENT
DTSTART;TZID=America/Chicago:20240322T080000
DTEND;TZID=America/Chicago:20240322T170000
DTSTAMP:20260425T085159
CREATED:20240528T202602Z
LAST-MODIFIED:20241204T182429Z
UID:57108-1711094400-1711126800@mecop.stagingthedigitalscratch.com
SUMMARY:2024 Faculty Teaching Credits Neurology Clerkship
DESCRIPTION:Unavailable
URL:https://mecop.stagingthedigitalscratch.com/event/2024-faculty-teaching-credits-neurology-clerkship-2/
LOCATION:Pensacola Regional Campus\, 11000 University Parkway Bldg 234\, 2nd Floor\, Pensacola\, FL\, 32514-5750\, United States
CATEGORIES:AMA
END:VEVENT
BEGIN:VEVENT
DTSTART;TZID=America/Chicago:20240322T080000
DTEND;TZID=America/Chicago:20240322T170000
DTSTAMP:20260425T085159
CREATED:20240521T152227Z
LAST-MODIFIED:20240521T152336Z
UID:57026-1711094400-1711126800@mecop.stagingthedigitalscratch.com
SUMMARY:2024 Faculty Teaching Credits Adult and Pediatric Allergy Clerkship
DESCRIPTION:Unavailable
URL:https://mecop.stagingthedigitalscratch.com/event/2024-faculty-teaching-credits-adult-and-pediatric-allergy-clerkship/
LOCATION:Orlando Regional Campus\, Orlando\, FL\, United States
CATEGORIES:AMA
END:VEVENT
BEGIN:VEVENT
DTSTART;TZID=America/Chicago:20240322T080000
DTEND;TZID=America/Chicago:20240322T170000
DTSTAMP:20260425T085159
CREATED:20240521T150118Z
LAST-MODIFIED:20240521T150118Z
UID:57023-1711094400-1711126800@mecop.stagingthedigitalscratch.com
SUMMARY:2024 Faculty Teaching Credits Special Topics in Emergency Medicine
DESCRIPTION:Unavailable
URL:https://mecop.stagingthedigitalscratch.com/event/2024-faculty-teaching-credits-special-topics-in-emergency-medicine/
LOCATION:Orlando Regional Campus\, Orlando\, FL\, United States
CATEGORIES:AMA
END:VEVENT
BEGIN:VEVENT
DTSTART;TZID=America/Chicago:20240322T080000
DTEND;TZID=America/Chicago:20240322T170000
DTSTAMP:20260425T085159
CREATED:20240520T135642Z
LAST-MODIFIED:20241205T095332Z
UID:57007-1711094400-1711126800@mecop.stagingthedigitalscratch.com
SUMMARY:2024 Faculty Teaching Credits Dermatology Clerkship
DESCRIPTION:Unavailable
URL:https://mecop.stagingthedigitalscratch.com/event/2024-dermatology-teaching-credits-gutierrez-03-22-2024-dermatology-clerkship/
LOCATION:Orlando Regional Campus\, Orlando\, FL\, United States
CATEGORIES:AMA
END:VEVENT
BEGIN:VEVENT
DTSTART;TZID=America/Chicago:20240322T080000
DTEND;TZID=America/Chicago:20240322T170000
DTSTAMP:20260425T085159
CREATED:20240510T135817Z
LAST-MODIFIED:20240510T135817Z
UID:56916-1711094400-1711126800@mecop.stagingthedigitalscratch.com
SUMMARY:2024 Faculty Teaching Credits Palliative Care Clerkship
DESCRIPTION:Unavailable
URL:https://mecop.stagingthedigitalscratch.com/event/2024-faculty-teaching-credits-palliative-care-clerkship/
LOCATION:Orlando Regional Campus\, Orlando\, FL\, United States
CATEGORIES:AMA
END:VEVENT
BEGIN:VEVENT
DTSTART;TZID=America/Chicago:20240322T080000
DTEND;TZID=America/Chicago:20240322T170000
DTSTAMP:20260425T085159
CREATED:20240409T144504Z
LAST-MODIFIED:20241028T142508Z
UID:56507-1711094400-1711126800@mecop.stagingthedigitalscratch.com
SUMMARY:2024 Faculty Teaching Credits Women's Health
DESCRIPTION:Unavailable
URL:https://mecop.stagingthedigitalscratch.com/event/2024-faculty-teaching-credits-womens-health/
LOCATION:Fort Pierce Regional Campus\, 1200 W International Speedway Blvd #101\, Daytona Beach\, FL\, 32114\, United States
CATEGORIES:AMA
END:VEVENT
END:VCALENDAR