BEGIN:VCALENDAR
VERSION:2.0
PRODID:-//Mecop - ECPv6.5.1.5//NONSGML v1.0//EN
CALSCALE:GREGORIAN
METHOD:PUBLISH
X-WR-CALNAME:Mecop
X-ORIGINAL-URL:https://mecop.stagingthedigitalscratch.com
X-WR-CALDESC:Events for Mecop
REFRESH-INTERVAL;VALUE=DURATION:PT1H
X-Robots-Tag:noindex
X-PUBLISHED-TTL:PT1H
BEGIN:VTIMEZONE
TZID:America/Chicago
BEGIN:DAYLIGHT
TZOFFSETFROM:-0600
TZOFFSETTO:-0500
TZNAME:CDT
DTSTART:20240310T080000
END:DAYLIGHT
BEGIN:STANDARD
TZOFFSETFROM:-0500
TZOFFSETTO:-0600
TZNAME:CST
DTSTART:20241103T070000
END:STANDARD
END:VTIMEZONE
BEGIN:VEVENT
DTSTART;TZID=America/Chicago:20240420T000000
DTEND;TZID=America/Chicago:20240420T000000
DTSTAMP:20260425T070511
CREATED:20240508T141446Z
LAST-MODIFIED:20240907T164013Z
UID:56864-1713571200-1713571200@mecop.stagingthedigitalscratch.com
SUMMARY:COPD ACT
DESCRIPTION:See Document
URL:https://mecop.stagingthedigitalscratch.com/event/copd-act-3/
LOCATION:Enduring Material
CATEGORIES:AMA
END:VEVENT
BEGIN:VEVENT
DTSTART;TZID=America/Chicago:20240419T140000
DTEND;TZID=America/Chicago:20240419T180000
DTSTAMP:20260425T070511
CREATED:20240429T162816Z
LAST-MODIFIED:20240619T184122Z
UID:56779-1713535200-1713549600@mecop.stagingthedigitalscratch.com
SUMMARY:KAMAP 2024 Annual Summit: Cadaver Lab
DESCRIPTION:
URL:https://mecop.stagingthedigitalscratch.com/event/kamap-2024-annual-summit-cadaver-lab-2/
LOCATION:Kentucky
CATEGORIES:AMA
END:VEVENT
BEGIN:VEVENT
DTSTART;TZID=America/Chicago:20240419T090000
DTEND;TZID=America/Chicago:20240419T130000
DTSTAMP:20260425T070511
CREATED:20240429T162343Z
LAST-MODIFIED:20240501T142013Z
UID:56775-1713517200-1713531600@mecop.stagingthedigitalscratch.com
SUMMARY:KAMAP 2024 Annual Summit: Cadaver Lab
DESCRIPTION:
URL:https://mecop.stagingthedigitalscratch.com/event/kamap-2024-annual-summit-cadaver-lab/
LOCATION:Kentucky
CATEGORIES:AMA
END:VEVENT
BEGIN:VEVENT
DTSTART;TZID=America/Chicago:20240418T121500
DTEND;TZID=America/Chicago:20240418T131500
DTSTAMP:20260425T070511
CREATED:20240115T203953Z
LAST-MODIFIED:20240430T203145Z
UID:55246-1713442500-1713446100@mecop.stagingthedigitalscratch.com
SUMMARY:MUSM Project ECHO Series
DESCRIPTION:
URL:https://mecop.stagingthedigitalscratch.com/event/musm-project-echo-series-4/
LOCATION:Live
CATEGORIES:AMA
END:VEVENT
BEGIN:VEVENT
DTSTART;TZID=America/Chicago:20240418T080000
DTEND;TZID=America/Chicago:20240418T170000
DTSTAMP:20260425T070511
CREATED:20240520T171215Z
LAST-MODIFIED:20240520T171231Z
UID:57015-1713427200-1713459600@mecop.stagingthedigitalscratch.com
SUMMARY:NFO Business of Medicine Web Series: How to Maximize Accounts Receivable
DESCRIPTION:In this webinar\, we will share proven processes\, strategies and easy to implement actions that medical practices can take to maximize their revenue and minimize patient balances. \nAt the conclusion of this program\, participants should be able to: 1. Identify two techniques to help patients understand the implications of their annual deductible. 2. Understand the importance of reviewing accounts receivable reports at least every 30 days. 3. Understand how to identify the appropriate documents or change in workflow that can positively impact collections.
URL:https://mecop.stagingthedigitalscratch.com/event/nfo-business-of-medicine-web-series-how-to-maximize-accounts-receivable/
LOCATION:Internet Live Webcast
CATEGORIES:AMA
END:VEVENT
BEGIN:VEVENT
DTSTART;TZID=America/Chicago:20240418T080000
DTEND;TZID=America/Chicago:20240418T170000
DTSTAMP:20260425T070511
CREATED:20240418T205426Z
LAST-MODIFIED:20240418T205706Z
UID:56588-1713427200-1713459600@mecop.stagingthedigitalscratch.com
SUMMARY:Question of the Week
DESCRIPTION:Unavailable
URL:https://mecop.stagingthedigitalscratch.com/event/question-of-the-week-9/
LOCATION:Enduring Material
CATEGORIES:AMA
END:VEVENT
BEGIN:VEVENT
DTSTART;TZID=America/Chicago:20240418T000000
DTEND;TZID=America/Chicago:20240418T000000
DTSTAMP:20260425T070511
CREATED:20240508T141851Z
LAST-MODIFIED:20240907T165012Z
UID:56870-1713398400-1713398400@mecop.stagingthedigitalscratch.com
SUMMARY:Management of Obesity in Children ACT
DESCRIPTION:See Document
URL:https://mecop.stagingthedigitalscratch.com/event/management-of-obesity-in-children-act-3/
LOCATION:Enduring Material
CATEGORIES:AMA
END:VEVENT
BEGIN:VEVENT
DTSTART;TZID=America/Chicago:20240417T180000
DTEND;TZID=America/Chicago:20240417T200000
DTSTAMP:20260425T070511
CREATED:20240403T140857Z
LAST-MODIFIED:20240528T173531Z
UID:56414-1713376800-1713384000@mecop.stagingthedigitalscratch.com
SUMMARY:FSU-Sarasota
DESCRIPTION:– Be able to discuss and be aware of new changes to the 3rd and 4th year Syllabi.\n– Review with importance of rotation evaluations and mid-clerkship feedback\n– Discuss any issues with student feedback.\n– Review the FM experience with PA students and discuss any issues.\n– Identify FM resources for students and faculty in the FSU medical library.\n– Identify any issues or need for FM faculty recruitment at the different campuses.\n– Open discussion will be the opportunity for faculty to voice their concerns or issues and see how those are being handled at different campuses in an attempt to resolve them.
URL:https://mecop.stagingthedigitalscratch.com/event/fsu-sarasota-131/
LOCATION:Sarasota Regional Campus\, 5560 Bee Ridge Rd\, Sarasota\, FL\, 34233\, United States
CATEGORIES:AMA
END:VEVENT
BEGIN:VEVENT
DTSTART;TZID=America/Chicago:20240417T120000
DTEND;TZID=America/Chicago:20240417T130000
DTSTAMP:20260425T070511
CREATED:20240110T140750Z
LAST-MODIFIED:20240424T160336Z
UID:55065-1713355200-1713358800@mecop.stagingthedigitalscratch.com
SUMMARY:MUSM Rural Healthcare Ethics ECHO Program
DESCRIPTION:Educational background on the genesis of recent federal legislation that is significantly changing the oversight of the organ donation and transplant field\, analysis of the potential effect of these changes on stakeholders\, and how stakeholders are working to adapt to the new legislation.
URL:https://mecop.stagingthedigitalscratch.com/event/musm-rural-healthcare-ethics-echo-program-6/
LOCATION:Live
CATEGORIES:AMA
END:VEVENT
BEGIN:VEVENT
DTSTART;TZID=America/Chicago:20240417T080000
DTEND;TZID=America/Chicago:20240417T170000
DTSTAMP:20260425T070511
CREATED:20240607T161803Z
LAST-MODIFIED:20240607T162038Z
UID:57180-1713340800-1713373200@mecop.stagingthedigitalscratch.com
SUMMARY:2024 PREP ICU\, Apr
DESCRIPTION:Unavailable
URL:https://mecop.stagingthedigitalscratch.com/event/2024-prep-icu-apr/
LOCATION:Enduring Material
CATEGORIES:AMA
END:VEVENT
BEGIN:VEVENT
DTSTART;TZID=America/Chicago:20240417T080000
DTEND;TZID=America/Chicago:20240417T170000
DTSTAMP:20260425T070511
CREATED:20240401T140542Z
LAST-MODIFIED:20240422T160447Z
UID:56364-1713340800-1713373200@mecop.stagingthedigitalscratch.com
SUMMARY:Better Health Group Monthly Town Hall Meeting
DESCRIPTION:
URL:https://mecop.stagingthedigitalscratch.com/event/better-health-group-monthly-town-hall-meeting/
LOCATION:Live
CATEGORIES:AMA
END:VEVENT
BEGIN:VEVENT
DTSTART;TZID=America/Chicago:20240416T080000
DTEND;TZID=America/Chicago:20240416T170000
DTSTAMP:20260425T070511
CREATED:20240426T131415Z
LAST-MODIFIED:20240614T140225Z
UID:56760-1713254400-1713286800@mecop.stagingthedigitalscratch.com
SUMMARY:CMS Monthly Provider Meeting
DESCRIPTION:Discuss appropriate way to document EKGs and how to perform and document Telehealth exams. Discuss the new 42CFR\, Part 8 federal regulation changes and how that will impact how we delivery addiction care to patients.
URL:https://mecop.stagingthedigitalscratch.com/event/cms-provider-meeting/
LOCATION:Internet Live Webcast
CATEGORIES:AMA
END:VEVENT
BEGIN:VEVENT
DTSTART;TZID=America/Chicago:20240416T080000
DTEND;TZID=America/Chicago:20240416T170000
DTSTAMP:20260425T070511
CREATED:20240417T151835Z
LAST-MODIFIED:20240426T154613Z
UID:56568-1713254400-1713286800@mecop.stagingthedigitalscratch.com
SUMMARY:Risk Adjustment and Diabetes with Complications
DESCRIPTION:Review CMS-HCC risk adjustment model and why it is important\nReview specific official ICD-10-CM coding guidelines and how they are applied for HCC diagnosis coding\nIdentify elements of the medical record that help support the validation of an HCC diagnosis condition\nIdentify documentation deficiencies for specific conditions
URL:https://mecop.stagingthedigitalscratch.com/event/risk-adjustment-and-diabetes/
LOCATION:Live Webinar
CATEGORIES:AMA
END:VEVENT
BEGIN:VEVENT
DTSTART;TZID=America/Chicago:20240416T080000
DTEND;TZID=America/Chicago:20240416T170000
DTSTAMP:20260425T070511
CREATED:20240319T200605Z
LAST-MODIFIED:20240416T194300Z
UID:56274-1713254400-1713286800@mecop.stagingthedigitalscratch.com
SUMMARY:South Baldwin Tumor Board
DESCRIPTION:1. Review patient cases and all necessary findings (pathology\, radiology\, surgery\, etc.) and discuss key\nfindings to determine course of treatment.\n2. Discuss implications amongst multidisciplinary team members\, and review best practices\, current\nevidence-based findings\, etc.\n3. Assign treatment protocols based on consensus of the multidisciplinary team.
URL:https://mecop.stagingthedigitalscratch.com/event/south-baldwin-tumor-board-30/
LOCATION:Baldwin Health
CATEGORIES:AMA
END:VEVENT
BEGIN:VEVENT
DTSTART;TZID=America/Chicago:20240412T100000
DTEND;TZID=America/Chicago:20240412T161500
DTSTAMP:20260425T070511
CREATED:20240408T152819Z
LAST-MODIFIED:20240415T144715Z
UID:56486-1712916000-1712938500@mecop.stagingthedigitalscratch.com
SUMMARY:FSU Stanford Clinical Faculty Program-Mini-Retreat
DESCRIPTION:Enhance participants’ versatility as teachers\nEnhance their ability to analyze clinical teaching using an educational framework\nProvide a forum for collegial exchange
URL:https://mecop.stagingthedigitalscratch.com/event/fsu-stanford-clinical-faculty-program-mini-retreat/
LOCATION:Cape Coral\, Florida
CATEGORIES:AMA
END:VEVENT
BEGIN:VEVENT
DTSTART;TZID=America/Chicago:20240412T080000
DTEND;TZID=America/Chicago:20240412T170000
DTSTAMP:20260425T070511
CREATED:20240412T200418Z
LAST-MODIFIED:20240416T170128Z
UID:56529-1712908800-1712941200@mecop.stagingthedigitalscratch.com
SUMMARY:Risk Adjustment and Diabetes with Complications
DESCRIPTION:Review CMS-HCC risk adjustment model and why it is important\nReview specific official ICD-10-CM coding guidelines and how they are applied for HCC diagnosis coding\nIdentify elements of the medical record that help support the validation of an HCC diagnosis condition\nIdentify documentation deficiencies for specific conditions
URL:https://mecop.stagingthedigitalscratch.com/event/risk-adjustment-and-diabetes-with-complications-6/
LOCATION:Live Webinar
CATEGORIES:AMA
END:VEVENT
BEGIN:VEVENT
DTSTART;TZID=America/Chicago:20240411T180000
DTEND;TZID=America/Chicago:20240411T200000
DTSTAMP:20260425T070511
CREATED:20240410T203723Z
LAST-MODIFIED:20240417T122227Z
UID:56515-1712858400-1712865600@mecop.stagingthedigitalscratch.com
SUMMARY:FSU-Sarasota
DESCRIPTION:1. Access Dyna Medex and Isabel Pro on the medical library website and mobile devices\n2. Describe clinical content featured in DynaMedex\n3. Locate and evaluate clinical evidence and drug information within DynaMedex\n4. Perform a differential diagnosis with Isabel Pro\n5. Demonstrate how to use DynaMed Decisions in shared decisions making\n6. Explore how to use DynaMedex and Isabel Pro in clinical teaching with MD/PA students
URL:https://mecop.stagingthedigitalscratch.com/event/fsu-sarasota-132/
LOCATION:Zoom
CATEGORIES:AMA
END:VEVENT
BEGIN:VEVENT
DTSTART;TZID=America/Chicago:20240411T080000
DTEND;TZID=America/Chicago:20240411T170000
DTSTAMP:20260425T070511
CREATED:20240422T185018Z
LAST-MODIFIED:20240422T190122Z
UID:56639-1712822400-1712854800@mecop.stagingthedigitalscratch.com
SUMMARY:FSU-Daytona Beach
DESCRIPTION:• Be able to discuss and be aware of new changes to the 3rd and 4th year Syllabi.\n• Review the importance of rotation evaluations and mid-clerkship feedback\n• Discuss any issues with student feedback.\n• Review the FM experience with PA students and discuss any issues.\n• Identify FM resources for students and faculty in the FSU medical library.\n• Identify any issues or need for FM faculty recruitment at the different campuses.
URL:https://mecop.stagingthedigitalscratch.com/event/fsu-daytona-beach-44/
LOCATION:Daytona Beach Regional Campus\, 1200 W International Speedway\, Daytona Beach\, FL\, 32114\, United States
CATEGORIES:AMA
END:VEVENT
BEGIN:VEVENT
DTSTART;TZID=America/Chicago:20240411T080000
DTEND;TZID=America/Chicago:20240411T170000
DTSTAMP:20260425T070511
CREATED:20240412T132622Z
LAST-MODIFIED:20240801T183740Z
UID:56523-1712822400-1712854800@mecop.stagingthedigitalscratch.com
SUMMARY:Risk Adjustment and Diabetes with Complications
DESCRIPTION:Review CMS-HCC risk adjustment model and why it is important\nReview specific official ICD-10-CM coding guidelines and how they are applied for HCC diagnosis coding\nIdentify elements of the medical record that help support the validation of an HCC diagnosis condition\nIdentify documentation deficiencies for specific conditions
URL:https://mecop.stagingthedigitalscratch.com/event/risk-adjustment-and-diabetes-with-complications-5/
LOCATION:Live Webinar
CATEGORIES:AMA
END:VEVENT
BEGIN:VEVENT
DTSTART;TZID=America/Chicago:20240410T180000
DTEND;TZID=America/Chicago:20240410T200000
DTSTAMP:20260425T070511
CREATED:20240320T123448Z
LAST-MODIFIED:20240417T190434Z
UID:56278-1712772000-1712779200@mecop.stagingthedigitalscratch.com
SUMMARY:FSU-Ft. Pierce
DESCRIPTION:– Be able to discuss and be aware of new changes to the 3rd and 4th year Syllabi.\n– Review the importance of rotation evaluations and mid-clerkship feedback\n– Discuss any issues with the new end of rotations evaluations.\n– Review the FM experience with PA students and discuss any issues.\n– Identify new FSU resources for clinical faculty.\n– Identify any issues or need for FM faculty recruitment at the different campuses.\n– Open discussion will be the opportunity for faculty to voice their concerns or issues and see how those are being handled at different campuses in an attempt to resolve them.
URL:https://mecop.stagingthedigitalscratch.com/event/fsu-ft-pierce-191/
LOCATION:Fort Pierce Regional Campus\, 1200 W International Speedway Blvd #101\, Daytona Beach\, FL\, 32114\, United States
CATEGORIES:AMA
END:VEVENT
BEGIN:VEVENT
DTSTART;TZID=America/Chicago:20240410T080000
DTEND;TZID=America/Chicago:20240410T170000
DTSTAMP:20260425T070511
CREATED:20240730T140202Z
LAST-MODIFIED:20240730T140202Z
UID:57798-1712736000-1712768400@mecop.stagingthedigitalscratch.com
SUMMARY:General Adult Tumor Board 2024
DESCRIPTION:Unavailable
URL:https://mecop.stagingthedigitalscratch.com/event/general-adult-tumor-board-2024-15/
LOCATION:Ascension Sacred Heart Hospital\, FL
CATEGORIES:AMA
END:VEVENT
BEGIN:VEVENT
DTSTART;TZID=America/Chicago:20240410T080000
DTEND;TZID=America/Chicago:20240410T170000
DTSTAMP:20260425T070511
CREATED:20240715T184215Z
LAST-MODIFIED:20240715T184215Z
UID:57617-1712736000-1712768400@mecop.stagingthedigitalscratch.com
SUMMARY:MUSM Pediatric Advancement Speakers' Series
DESCRIPTION:Learn common facts about childhood cancer and recognize early red flags of its presentation.\nIdentify common signs and symptoms of pediatric cancer at initial presentation.\nDescribe the appropriate initial workup for a patient suspected to have cancer.\nRelate real-life cases of cancer presentation to your future patients that may present similarly.
URL:https://mecop.stagingthedigitalscratch.com/event/musm-pediatric-advancement-speakers-series-12/
LOCATION:Online CME
CATEGORIES:AMA
END:VEVENT
BEGIN:VEVENT
DTSTART;TZID=America/Chicago:20240410T080000
DTEND;TZID=America/Chicago:20240410T170000
DTSTAMP:20260425T070511
CREATED:20240412T135611Z
LAST-MODIFIED:20240412T135611Z
UID:56527-1712736000-1712768400@mecop.stagingthedigitalscratch.com
SUMMARY:General Adult Tumor Board 2024
DESCRIPTION:Unavailable
URL:https://mecop.stagingthedigitalscratch.com/event/general-adult-tumor-board-2024-6/
LOCATION:Ascension Sacred Heart Hospital\, FL
CATEGORIES:AMA
END:VEVENT
BEGIN:VEVENT
DTSTART;TZID=America/Chicago:20240410T080000
DTEND;TZID=America/Chicago:20240410T170000
DTSTAMP:20260425T070511
CREATED:20240122T201805Z
LAST-MODIFIED:20240410T214208Z
UID:55417-1712736000-1712768400@mecop.stagingthedigitalscratch.com
SUMMARY:MUSM Pediatric Advancement Speakers' Series
DESCRIPTION:Learn common facts about childhood cancer and recognize early red flags of its presentation.\nIdentify common signs and symptoms of pediatric cancer at initial presentation.\nDescribe the appropriate initial workup for a patient suspected to have cancer.\nRelate real-life cases of cancer presentation to your future patients that may present similarly.
URL:https://mecop.stagingthedigitalscratch.com/event/musm-pediatric-grand-rounds-6/
LOCATION:Live Webinar
CATEGORIES:AMA
END:VEVENT
BEGIN:VEVENT
DTSTART;TZID=America/Chicago:20240409T120000
DTEND;TZID=America/Chicago:20240409T130000
DTSTAMP:20260425T070511
CREATED:20240223T181127Z
LAST-MODIFIED:20240529T174338Z
UID:55945-1712664000-1712667600@mecop.stagingthedigitalscratch.com
SUMMARY:MUSM Clinical Faculty Development Series
DESCRIPTION:What is postpartum depression?\nPrevalence\nRisk factors\nPathophysiology of postpartum depression\nAdverse outcomes\nPostpartum depression in men\nScreening\nTreatment options
URL:https://mecop.stagingthedigitalscratch.com/event/musm-clinical-faculty-development-series-18/
LOCATION:Live
CATEGORIES:AMA
END:VEVENT
BEGIN:VEVENT
DTSTART;TZID=America/Chicago:20240406T080000
DTEND;TZID=America/Chicago:20240406T170000
DTSTAMP:20260425T070511
CREATED:20240607T163105Z
LAST-MODIFIED:20240607T163210Z
UID:57190-1712390400-1712422800@mecop.stagingthedigitalscratch.com
SUMMARY:2024 PREP ICU\, Mar
DESCRIPTION:Unavailable
URL:https://mecop.stagingthedigitalscratch.com/event/2024-prep-icu-mar/
LOCATION:Enduring Material
CATEGORIES:AMA
END:VEVENT
BEGIN:VEVENT
DTSTART;TZID=America/Chicago:20240405T080000
DTEND;TZID=America/Chicago:20240405T170000
DTSTAMP:20260425T070511
CREATED:20240509T185023Z
LAST-MODIFIED:20240509T185023Z
UID:56897-1712304000-1712336400@mecop.stagingthedigitalscratch.com
SUMMARY:2024 Faculty Teaching Credits Special Topics in Pediatrics
DESCRIPTION:Unavailable
URL:https://mecop.stagingthedigitalscratch.com/event/2024-faculty-teaching-credits-special-topics-in-pediatrics/
LOCATION:Orlando Regional Campus\, Orlando\, FL\, United States
CATEGORIES:AMA
END:VEVENT
BEGIN:VEVENT
DTSTART;TZID=America/Chicago:20240404T180000
DTEND;TZID=America/Chicago:20240404T200000
DTSTAMP:20260425T070511
CREATED:20240418T164703Z
LAST-MODIFIED:20240418T170240Z
UID:56572-1712253600-1712260800@mecop.stagingthedigitalscratch.com
SUMMARY:FSU-Orlando
DESCRIPTION:Be able to discuss and be aware of new changes to the 3rd and 4th year Syllabi. \nReview with importance of rotation evaluations and mid-clerkship feedback \nDiscuss any issues with student feedback. \nReview the FM experience with PA students and discuss any issues. \nIdentify FM resources for students and faculty in the FSU medical library. \nIdentify any issues or need for FM faculty recruitment at the different campuses. \nOpen discussion will be the opportunity for faculty to voice their concerns or issues and see how those are being handled at different campuses in an attempt to resolve them.
URL:https://mecop.stagingthedigitalscratch.com/event/fsu-orlando-130/
LOCATION:Zoom
CATEGORIES:AMA
END:VEVENT
BEGIN:VEVENT
DTSTART;TZID=America/Chicago:20240404T080000
DTEND;TZID=America/Chicago:20240404T170000
DTSTAMP:20260425T070511
CREATED:20240410T132715Z
LAST-MODIFIED:20240415T134756Z
UID:56511-1712217600-1712250000@mecop.stagingthedigitalscratch.com
SUMMARY:FSU-Tallahassee
DESCRIPTION:Access and navigate FSU’s medical library web site\nFind an E-Book or E-Journal\nUse a drug and decision support resource\nFind a patient education handout\nFind mobile resources\nIdentify pathways to get help with using the medical library
URL:https://mecop.stagingthedigitalscratch.com/event/fsu-tallahassee-166/
LOCATION:Zoom
CATEGORIES:AMA
END:VEVENT
BEGIN:VEVENT
DTSTART;TZID=America/Chicago:20240403T120000
DTEND;TZID=America/Chicago:20240403T130000
DTSTAMP:20260425T070511
CREATED:20240321T135834Z
LAST-MODIFIED:20240404T153325Z
UID:56289-1712145600-1712149200@mecop.stagingthedigitalscratch.com
SUMMARY:MUSM Clinical Faculty Development Series
DESCRIPTION:To give an understanding of stress and its causes\nTo give an understanding of mindfulness and how it can be used to reduce stress\nTo offer some practice methods to reduce stress.
URL:https://mecop.stagingthedigitalscratch.com/event/musm-clinical-faculty-development-series-24/
LOCATION:Live
CATEGORIES:AMA
END:VEVENT
END:VCALENDAR