BEGIN:VCALENDAR
VERSION:2.0
PRODID:-//Mecop - ECPv6.5.1.5//NONSGML v1.0//EN
CALSCALE:GREGORIAN
METHOD:PUBLISH
X-WR-CALNAME:Mecop
X-ORIGINAL-URL:https://mecop.stagingthedigitalscratch.com
X-WR-CALDESC:Events for Mecop
REFRESH-INTERVAL;VALUE=DURATION:PT1H
X-Robots-Tag:noindex
X-PUBLISHED-TTL:PT1H
BEGIN:VTIMEZONE
TZID:America/Chicago
BEGIN:DAYLIGHT
TZOFFSETFROM:-0600
TZOFFSETTO:-0500
TZNAME:CDT
DTSTART:20240310T080000
END:DAYLIGHT
BEGIN:STANDARD
TZOFFSETFROM:-0500
TZOFFSETTO:-0600
TZNAME:CST
DTSTART:20241103T070000
END:STANDARD
END:VTIMEZONE
BEGIN:VEVENT
DTSTART;TZID=America/Chicago:20240503T080000
DTEND;TZID=America/Chicago:20240503T170000
DTSTAMP:20260425T194652
CREATED:20240808T134917Z
LAST-MODIFIED:20250110T150329Z
UID:57939-1714723200-1714755600@mecop.stagingthedigitalscratch.com
SUMMARY:2024 Faculty Teaching Credits Clinical Foundations
DESCRIPTION:Unavailable
URL:https://mecop.stagingthedigitalscratch.com/event/2024-faculty-teaching-credits-clinical-foundations/
LOCATION:Tallahassee Regional Campus\, Tallahassee\, FL\, United States
CATEGORIES:AMA
END:VEVENT
BEGIN:VEVENT
DTSTART;TZID=America/Chicago:20240503T080000
DTEND;TZID=America/Chicago:20240503T170000
DTSTAMP:20260425T194652
CREATED:20240716T180821Z
LAST-MODIFIED:20241210T144904Z
UID:57640-1714723200-1714755600@mecop.stagingthedigitalscratch.com
SUMMARY:2024 Faculty Teaching Credits Family Medicine/Longitudinal Clerkship
DESCRIPTION:Unavailable
URL:https://mecop.stagingthedigitalscratch.com/event/2024-faculty-teaching-credits-family-medicine-longitudinal-clerkship/
LOCATION:Pensacola Regional Campus\, 11000 University Parkway Bldg 234\, 2nd Floor\, Pensacola\, FL\, 32514-5750\, United States
CATEGORIES:AMA
END:VEVENT
BEGIN:VEVENT
DTSTART;TZID=America/Chicago:20240503T080000
DTEND;TZID=America/Chicago:20240503T170000
DTSTAMP:20260425T194652
CREATED:20240703T190648Z
LAST-MODIFIED:20240703T190648Z
UID:57511-1714723200-1714755600@mecop.stagingthedigitalscratch.com
SUMMARY:2024 Faculty Teaching Credits Pediatric Endocrinology Clerkship
DESCRIPTION:Unavailable
URL:https://mecop.stagingthedigitalscratch.com/event/2024-faculty-teaching-credits-pediatric-endocrinology-clerkship/
LOCATION:Tallahassee Regional Campus\, Tallahassee\, FL\, United States
CATEGORIES:AMA
END:VEVENT
BEGIN:VEVENT
DTSTART;TZID=America/Chicago:20240503T080000
DTEND;TZID=America/Chicago:20240503T170000
DTSTAMP:20260425T194652
CREATED:20240529T201108Z
LAST-MODIFIED:20241206T123522Z
UID:57123-1714723200-1714755600@mecop.stagingthedigitalscratch.com
SUMMARY:2024 Faculty Teaching Credits Cardiology Clerkship
DESCRIPTION:Unavailable
URL:https://mecop.stagingthedigitalscratch.com/event/2024-faculty-teaching-credits-cardiology-clerkship-2/
LOCATION:Tallahassee Regional Campus\, Tallahassee\, FL\, United States
CATEGORIES:AMA
END:VEVENT
BEGIN:VEVENT
DTSTART;TZID=America/Chicago:20240503T080000
DTEND;TZID=America/Chicago:20240503T170000
DTSTAMP:20260425T194652
CREATED:20240508T210224Z
LAST-MODIFIED:20241209T130901Z
UID:56880-1714723200-1714755600@mecop.stagingthedigitalscratch.com
SUMMARY:2024 Faculty Teaching Credits Psychiatry Clerkship
DESCRIPTION:Unavailable
URL:https://mecop.stagingthedigitalscratch.com/event/2024-faculty-teaching-credits-psychiatry-clerkship/
LOCATION:Pensacola Regional Campus\, 11000 University Parkway Bldg 234\, 2nd Floor\, Pensacola\, FL\, 32514-5750\, United States
CATEGORIES:AMA
END:VEVENT
BEGIN:VEVENT
DTSTART;TZID=America/Chicago:20240503T080000
DTEND;TZID=America/Chicago:20240503T170000
DTSTAMP:20260425T194652
CREATED:20240507T174541Z
LAST-MODIFIED:20241210T193106Z
UID:56840-1714723200-1714755600@mecop.stagingthedigitalscratch.com
SUMMARY:2024 Faculty Teaching Credits Internal Medicine Clerkship
DESCRIPTION:Unavailable
URL:https://mecop.stagingthedigitalscratch.com/event/2024-faculty-teaching-credits-internal-medicine-clerkship-2/
LOCATION:Sarasota Regional Campus\, 5560 Bee Ridge Rd\, Sarasota\, FL\, 34233\, United States
CATEGORIES:AMA
END:VEVENT
BEGIN:VEVENT
DTSTART;TZID=America/Chicago:20240503T080000
DTEND;TZID=America/Chicago:20240503T170000
DTSTAMP:20260425T194652
CREATED:20240503T114410Z
LAST-MODIFIED:20250509T193820Z
UID:56815-1714723200-1714755600@mecop.stagingthedigitalscratch.com
SUMMARY:2024 Faculty Teaching Credits Pediatrics Clerkship
DESCRIPTION:Unavailable
URL:https://mecop.stagingthedigitalscratch.com/event/2024-faculty-teaching-credits-pediatrics-clerkship-2/
LOCATION:Pensacola Regional Campus\, 11000 University Parkway Bldg 234\, 2nd Floor\, Pensacola\, FL\, 32514-5750\, United States
CATEGORIES:AMA
END:VEVENT
BEGIN:VEVENT
DTSTART;TZID=America/Chicago:20240501T080000
DTEND;TZID=America/Chicago:20240501T170000
DTSTAMP:20260425T194652
CREATED:20240801T135335Z
LAST-MODIFIED:20240801T135729Z
UID:57827-1714550400-1714582800@mecop.stagingthedigitalscratch.com
SUMMARY:Primary Conjunctival Basal Cell Carcinoma:
DESCRIPTION:Unavailable
URL:https://mecop.stagingthedigitalscratch.com/event/primary-conjunctival-basal-cell-carcinoma/
LOCATION:Enduring Activity
CATEGORIES:AMA
END:VEVENT
BEGIN:VEVENT
DTSTART;TZID=America/Chicago:20240501T080000
DTEND;TZID=America/Chicago:20240501T170000
DTSTAMP:20260425T194652
CREATED:20240730T135905Z
LAST-MODIFIED:20240730T135905Z
UID:57796-1714550400-1714582800@mecop.stagingthedigitalscratch.com
SUMMARY:General Adult Tumor Board 2024
DESCRIPTION:Unavailable
URL:https://mecop.stagingthedigitalscratch.com/event/general-adult-tumor-board-2024-14/
LOCATION:Ascension Sacred Heart Hospital\, FL
CATEGORIES:AMA
END:VEVENT
BEGIN:VEVENT
DTSTART;TZID=America/Chicago:20240501T080000
DTEND;TZID=America/Chicago:20240501T170000
DTSTAMP:20260425T194652
CREATED:20240620T184919Z
LAST-MODIFIED:20240620T184919Z
UID:57350-1714550400-1714582800@mecop.stagingthedigitalscratch.com
SUMMARY:2024 Faculty Teaching Credits Plastic Surgery/Doctoring 3
DESCRIPTION:Unavailable
URL:https://mecop.stagingthedigitalscratch.com/event/2024-faculty-teaching-credits-plastic-surgery-doctoring-3/
LOCATION:Daytona Beach Regional Campus\, 1200 W International Speedway\, Daytona Beach\, FL\, 32114\, United States
CATEGORIES:AMA
END:VEVENT
BEGIN:VEVENT
DTSTART;TZID=America/Chicago:20240501T080000
DTEND;TZID=America/Chicago:20240501T170000
DTSTAMP:20260425T194652
CREATED:20240502T141039Z
LAST-MODIFIED:20240526T212637Z
UID:56812-1714550400-1714582800@mecop.stagingthedigitalscratch.com
SUMMARY:FSU Fundamentals of Teaching in the FSU COM Clinical Education Program I Module
DESCRIPTION:Unavailable
URL:https://mecop.stagingthedigitalscratch.com/event/fsu-fundamentals-of-teaching-in-the-fsu-com-clinical-program-i-module/
LOCATION:Enduring Material
CATEGORIES:AMA
END:VEVENT
BEGIN:VEVENT
DTSTART;TZID=America/Chicago:20240430T080000
DTEND;TZID=America/Chicago:20240430T170000
DTSTAMP:20260425T194652
CREATED:20240430T163953Z
LAST-MODIFIED:20240430T164123Z
UID:56792-1714464000-1714496400@mecop.stagingthedigitalscratch.com
SUMMARY:2024 Maintenance of Certification (MOC) Program
DESCRIPTION:Unavailable
URL:https://mecop.stagingthedigitalscratch.com/event/2024-maintenance-of-certification-moc-program/
LOCATION:Enduring Material
CATEGORIES:AMA
END:VEVENT
BEGIN:VEVENT
DTSTART;TZID=America/Chicago:20240427T090000
DTEND;TZID=America/Chicago:20240427T173000
DTSTAMP:20260425T194652
CREATED:20240301T132112Z
LAST-MODIFIED:20240506T175015Z
UID:56053-1714208400-1714239000@mecop.stagingthedigitalscratch.com
SUMMARY:Sickle Cell Disease: Back to Basics
DESCRIPTION:Discuss\, analyze\, and demonstrate the value and use of the Elucidation Model while providing an update on the progress of the education project.\nIntroduce and review the five-year Strategic Plan for the Sickle Cell Workshop\n\n3. Discuss the relationship between sickle cell disease and mental health.
URL:https://mecop.stagingthedigitalscratch.com/event/sickle-cell-disease-back-to-basics/
LOCATION:Hotel Duval\, 415 N Monroe Street\, Tallahassee\, Florida\, 32301
CATEGORIES:AMA
END:VEVENT
BEGIN:VEVENT
DTSTART;TZID=America/Chicago:20240427T080000
DTEND;TZID=America/Chicago:20240427T170000
DTSTAMP:20260425T194652
CREATED:20241210T181053Z
LAST-MODIFIED:20241210T181340Z
UID:60065-1714204800-1714237200@mecop.stagingthedigitalscratch.com
SUMMARY:OEIS 11th Annual Scientific Meeting
DESCRIPTION:Unavailable
URL:https://mecop.stagingthedigitalscratch.com/event/oeis-11th-annual-scientific-meeting/
LOCATION:Las Vegas\, Nevada\, Las Vegas\, NV\, 89109\, United States
CATEGORIES:AMA
END:VEVENT
BEGIN:VEVENT
DTSTART;TZID=America/Chicago:20240425T173000
DTEND;TZID=America/Chicago:20240425T193000
DTSTAMP:20260425T194652
CREATED:20240416T141607Z
LAST-MODIFIED:20240513T145424Z
UID:56551-1714066200-1714073400@mecop.stagingthedigitalscratch.com
SUMMARY:FSU-Pensacola
DESCRIPTION:• Be able to discuss and be aware of new changes to the 3rd and 4th year Syllabi.\n• Review the importance of rotation evaluations and mid-clerkship feedback\n• Discuss any issues with student feedback.\n• Review the FM experience with PA students and discuss any issues.\n• Identify FM resources for students and faculty in the FSU medical library.\n• Identify any issues or need for FM faculty recruitment at the different campuses.
URL:https://mecop.stagingthedigitalscratch.com/event/family-medicine-education-director-meeting-2/
LOCATION:Pensacola Regional Campus\, 11000 University Parkway Bldg 234\, 2nd Floor\, Pensacola\, FL\, 32514-5750\, United States
CATEGORIES:AMA
END:VEVENT
BEGIN:VEVENT
DTSTART;TZID=America/Chicago:20240425T080000
DTEND;TZID=America/Chicago:20240425T170000
DTSTAMP:20260425T194652
CREATED:20240429T143808Z
LAST-MODIFIED:20240502T140058Z
UID:56771-1714032000-1714064400@mecop.stagingthedigitalscratch.com
SUMMARY:SMG 2024 Annual Provider Risk Adjustment Documentation and Coding Training
DESCRIPTION:Review Hierarchical Condition Category (HCC) Value Based Risk Adjustment model(s) and why it is important \nStronger understanding of the medical coding guidelines and regulations\, including compliance and the impact of diagnosis coding \nMindfulness to the auditing process for Center for Medicare and Medicaid Services (CMS) – HCC risk adjustment models and documenting and reporting chronic conditions yearly \nAwareness of “other” HCC Risk Models (Commercial\, Medicaid (TENNCARE)) \nRealize the importance of a Risk Adjustment auditing process \nQuality Updates \nCare Coordination Services
URL:https://mecop.stagingthedigitalscratch.com/event/smg-2024-annual-provider-risk-adjustment-documentation-and-coding-training-3/
LOCATION:Live Webinar
CATEGORIES:AMA
END:VEVENT
BEGIN:VEVENT
DTSTART;TZID=America/Chicago:20240425T000000
DTEND;TZID=America/Chicago:20240425T000000
DTSTAMP:20260425T194652
CREATED:20240506T160040Z
LAST-MODIFIED:20240907T200127Z
UID:56822-1714003200-1714003200@mecop.stagingthedigitalscratch.com
SUMMARY:PEEP Risk Adjustment and CKD
DESCRIPTION:See file
URL:https://mecop.stagingthedigitalscratch.com/event/peep-risk-adjustment-and-ckd/
LOCATION:Internet Enduring Material
CATEGORIES:AMA
END:VEVENT
BEGIN:VEVENT
DTSTART;TZID=America/Chicago:20240424T080000
DTEND;TZID=America/Chicago:20240424T170000
DTSTAMP:20260425T194652
CREATED:20240520T165054Z
LAST-MODIFIED:20250324T143233Z
UID:57012-1713945600-1713978000@mecop.stagingthedigitalscratch.com
SUMMARY:Summit Medical Grand Rounds: Advances in Prostate Cancer Screening and Early Detection
DESCRIPTION:OUTLINE advances in prostate cancer screening. \nDISCUSS the importance of early detection. \nOUTLINE best practices for screening and early detection and treatment.
URL:https://mecop.stagingthedigitalscratch.com/event/summit-medical-grand-rounds-4/
LOCATION:Knoxville\, TN
CATEGORIES:AMA
END:VEVENT
BEGIN:VEVENT
DTSTART;TZID=America/Chicago:20240424T080000
DTEND;TZID=America/Chicago:20240424T170000
DTSTAMP:20260425T194652
CREATED:20240424T125933Z
LAST-MODIFIED:20240424T125933Z
UID:56668-1713945600-1713978000@mecop.stagingthedigitalscratch.com
SUMMARY:General Adult Tumor Board 2024
DESCRIPTION:Unavailable
URL:https://mecop.stagingthedigitalscratch.com/event/general-adult-tumor-board-2024-7/
LOCATION:Ascension Sacred Heart Hospital\, FL
CATEGORIES:AMA
END:VEVENT
BEGIN:VEVENT
DTSTART;TZID=America/Chicago:20240423T080000
DTEND;TZID=America/Chicago:20240423T170000
DTSTAMP:20260425T194652
CREATED:20240423T152140Z
LAST-MODIFIED:20240426T215934Z
UID:56654-1713859200-1713891600@mecop.stagingthedigitalscratch.com
SUMMARY:Risk Adjustment and Diabetes Complications
DESCRIPTION:Review CMS-HCC risk adjustment model and why it is important\nReview specific official ICD-10-CM coding guidelines and how they are applied for HCC diagnosis coding\nIdentify elements of the medical record that help support the validation of an HCC diagnosis condition\nIdentify documentation deficiencies for specific conditions
URL:https://mecop.stagingthedigitalscratch.com/event/risk-adjustment-and-diabetes-complications-5/
LOCATION:Live Webinar
CATEGORIES:AMA
END:VEVENT
BEGIN:VEVENT
DTSTART;TZID=America/Chicago:20240422T080000
DTEND;TZID=America/Chicago:20240422T170000
DTSTAMP:20260425T194652
CREATED:20240423T124351Z
LAST-MODIFIED:20241211T191117Z
UID:56647-1713772800-1713805200@mecop.stagingthedigitalscratch.com
SUMMARY:2024 Faculty Teaching Credits Doctoring 3
DESCRIPTION:Unavailable
URL:https://mecop.stagingthedigitalscratch.com/event/2024-faculty-teaching-credits-doctoring-3/
LOCATION:Fort Pierce Regional Campus\, 1200 W International Speedway Blvd #101\, Daytona Beach\, FL\, 32114\, United States
CATEGORIES:AMA
END:VEVENT
BEGIN:VEVENT
DTSTART;TZID=America/Chicago:20240421T080000
DTEND;TZID=America/Chicago:20240421T170000
DTSTAMP:20260425T194652
CREATED:20240521T200700Z
LAST-MODIFIED:20240521T200922Z
UID:57037-1713686400-1713718800@mecop.stagingthedigitalscratch.com
SUMMARY:Clerkship Period 10
DESCRIPTION:Unavailable
URL:https://mecop.stagingthedigitalscratch.com/event/clerkship-period-10/
LOCATION:Preceptor
CATEGORIES:AMA
END:VEVENT
BEGIN:VEVENT
DTSTART;TZID=America/Chicago:20240420T080000
DTEND;TZID=America/Chicago:20240421T170000
DTSTAMP:20260425T194652
CREATED:20240423T155805Z
LAST-MODIFIED:20240925T143915Z
UID:56656-1713600000-1713718800@mecop.stagingthedigitalscratch.com
SUMMARY:Biostimulators with Injector Coach Institute
DESCRIPTION:Objectives\nIdentify which aesthetic products qualify as biostimulators. \nIdentify mechanism of action of different biostimulators. \nDemonstrate competency in reconsitituion and dilution of biostimulators\, depending on body area. \nDemonstrate appropriate technique for injection of biostimulators\, depending on body area. \nOutline the uses for biostimulatory agents in regenerative aesthetics and their role in the future of the industry.
URL:https://mecop.stagingthedigitalscratch.com/event/biostimulators-with-the-injector-coach/
LOCATION:Mind Body Soul Medical
CATEGORIES:AMA
END:VEVENT
BEGIN:VEVENT
DTSTART;TZID=America/Chicago:20240420T080000
DTEND;TZID=America/Chicago:20240420T170000
DTSTAMP:20260425T194652
CREATED:20240429T164035Z
LAST-MODIFIED:20241030T152749Z
UID:56781-1713600000-1713632400@mecop.stagingthedigitalscratch.com
SUMMARY:KAMAP 2024 Annual Summit
DESCRIPTION:Objectives per topic saved.
URL:https://mecop.stagingthedigitalscratch.com/event/kamap-2024-annual-summit/
LOCATION:Kentucky
CATEGORIES:AMA
END:VEVENT
BEGIN:VEVENT
DTSTART;TZID=America/Chicago:20240420T000000
DTEND;TZID=America/Chicago:20240420T000000
DTSTAMP:20260425T194652
CREATED:20240508T141446Z
LAST-MODIFIED:20240907T164013Z
UID:56864-1713571200-1713571200@mecop.stagingthedigitalscratch.com
SUMMARY:COPD ACT
DESCRIPTION:See Document
URL:https://mecop.stagingthedigitalscratch.com/event/copd-act-3/
LOCATION:Enduring Material
CATEGORIES:AMA
END:VEVENT
BEGIN:VEVENT
DTSTART;TZID=America/Chicago:20240419T140000
DTEND;TZID=America/Chicago:20240419T180000
DTSTAMP:20260425T194652
CREATED:20240429T162816Z
LAST-MODIFIED:20240619T184122Z
UID:56779-1713535200-1713549600@mecop.stagingthedigitalscratch.com
SUMMARY:KAMAP 2024 Annual Summit: Cadaver Lab
DESCRIPTION:
URL:https://mecop.stagingthedigitalscratch.com/event/kamap-2024-annual-summit-cadaver-lab-2/
LOCATION:Kentucky
CATEGORIES:AMA
END:VEVENT
BEGIN:VEVENT
DTSTART;TZID=America/Chicago:20240419T090000
DTEND;TZID=America/Chicago:20240419T130000
DTSTAMP:20260425T194652
CREATED:20240429T162343Z
LAST-MODIFIED:20240501T142013Z
UID:56775-1713517200-1713531600@mecop.stagingthedigitalscratch.com
SUMMARY:KAMAP 2024 Annual Summit: Cadaver Lab
DESCRIPTION:
URL:https://mecop.stagingthedigitalscratch.com/event/kamap-2024-annual-summit-cadaver-lab/
LOCATION:Kentucky
CATEGORIES:AMA
END:VEVENT
BEGIN:VEVENT
DTSTART;TZID=America/Chicago:20240418T121500
DTEND;TZID=America/Chicago:20240418T131500
DTSTAMP:20260425T194652
CREATED:20240115T203953Z
LAST-MODIFIED:20240430T203145Z
UID:55246-1713442500-1713446100@mecop.stagingthedigitalscratch.com
SUMMARY:MUSM Project ECHO Series
DESCRIPTION:
URL:https://mecop.stagingthedigitalscratch.com/event/musm-project-echo-series-4/
LOCATION:Live
CATEGORIES:AMA
END:VEVENT
BEGIN:VEVENT
DTSTART;TZID=America/Chicago:20240418T080000
DTEND;TZID=America/Chicago:20240418T170000
DTSTAMP:20260425T194652
CREATED:20240520T171215Z
LAST-MODIFIED:20240520T171231Z
UID:57015-1713427200-1713459600@mecop.stagingthedigitalscratch.com
SUMMARY:NFO Business of Medicine Web Series: How to Maximize Accounts Receivable
DESCRIPTION:In this webinar\, we will share proven processes\, strategies and easy to implement actions that medical practices can take to maximize their revenue and minimize patient balances. \nAt the conclusion of this program\, participants should be able to: 1. Identify two techniques to help patients understand the implications of their annual deductible. 2. Understand the importance of reviewing accounts receivable reports at least every 30 days. 3. Understand how to identify the appropriate documents or change in workflow that can positively impact collections.
URL:https://mecop.stagingthedigitalscratch.com/event/nfo-business-of-medicine-web-series-how-to-maximize-accounts-receivable/
LOCATION:Internet Live Webcast
CATEGORIES:AMA
END:VEVENT
BEGIN:VEVENT
DTSTART;TZID=America/Chicago:20240418T080000
DTEND;TZID=America/Chicago:20240418T170000
DTSTAMP:20260425T194652
CREATED:20240418T205426Z
LAST-MODIFIED:20240418T205706Z
UID:56588-1713427200-1713459600@mecop.stagingthedigitalscratch.com
SUMMARY:Question of the Week
DESCRIPTION:Unavailable
URL:https://mecop.stagingthedigitalscratch.com/event/question-of-the-week-9/
LOCATION:Enduring Material
CATEGORIES:AMA
END:VEVENT
END:VCALENDAR