BEGIN:VCALENDAR
VERSION:2.0
PRODID:-//Mecop - ECPv6.5.1.5//NONSGML v1.0//EN
CALSCALE:GREGORIAN
METHOD:PUBLISH
X-WR-CALNAME:Mecop
X-ORIGINAL-URL:https://mecop.stagingthedigitalscratch.com
X-WR-CALDESC:Events for Mecop
REFRESH-INTERVAL;VALUE=DURATION:PT1H
X-Robots-Tag:noindex
X-PUBLISHED-TTL:PT1H
BEGIN:VTIMEZONE
TZID:America/Chicago
BEGIN:DAYLIGHT
TZOFFSETFROM:-0600
TZOFFSETTO:-0500
TZNAME:CDT
DTSTART:20240310T080000
END:DAYLIGHT
BEGIN:STANDARD
TZOFFSETFROM:-0500
TZOFFSETTO:-0600
TZNAME:CST
DTSTART:20241103T070000
END:STANDARD
END:VTIMEZONE
BEGIN:VEVENT
DTSTART;TZID=America/Chicago:20240513T080000
DTEND;TZID=America/Chicago:20240513T170000
DTSTAMP:20260424T113914
CREATED:20250129T124323Z
LAST-MODIFIED:20250129T124629Z
UID:60963-1715587200-1715619600@mecop.stagingthedigitalscratch.com
SUMMARY:Skincare in Skin of Color:
DESCRIPTION:Unavailable
URL:https://mecop.stagingthedigitalscratch.com/event/skincare-in-skin-of-color/
LOCATION:Enduring Material
CATEGORIES:AMA
END:VEVENT
BEGIN:VEVENT
DTSTART;TZID=America/Chicago:20240513T080000
DTEND;TZID=America/Chicago:20240513T170000
DTSTAMP:20260424T113914
CREATED:20250129T123942Z
LAST-MODIFIED:20250129T124103Z
UID:60960-1715587200-1715619600@mecop.stagingthedigitalscratch.com
SUMMARY:Hot Topics in Thyroid Eye Disease
DESCRIPTION:Unavailable
URL:https://mecop.stagingthedigitalscratch.com/event/hot-topics-in-thyroid-eye-disease/
LOCATION:Enduring Material
CATEGORIES:AMA
END:VEVENT
BEGIN:VEVENT
DTSTART;TZID=America/Chicago:20240513T080000
DTEND;TZID=America/Chicago:20240513T170000
DTSTAMP:20260424T113914
CREATED:20250129T123525Z
LAST-MODIFIED:20250129T123626Z
UID:60957-1715587200-1715619600@mecop.stagingthedigitalscratch.com
SUMMARY:Enhancing the Treatment of High-Risk Non-Muscle-Invasive Bladder Cancer With Immunotherapy-Based Regimens
DESCRIPTION:Unavailable
URL:https://mecop.stagingthedigitalscratch.com/event/enhancing-the-treatment-of-high-risk-non-muscle-invasive-bladder-cancer-with-immunotherapy-based-regimens/
LOCATION:Enduring Material
CATEGORIES:AMA
END:VEVENT
BEGIN:VEVENT
DTSTART;TZID=America/Chicago:20240513T080000
DTEND;TZID=America/Chicago:20240513T170000
DTSTAMP:20260424T113914
CREATED:20250129T122952Z
LAST-MODIFIED:20250129T123053Z
UID:60954-1715587200-1715619600@mecop.stagingthedigitalscratch.com
SUMMARY:Advisory Committee on Immunization Practices Recommended Immunization Schedule for Adults Aged 19 Years or Older-United States\, 2024
DESCRIPTION:Unavailable
URL:https://mecop.stagingthedigitalscratch.com/event/advisory-committee-on-immunization-practices-recommended-immunization-schedule-for-adults-aged-19-years-or-older-united-states-2024/
LOCATION:Enduring Material
CATEGORIES:AMA
END:VEVENT
BEGIN:VEVENT
DTSTART;TZID=America/Chicago:20240513T080000
DTEND;TZID=America/Chicago:20240513T170000
DTSTAMP:20260424T113914
CREATED:20250127T193436Z
LAST-MODIFIED:20250127T193536Z
UID:60929-1715587200-1715619600@mecop.stagingthedigitalscratch.com
SUMMARY:A New Era in the Management of GERD
DESCRIPTION:Unavailable
URL:https://mecop.stagingthedigitalscratch.com/event/a-new-era-in-the-management-of-gerd/
LOCATION:Enduring Material
CATEGORIES:AMA
END:VEVENT
BEGIN:VEVENT
DTSTART;TZID=America/Chicago:20240513T080000
DTEND;TZID=America/Chicago:20240513T170000
DTSTAMP:20260424T113914
CREATED:20250127T192919Z
LAST-MODIFIED:20250127T193219Z
UID:60926-1715587200-1715619600@mecop.stagingthedigitalscratch.com
SUMMARY:Defining Moments:
DESCRIPTION:Unavailable
URL:https://mecop.stagingthedigitalscratch.com/event/defining-moments/
LOCATION:Enduring Material
CATEGORIES:AMA
END:VEVENT
BEGIN:VEVENT
DTSTART;TZID=America/Chicago:20240513T080000
DTEND;TZID=America/Chicago:20240513T170000
DTSTAMP:20260424T113914
CREATED:20250127T192505Z
LAST-MODIFIED:20250127T192645Z
UID:60923-1715587200-1715619600@mecop.stagingthedigitalscratch.com
SUMMARY:Postmenopausal Osteoporosis:
DESCRIPTION:Unavailable
URL:https://mecop.stagingthedigitalscratch.com/event/postmenopausal-osteoporosis/
LOCATION:Enduring Material
CATEGORIES:AMA
END:VEVENT
BEGIN:VEVENT
DTSTART;TZID=America/Chicago:20240513T080000
DTEND;TZID=America/Chicago:20240513T170000
DTSTAMP:20260424T113914
CREATED:20250127T192100Z
LAST-MODIFIED:20250127T192202Z
UID:60920-1715587200-1715619600@mecop.stagingthedigitalscratch.com
SUMMARY:Medscape Now! Hot Topics in Family Medicine April 2024 Part 2
DESCRIPTION:Unavailable
URL:https://mecop.stagingthedigitalscratch.com/event/medscape-now-hot-topics-in-family-medicine-april-2024-part-2/
LOCATION:Enduring Material
CATEGORIES:AMA
END:VEVENT
BEGIN:VEVENT
DTSTART;TZID=America/Chicago:20240513T080000
DTEND;TZID=America/Chicago:20240513T170000
DTSTAMP:20260424T113914
CREATED:20240611T130643Z
LAST-MODIFIED:20240907T163817Z
UID:57211-1715587200-1715619600@mecop.stagingthedigitalscratch.com
SUMMARY:Asthma (Children Aged 5 Years and Younger) ACT
DESCRIPTION:See content.
URL:https://mecop.stagingthedigitalscratch.com/event/asthma-children-aged-5-years-and-younger-act-3/
LOCATION:Internet Enduring Material
CATEGORIES:AMA
END:VEVENT
BEGIN:VEVENT
DTSTART;TZID=America/Chicago:20240511T080000
DTEND;TZID=America/Chicago:20240511T170000
DTSTAMP:20260424T113914
CREATED:20240611T134716Z
LAST-MODIFIED:20240907T165318Z
UID:57243-1715414400-1715446800@mecop.stagingthedigitalscratch.com
SUMMARY:Value-Based Prescribing ACT
DESCRIPTION:See content.
URL:https://mecop.stagingthedigitalscratch.com/event/value-based-prescribing-act-3/
LOCATION:Internet Enduring Material
CATEGORIES:AMA
END:VEVENT
BEGIN:VEVENT
DTSTART;TZID=America/Chicago:20240511T080000
DTEND;TZID=America/Chicago:20240511T170000
DTSTAMP:20260424T113914
CREATED:20240513T170700Z
LAST-MODIFIED:20240603T115137Z
UID:56933-1715414400-1715446800@mecop.stagingthedigitalscratch.com
SUMMARY:FSU Fundamentals of Teaching in the FSU COM Clinical Education Program II Module
DESCRIPTION:Unavailable
URL:https://mecop.stagingthedigitalscratch.com/event/fsu-fundamentals-of-teaching-in-the-fsu-com-clinical-education-program-ii-module-4/
LOCATION:Enduring Material
CATEGORIES:AMA
END:VEVENT
BEGIN:VEVENT
DTSTART;TZID=America/Chicago:20240510T080000
DTEND;TZID=America/Chicago:20240510T170000
DTSTAMP:20260424T113914
CREATED:20240521T160441Z
LAST-MODIFIED:20250513T012104Z
UID:57028-1715328000-1715360400@mecop.stagingthedigitalscratch.com
SUMMARY:Oubre Academy: The Practice Guide to Attending Documentation
DESCRIPTION:This enduring Internet activity takes a deep dive into closing gaps relating to clinical documentation.  Challenges addressed include the following: \nThere is little to no educational training on notes. \nNotes are lengthy\, time consuming and\, often\, inaccurate. \nEMR tools increase legal risk. \nThe objectives are to simplify notes in order to: \nImprove efficiency. \nReduce medical errors. \nEffectively bill for medical services.
URL:https://mecop.stagingthedigitalscratch.com/event/oubre-academy-the-practice-guide-to-attending-documentation/
LOCATION:Internet Enduring Material
CATEGORIES:AMA
END:VEVENT
BEGIN:VEVENT
DTSTART;TZID=America/Chicago:20240510T080000
DTEND;TZID=America/Chicago:20240510T170000
DTSTAMP:20260424T113914
CREATED:20240511T121737Z
LAST-MODIFIED:20240514T134840Z
UID:56922-1715328000-1715360400@mecop.stagingthedigitalscratch.com
SUMMARY:Risk Adjustment and Musculoskeletal Inflammatory Diseases
DESCRIPTION:Review CMS-HCC risk adjustment model and why it is important\nReview specific official ICD-10-CM coding guidelines and how they are applied for HCC diagnosis coding\nIdentify elements of the medical record that help support the validation of an HCC diagnosis condition\nIdentify documentation deficiencies for specific conditions
URL:https://mecop.stagingthedigitalscratch.com/event/risk-adjustment-and-musculoskeletal-inflammatory-diseases-2/
LOCATION:Live Webinar
CATEGORIES:AMA
END:VEVENT
BEGIN:VEVENT
DTSTART;TZID=America/Chicago:20240510T000000
DTEND;TZID=America/Chicago:20240510T000000
DTSTAMP:20260424T113914
CREATED:20240516T153713Z
LAST-MODIFIED:20240516T161833Z
UID:56969-1715299200-1715299200@mecop.stagingthedigitalscratch.com
SUMMARY:Method Aesthetics Academy: Level 1 Training
DESCRIPTION:Demonstrate competency in facial anatomy as it pertains to placement of botulinium toxin and filler. Demonstrate competence in neurotoxin and filler. Perform proper placement and injection of neurotoxin and filler for glabella\, frontalis and crow’s feet\, as well as cheeks\, lips and nasolabial folds.
URL:https://mecop.stagingthedigitalscratch.com/event/method-aesthetics-academy-level-1-training-6/
CATEGORIES:AMA
END:VEVENT
BEGIN:VEVENT
DTSTART;TZID=America/Chicago:20240509T080000
DTEND;TZID=America/Chicago:20240509T170000
DTSTAMP:20260424T113914
CREATED:20240614T140949Z
LAST-MODIFIED:20240904T140915Z
UID:57275-1715241600-1715274000@mecop.stagingthedigitalscratch.com
SUMMARY:Community Medical Services Provider Manual: Addiction Primer
DESCRIPTION:
URL:https://mecop.stagingthedigitalscratch.com/event/community-medical-services-provider-manual-addiction-primer/
LOCATION:Enduring Material
CATEGORIES:AMA
END:VEVENT
BEGIN:VEVENT
DTSTART;TZID=America/Chicago:20240509T080000
DTEND;TZID=America/Chicago:20240509T170000
DTSTAMP:20260424T113914
CREATED:20240510T150100Z
LAST-MODIFIED:20250226T230727Z
UID:56919-1715241600-1715274000@mecop.stagingthedigitalscratch.com
SUMMARY:Risk Adjustment and Musculoskeletal Inflammatory Diseases
DESCRIPTION:Review CMS-HCC risk adjustment model and why it is important\nReview specific official ICD-10-CM coding guidelines and how they are applied for HCC diagnosis coding\nIdentify elements of the medical record that help support the validation of an HCC diagnosis condition\nIdentify documentation deficiencies for specific conditions
URL:https://mecop.stagingthedigitalscratch.com/event/risk-adjustment-and-musculoskeletal-inflammatory-diseases/
LOCATION:Live Webinar
CATEGORIES:AMA
END:VEVENT
BEGIN:VEVENT
DTSTART;TZID=America/Chicago:20240508T080000
DTEND;TZID=America/Chicago:20240508T170000
DTSTAMP:20260424T113914
CREATED:20240509T173708Z
LAST-MODIFIED:20240509T173708Z
UID:56891-1715155200-1715187600@mecop.stagingthedigitalscratch.com
SUMMARY:General Adult Tumor Board 2024
DESCRIPTION:Unavailable
URL:https://mecop.stagingthedigitalscratch.com/event/general-adult-tumor-board-2024-8/
LOCATION:Ascension Sacred Heart Hospital\, FL
CATEGORIES:AMA
END:VEVENT
BEGIN:VEVENT
DTSTART;TZID=America/Chicago:20240507T174500
DTEND;TZID=America/Chicago:20240507T194500
DTSTAMP:20260424T113914
CREATED:20240401T180140Z
LAST-MODIFIED:20241031T125014Z
UID:56375-1715103900-1715111100@mecop.stagingthedigitalscratch.com
SUMMARY:FSU-Ft. Pierce
DESCRIPTION:1. Describe 3 features of the FSUCOM curriculum that you would include in a conversation with someone who was unfamiliar with the curriculum.\n2. Identify learning objectives you can help the FSUCOM student accomplish that are located in the syllabus specific to the required clerkship or elective rotation on which you teach.\n3. List the three characteristics/skills of effective clinical teachers that you feel are particularly/most important.\n4. List/describe one characteristic of effective teachers that you feel need to enhance and one characteristic/skill you feel is a strength at this time.\n5. Describe the wave model which is a teaching strategy designed to help make teaching in the ambulatory setting efficient.\n6. Describe how to provide an orientation at the beginning of a clerkship to a student arriving at your office or clinical setting.\n7. Describe the ARCH model for giving feedback to the student.
URL:https://mecop.stagingthedigitalscratch.com/event/fsu-ft-pierce-193/
LOCATION:Fort Pierce Regional Campus\, 1200 W International Speedway Blvd #101\, Daytona Beach\, FL\, 32114\, United States
CATEGORIES:AMA
END:VEVENT
BEGIN:VEVENT
DTSTART;TZID=America/Chicago:20240506T080000
DTEND;TZID=America/Chicago:20240506T170000
DTSTAMP:20260424T113914
CREATED:20240607T163422Z
LAST-MODIFIED:20240607T163522Z
UID:57193-1714982400-1715014800@mecop.stagingthedigitalscratch.com
SUMMARY:Managing Acute and Chronic Pain and Substance Use Disorders in Pediatrics Update
DESCRIPTION:Unavailable
URL:https://mecop.stagingthedigitalscratch.com/event/managing-acute-and-chronic-pain-and-substance-use-disorders-in-pediatrics-update/
LOCATION:Enduring Material
CATEGORIES:AMA
END:VEVENT
BEGIN:VEVENT
DTSTART;TZID=America/Chicago:20240506T080000
DTEND;TZID=America/Chicago:20240506T170000
DTSTAMP:20260424T113914
CREATED:20240507T201702Z
LAST-MODIFIED:20240507T202959Z
UID:56853-1714982400-1715014800@mecop.stagingthedigitalscratch.com
SUMMARY:FSU Fundamentals for Inspired FSUCOM Clinical Educators Module:
DESCRIPTION:Unavailable
URL:https://mecop.stagingthedigitalscratch.com/event/fsu-fundamentals-for-inspired-fsucom-clinical-educators-helping-you-and-your-students-prepare-for-leadership-module/
LOCATION:Enduring Material
CATEGORIES:AMA
END:VEVENT
BEGIN:VEVENT
DTSTART;TZID=America/Chicago:20240503T080000
DTEND;TZID=America/Chicago:20240503T170000
DTSTAMP:20260424T113914
CREATED:20241204T192052Z
LAST-MODIFIED:20241209T125136Z
UID:59863-1714723200-1714755600@mecop.stagingthedigitalscratch.com
SUMMARY:2024 Faculty Teaching Credits Family Medicine/Doctoring 3
DESCRIPTION:Unavailable
URL:https://mecop.stagingthedigitalscratch.com/event/2024-faculty-teaching-credits-family-medicine-doctoring-3/
LOCATION:Sarasota Regional Campus\, 5560 Bee Ridge Rd\, Sarasota\, FL\, 34233\, United States
CATEGORIES:AMA
END:VEVENT
BEGIN:VEVENT
DTSTART;TZID=America/Chicago:20240503T080000
DTEND;TZID=America/Chicago:20240503T170000
DTSTAMP:20260424T113914
CREATED:20241024T222618Z
LAST-MODIFIED:20241024T222618Z
UID:59034-1714723200-1714755600@mecop.stagingthedigitalscratch.com
SUMMARY:2024 Faculty Teaching Credits Internal Medicine/Pediatrics Clerkship
DESCRIPTION:Unavailable
URL:https://mecop.stagingthedigitalscratch.com/event/2024-faculty-teaching-credits-internal-medicine-pediatrics-clerkship/
LOCATION:Sarasota Regional Campus\, 5560 Bee Ridge Rd\, Sarasota\, FL\, 34233\, United States
CATEGORIES:AMA
END:VEVENT
BEGIN:VEVENT
DTSTART;TZID=America/Chicago:20240503T080000
DTEND;TZID=America/Chicago:20240503T170000
DTSTAMP:20260424T113914
CREATED:20241022T120246Z
LAST-MODIFIED:20241022T120246Z
UID:58984-1714723200-1714755600@mecop.stagingthedigitalscratch.com
SUMMARY:2024 Faculty Teaching Credits Pathology Clerkship
DESCRIPTION:Unavailable
URL:https://mecop.stagingthedigitalscratch.com/event/2024-faculty-teaching-credits-pathology-clerkship/
LOCATION:Tallahassee Regional Campus\, Tallahassee\, FL\, United States
CATEGORIES:AMA
END:VEVENT
BEGIN:VEVENT
DTSTART;TZID=America/Chicago:20240503T080000
DTEND;TZID=America/Chicago:20240503T170000
DTSTAMP:20260424T113914
CREATED:20240822T130836Z
LAST-MODIFIED:20241210T191718Z
UID:58064-1714723200-1714755600@mecop.stagingthedigitalscratch.com
SUMMARY:2024 Faculty Teaching Credits Family Medicine Clerkship
DESCRIPTION:Unavailable
URL:https://mecop.stagingthedigitalscratch.com/event/2024-faculty-teaching-credits-family-medicine-clerkship-3/
LOCATION:Tallahassee Regional Campus\, Tallahassee\, FL\, United States
CATEGORIES:AMA
END:VEVENT
BEGIN:VEVENT
DTSTART;TZID=America/Chicago:20240503T080000
DTEND;TZID=America/Chicago:20240503T170000
DTSTAMP:20260424T113914
CREATED:20240808T134917Z
LAST-MODIFIED:20250110T150329Z
UID:57939-1714723200-1714755600@mecop.stagingthedigitalscratch.com
SUMMARY:2024 Faculty Teaching Credits Clinical Foundations
DESCRIPTION:Unavailable
URL:https://mecop.stagingthedigitalscratch.com/event/2024-faculty-teaching-credits-clinical-foundations/
LOCATION:Tallahassee Regional Campus\, Tallahassee\, FL\, United States
CATEGORIES:AMA
END:VEVENT
BEGIN:VEVENT
DTSTART;TZID=America/Chicago:20240503T080000
DTEND;TZID=America/Chicago:20240503T170000
DTSTAMP:20260424T113914
CREATED:20240716T180821Z
LAST-MODIFIED:20241210T144904Z
UID:57640-1714723200-1714755600@mecop.stagingthedigitalscratch.com
SUMMARY:2024 Faculty Teaching Credits Family Medicine/Longitudinal Clerkship
DESCRIPTION:Unavailable
URL:https://mecop.stagingthedigitalscratch.com/event/2024-faculty-teaching-credits-family-medicine-longitudinal-clerkship/
LOCATION:Pensacola Regional Campus\, 11000 University Parkway Bldg 234\, 2nd Floor\, Pensacola\, FL\, 32514-5750\, United States
CATEGORIES:AMA
END:VEVENT
BEGIN:VEVENT
DTSTART;TZID=America/Chicago:20240503T080000
DTEND;TZID=America/Chicago:20240503T170000
DTSTAMP:20260424T113914
CREATED:20240703T190648Z
LAST-MODIFIED:20240703T190648Z
UID:57511-1714723200-1714755600@mecop.stagingthedigitalscratch.com
SUMMARY:2024 Faculty Teaching Credits Pediatric Endocrinology Clerkship
DESCRIPTION:Unavailable
URL:https://mecop.stagingthedigitalscratch.com/event/2024-faculty-teaching-credits-pediatric-endocrinology-clerkship/
LOCATION:Tallahassee Regional Campus\, Tallahassee\, FL\, United States
CATEGORIES:AMA
END:VEVENT
BEGIN:VEVENT
DTSTART;TZID=America/Chicago:20240503T080000
DTEND;TZID=America/Chicago:20240503T170000
DTSTAMP:20260424T113914
CREATED:20240529T201108Z
LAST-MODIFIED:20241206T123522Z
UID:57123-1714723200-1714755600@mecop.stagingthedigitalscratch.com
SUMMARY:2024 Faculty Teaching Credits Cardiology Clerkship
DESCRIPTION:Unavailable
URL:https://mecop.stagingthedigitalscratch.com/event/2024-faculty-teaching-credits-cardiology-clerkship-2/
LOCATION:Tallahassee Regional Campus\, Tallahassee\, FL\, United States
CATEGORIES:AMA
END:VEVENT
BEGIN:VEVENT
DTSTART;TZID=America/Chicago:20240503T080000
DTEND;TZID=America/Chicago:20240503T170000
DTSTAMP:20260424T113914
CREATED:20240508T210224Z
LAST-MODIFIED:20241209T130901Z
UID:56880-1714723200-1714755600@mecop.stagingthedigitalscratch.com
SUMMARY:2024 Faculty Teaching Credits Psychiatry Clerkship
DESCRIPTION:Unavailable
URL:https://mecop.stagingthedigitalscratch.com/event/2024-faculty-teaching-credits-psychiatry-clerkship/
LOCATION:Pensacola Regional Campus\, 11000 University Parkway Bldg 234\, 2nd Floor\, Pensacola\, FL\, 32514-5750\, United States
CATEGORIES:AMA
END:VEVENT
BEGIN:VEVENT
DTSTART;TZID=America/Chicago:20240503T080000
DTEND;TZID=America/Chicago:20240503T170000
DTSTAMP:20260424T113914
CREATED:20240507T174541Z
LAST-MODIFIED:20241210T193106Z
UID:56840-1714723200-1714755600@mecop.stagingthedigitalscratch.com
SUMMARY:2024 Faculty Teaching Credits Internal Medicine Clerkship
DESCRIPTION:Unavailable
URL:https://mecop.stagingthedigitalscratch.com/event/2024-faculty-teaching-credits-internal-medicine-clerkship-2/
LOCATION:Sarasota Regional Campus\, 5560 Bee Ridge Rd\, Sarasota\, FL\, 34233\, United States
CATEGORIES:AMA
END:VEVENT
END:VCALENDAR