BEGIN:VCALENDAR
VERSION:2.0
PRODID:-//Mecop - ECPv6.5.1.5//NONSGML v1.0//EN
CALSCALE:GREGORIAN
METHOD:PUBLISH
X-WR-CALNAME:Mecop
X-ORIGINAL-URL:https://mecop.stagingthedigitalscratch.com
X-WR-CALDESC:Events for Mecop
REFRESH-INTERVAL;VALUE=DURATION:PT1H
X-Robots-Tag:noindex
X-PUBLISHED-TTL:PT1H
BEGIN:VTIMEZONE
TZID:America/Chicago
BEGIN:DAYLIGHT
TZOFFSETFROM:-0600
TZOFFSETTO:-0500
TZNAME:CDT
DTSTART:20240310T080000
END:DAYLIGHT
BEGIN:STANDARD
TZOFFSETFROM:-0500
TZOFFSETTO:-0600
TZNAME:CST
DTSTART:20241103T070000
END:STANDARD
END:VTIMEZONE
BEGIN:VEVENT
DTSTART;TZID=America/Chicago:20240527T080000
DTEND;TZID=America/Chicago:20240527T170000
DTSTAMP:20260424T094356
CREATED:20240730T135348Z
LAST-MODIFIED:20240730T135545Z
UID:57792-1716796800-1716829200@mecop.stagingthedigitalscratch.com
SUMMARY:JNM CE/SAM (September 2023):
DESCRIPTION:Unavailable
URL:https://mecop.stagingthedigitalscratch.com/event/jnm-ce-sam-september-2023/
LOCATION:Enduring Material
CATEGORIES:AMA
END:VEVENT
BEGIN:VEVENT
DTSTART;TZID=America/Chicago:20240524T120000
DTEND;TZID=America/Chicago:20240524T130000
DTSTAMP:20260424T094356
CREATED:20240517T130227Z
LAST-MODIFIED:20240527T125057Z
UID:56986-1716552000-1716555600@mecop.stagingthedigitalscratch.com
SUMMARY:MUSM Clinical Faculty Development Series
DESCRIPTION:Identify the impact of suboptimal lifestyle on death and disease.\nSummarize the six pillars of Lifestyle Medicine (LM).\nCompare how Lifestyle Medicine is different from other traditional and non-traditional approaches to patient care.\nSummarize key studies supporting how Lifestyle Medicine prevents\, treats and reverses chronic disease/mortality.
URL:https://mecop.stagingthedigitalscratch.com/event/musm-clinical-faculty-development-series-13/
LOCATION:Live
CATEGORIES:AMA
END:VEVENT
BEGIN:VEVENT
DTSTART;TZID=America/Chicago:20240524T080000
DTEND;TZID=America/Chicago:20240524T170000
DTSTAMP:20260424T094356
CREATED:20241002T180638Z
LAST-MODIFIED:20241124T194054Z
UID:58542-1716537600-1716570000@mecop.stagingthedigitalscratch.com
SUMMARY:2024 Faculty Teaching Credits Advanced Clinical Foundations
DESCRIPTION:Unavailable
URL:https://mecop.stagingthedigitalscratch.com/event/2024-faculty-teaching-credits-advanced-clinical-foundations/
LOCATION:Tallahassee Regional Campus\, Tallahassee\, FL\, United States
CATEGORIES:AMA
END:VEVENT
BEGIN:VEVENT
DTSTART;TZID=America/Chicago:20240524T080000
DTEND;TZID=America/Chicago:20240524T170000
DTSTAMP:20260424T094356
CREATED:20240604T201102Z
LAST-MODIFIED:20250107T142144Z
UID:57164-1716537600-1716570000@mecop.stagingthedigitalscratch.com
SUMMARY:2024 Faculty Teaching Credits Summer Clinical Practicum
DESCRIPTION:Unavailable
URL:https://mecop.stagingthedigitalscratch.com/event/2024-faculty-teaching-credits-summer-clinical-practicum/
LOCATION:Orlando Regional Campus\, Orlando\, FL\, United States
CATEGORIES:AMA
END:VEVENT
BEGIN:VEVENT
DTSTART;TZID=America/Chicago:20240523T080000
DTEND;TZID=America/Chicago:20240523T170000
DTSTAMP:20260424T094356
CREATED:20241226T145044Z
LAST-MODIFIED:20241226T145049Z
UID:60308-1716451200-1716483600@mecop.stagingthedigitalscratch.com
SUMMARY:Chronic Non-Cancer Pain ACT
DESCRIPTION:See content.
URL:https://mecop.stagingthedigitalscratch.com/event/chronic-non-cancer-pain-act-2/
LOCATION:Internet Enduring Material
CATEGORIES:AMA
END:VEVENT
BEGIN:VEVENT
DTSTART;TZID=America/Chicago:20240522T080000
DTEND;TZID=America/Chicago:20240522T170000
DTSTAMP:20260424T094356
CREATED:20240522T133258Z
LAST-MODIFIED:20240522T133258Z
UID:57046-1716364800-1716397200@mecop.stagingthedigitalscratch.com
SUMMARY:General Adult Tumor Board 2024
DESCRIPTION:Unavailable
URL:https://mecop.stagingthedigitalscratch.com/event/general-adult-tumor-board-2024-9/
LOCATION:Ascension Sacred Heart Hospital\, FL
CATEGORIES:AMA
END:VEVENT
BEGIN:VEVENT
DTSTART;TZID=America/Chicago:20240521T080000
DTEND;TZID=America/Chicago:20240521T170000
DTSTAMP:20260424T094356
CREATED:20240529T133649Z
LAST-MODIFIED:20240529T192509Z
UID:57115-1716278400-1716310800@mecop.stagingthedigitalscratch.com
SUMMARY:Risk Adjustment and The Bone Collector
DESCRIPTION:* Review CMS-HCC risk adjustment model and know why it is important\n* Stronger understanding of the medical coding guidelines and regulations\, including compliance and the impact of diagnosis coding on CMS-HCC risk-adjustment payment models\n* Mindfulness to the auditing process for CMS- HCC risk adjustment models\n* Have a better understanding of how to utilize the appropriate Major Depressive Disorder and Diabetic complication codes.
URL:https://mecop.stagingthedigitalscratch.com/event/risk-adjustment-and-the-bone-collector/
LOCATION:Live Webinar
CATEGORIES:AMA
END:VEVENT
BEGIN:VEVENT
DTSTART;TZID=America/Chicago:20240521T080000
DTEND;TZID=America/Chicago:20240521T170000
DTSTAMP:20260424T094356
CREATED:20240523T140149Z
LAST-MODIFIED:20240528T144928Z
UID:57051-1716278400-1716310800@mecop.stagingthedigitalscratch.com
SUMMARY:Risk Adjustment and Musculoskeletal Inflammatory Diseases
DESCRIPTION:Review CMS-HCC risk adjustment model and why it is important\nReview specific official ICD-10-CM coding guidelines and how they are applied for HCC diagnosis coding\nIdentify elements of the medical record that help support the validation of an HCC diagnosis condition\nIdentify documentation deficiencies for specific conditions
URL:https://mecop.stagingthedigitalscratch.com/event/risk-adjustment-and-musculoskeletal-inflammatory-diseases-3/
LOCATION:Live Webinar
CATEGORIES:AMA
END:VEVENT
BEGIN:VEVENT
DTSTART;TZID=America/Chicago:20240518T080000
DTEND;TZID=America/Chicago:20240518T170000
DTSTAMP:20260424T094356
CREATED:20240520T172634Z
LAST-MODIFIED:20240520T172953Z
UID:57017-1716019200-1716051600@mecop.stagingthedigitalscratch.com
SUMMARY:Neurotoxin Training with Jaime
DESCRIPTION:Discuss the FDA-approved and off-label uses of neurotoxin. \nOutline proper product preparation and placement. \nDiscuss facial anatomy\, contraindications and patient consult. \nDemonstrate proper preparation\, patient consultation\, technique and injection of neurotoxin.
URL:https://mecop.stagingthedigitalscratch.com/event/neurotoxin-training-with-jaime/
LOCATION:Watt Plastic Surgery
CATEGORIES:AMA
END:VEVENT
BEGIN:VEVENT
DTSTART;TZID=America/Chicago:20240517T090000
DTEND;TZID=America/Chicago:20240517T160000
DTSTAMP:20260424T094356
CREATED:20240122T202133Z
LAST-MODIFIED:20240614T184924Z
UID:55419-1715936400-1715961600@mecop.stagingthedigitalscratch.com
SUMMARY:MUSM Pediatric Advancement Speakers' Series
DESCRIPTION:TBA
URL:https://mecop.stagingthedigitalscratch.com/event/55419/
LOCATION:Live Webinar
CATEGORIES:AMA
END:VEVENT
BEGIN:VEVENT
DTSTART;TZID=America/Chicago:20240516T121500
DTEND;TZID=America/Chicago:20240516T131500
DTSTAMP:20260424T094356
CREATED:20240115T204145Z
LAST-MODIFIED:20240618T183116Z
UID:55248-1715861700-1715865300@mecop.stagingthedigitalscratch.com
SUMMARY:MUSM Project ECHO Series
DESCRIPTION:train medical students and others on the basic principles of Motivational Interviewing \napply these principles specifically to Opioid Use Disorder
URL:https://mecop.stagingthedigitalscratch.com/event/musm-project-echo-series-5/
LOCATION:Live
CATEGORIES:AMA
END:VEVENT
BEGIN:VEVENT
DTSTART;TZID=America/Chicago:20240516T080000
DTEND;TZID=America/Chicago:20240516T170000
DTSTAMP:20260424T094356
CREATED:20240821T174821Z
LAST-MODIFIED:20240821T175023Z
UID:58048-1715846400-1715878800@mecop.stagingthedigitalscratch.com
SUMMARY:2024 Faculty Teaching Credits Residency Preparation Boot Camp
DESCRIPTION:Unavailable
URL:https://mecop.stagingthedigitalscratch.com/event/2024-faculty-teaching-credits-residency-preparation-boot-camp/
LOCATION:Sarasota Regional Campus\, 5560 Bee Ridge Rd\, Sarasota\, FL\, 34233\, United States
CATEGORIES:AMA
END:VEVENT
BEGIN:VEVENT
DTSTART;TZID=America/Chicago:20240516T080000
DTEND;TZID=America/Chicago:20240516T170000
DTSTAMP:20260424T094356
CREATED:20240613T135739Z
LAST-MODIFIED:20240613T140953Z
UID:57259-1715846400-1715878800@mecop.stagingthedigitalscratch.com
SUMMARY:NFO Business of Medicine Web Series: Informed Consent - An Ethical and Legal Imperative
DESCRIPTION:Lack of\, or inadequate\, informed consent is an allegation often cited in malpractice or negligence claims. This program reviews the evolution of informed consent and the requisite elements of an informed consent process\, including a thorough provider–patient discussion and appropriate use of forms. Additional topics covered include therapeutic privilege\, consent for special populations\, and informed refusal. The program concludes with risk mitigation strategies to improve patient communication and comprehension and support an optimal informed consent process. \nUpon completion of this activity\, learners should be able to: \nUnderstand the role of informed consent in malpractice allegations and cases. \nArticulate key elements of a thorough informed consent process and criteria to consider incorporating into the process. \nUnderstand informed refusal and strategies to reduce risks associated with refusal. \nIdentify special populations and considerations that might affect how informed consent is obtained (e.g.\, minors\, individuals who have diminished capacity\, emergency situations\, therapeutic privilege\, etc.). \nDetermine strategies to minimize risk exposures relative to the informed consent process.
URL:https://mecop.stagingthedigitalscratch.com/event/informed-consent-an-ethical-and-legal-imperative/
LOCATION:Internet Live Webcast
CATEGORIES:AMA
END:VEVENT
BEGIN:VEVENT
DTSTART;TZID=America/Chicago:20240516T080000
DTEND;TZID=America/Chicago:20240516T170000
DTSTAMP:20260424T094356
CREATED:20240521T163955Z
LAST-MODIFIED:20240611T210300Z
UID:57032-1715846400-1715878800@mecop.stagingthedigitalscratch.com
SUMMARY:FADAA Co-Occurring Disorders
DESCRIPTION:This session address gaps in disorders that co-occur with substance abuse.  By end of session\, learners will: \nDEFINE co-occurring disorders. \nDISCUSS the prevalence and risk factors for co-occurring disorders. \nIDENTIFY and ASSESS needs for care and services related to co-occurring disorders. \nEVALUATE each individual patient and REFER when appropriate.
URL:https://mecop.stagingthedigitalscratch.com/event/fadaa-co-occurring-disorders/
LOCATION:Internet Live Webcast
CATEGORIES:AMA
END:VEVENT
BEGIN:VEVENT
DTSTART;TZID=America/Chicago:20240515T120000
DTEND;TZID=America/Chicago:20240515T130000
DTSTAMP:20260424T094356
CREATED:20240509T170451Z
LAST-MODIFIED:20240620T142133Z
UID:56887-1715774400-1715778000@mecop.stagingthedigitalscratch.com
SUMMARY:FSU-Tallahassee
DESCRIPTION:Review major criteria for hospice eligibility \nExplain the overall philosophy of Hospice care (What “is” Hospice/What Hospice “is not”) \nDescribe an overview of the hospice program: interdisciplinary team or group (IDT/IDG)\, sites of care\, types of services\, etc. \nDifferentiate between the 4 levels of hospice care \nList common indications for general-in-patient (GIP) level of hospice care \nReview an initial patient care and documentation approach at GIP level of hospice care \nReview initial medication and non-medication options pertaining to symptom management (of pain and\ndyspnea) at GIP level of hospice care.
URL:https://mecop.stagingthedigitalscratch.com/event/fsu-tallahassee/
LOCATION:Virtual Lecture
CATEGORIES:AMA
END:VEVENT
BEGIN:VEVENT
DTSTART;TZID=America/Chicago:20240515T080000
DTEND;TZID=America/Chicago:20240515T170000
DTSTAMP:20260424T094356
CREATED:20240515T153316Z
LAST-MODIFIED:20240515T153317Z
UID:56955-1715760000-1715792400@mecop.stagingthedigitalscratch.com
SUMMARY:General Adult Tumor Board
DESCRIPTION:Unavailable
URL:https://mecop.stagingthedigitalscratch.com/event/general-adult-tumor-board-33/
LOCATION:Ascension Sacred Heart Hospital\, FL
CATEGORIES:AMA
END:VEVENT
BEGIN:VEVENT
DTSTART;TZID=America/Chicago:20240515T080000
DTEND;TZID=America/Chicago:20240515T170000
DTSTAMP:20260424T094356
CREATED:20240419T140244Z
LAST-MODIFIED:20240604T185756Z
UID:56593-1715760000-1715792400@mecop.stagingthedigitalscratch.com
SUMMARY:Better Health Group Monthly Town Hall Meeting
DESCRIPTION:TBA
URL:https://mecop.stagingthedigitalscratch.com/event/better-health-group-monthly-town-hall-meeting-2/
LOCATION:Live
CATEGORIES:AMA
END:VEVENT
BEGIN:VEVENT
DTSTART;TZID=America/Chicago:20240514T080000
DTEND;TZID=America/Chicago:20240514T170000
DTSTAMP:20260424T094356
CREATED:20241226T145321Z
LAST-MODIFIED:20241226T145326Z
UID:60310-1715673600-1715706000@mecop.stagingthedigitalscratch.com
SUMMARY:PEEP Risk Adjustment and Vascular Disease
DESCRIPTION:Review CMS-HCC risk adjustment model and why it is important\nReview specific official ICD-10-CM coding guidelines and how they are applied for HCC diagnosis coding\nIdentify elements of the medical record that help support the validation of an HCC diagnosis condition\nIdentify documentation deficiencies for specific conditions
URL:https://mecop.stagingthedigitalscratch.com/event/peep-risk-adjustment-and-vascular-disease-5/
LOCATION:Internet Enduring Material
CATEGORIES:AMA
END:VEVENT
BEGIN:VEVENT
DTSTART;TZID=America/Chicago:20240513T080000
DTEND;TZID=America/Chicago:20240513T170000
DTSTAMP:20260424T094356
CREATED:20250129T144521Z
LAST-MODIFIED:20250129T144705Z
UID:60984-1715587200-1715619600@mecop.stagingthedigitalscratch.com
SUMMARY:Diversity\, Equity\, and Inclusion in Nonmelanoma Skin Care Care:
DESCRIPTION:Unavailable
URL:https://mecop.stagingthedigitalscratch.com/event/diversity-equity-and-inclusion-in-nonmelanoma-skin-care-care/
LOCATION:Enduring Material
CATEGORIES:AMA
END:VEVENT
BEGIN:VEVENT
DTSTART;TZID=America/Chicago:20240513T080000
DTEND;TZID=America/Chicago:20240513T170000
DTSTAMP:20260424T094356
CREATED:20250129T144027Z
LAST-MODIFIED:20250129T144150Z
UID:60981-1715587200-1715619600@mecop.stagingthedigitalscratch.com
SUMMARY:Mastering New Techniques in Minimally Invasive Aesthetic Rejuvenation
DESCRIPTION:Unavailable
URL:https://mecop.stagingthedigitalscratch.com/event/mastering-new-techniques-in-minimally-invasive-aesthetic-rejuvenation/
LOCATION:Enduring Material
CATEGORIES:AMA
END:VEVENT
BEGIN:VEVENT
DTSTART;TZID=America/Chicago:20240513T080000
DTEND;TZID=America/Chicago:20240513T170000
DTSTAMP:20260424T094356
CREATED:20250129T130830Z
LAST-MODIFIED:20250129T131111Z
UID:60978-1715587200-1715619600@mecop.stagingthedigitalscratch.com
SUMMARY:From Research to Practice:
DESCRIPTION:Unavailable
URL:https://mecop.stagingthedigitalscratch.com/event/from-research-to-practice/
LOCATION:Enduring Material
CATEGORIES:AMA
END:VEVENT
BEGIN:VEVENT
DTSTART;TZID=America/Chicago:20240513T080000
DTEND;TZID=America/Chicago:20240513T170000
DTSTAMP:20260424T094356
CREATED:20250129T130501Z
LAST-MODIFIED:20250129T130606Z
UID:60975-1715587200-1715619600@mecop.stagingthedigitalscratch.com
SUMMARY:Combination Injection Techniques for Restoration of the Face and Neck
DESCRIPTION:Unavailable
URL:https://mecop.stagingthedigitalscratch.com/event/combination-injection-techniques-for-restoration-of-the-face-and-neck/
LOCATION:Enduring Material
CATEGORIES:AMA
END:VEVENT
BEGIN:VEVENT
DTSTART;TZID=America/Chicago:20240513T080000
DTEND;TZID=America/Chicago:20240513T170000
DTSTAMP:20260424T094356
CREATED:20250129T125245Z
LAST-MODIFIED:20250129T125438Z
UID:60969-1715587200-1715619600@mecop.stagingthedigitalscratch.com
SUMMARY:Face Forward:
DESCRIPTION:Unavailable
URL:https://mecop.stagingthedigitalscratch.com/event/face-forward/
LOCATION:Enduring Material
CATEGORIES:AMA
END:VEVENT
BEGIN:VEVENT
DTSTART;TZID=America/Chicago:20240513T080000
DTEND;TZID=America/Chicago:20240513T170000
DTSTAMP:20260424T094356
CREATED:20250129T124910Z
LAST-MODIFIED:20250129T125038Z
UID:60966-1715587200-1715619600@mecop.stagingthedigitalscratch.com
SUMMARY:Fillers and Facial Aesthetics:
DESCRIPTION:Unavailable
URL:https://mecop.stagingthedigitalscratch.com/event/fillers-and-facial-aesthetics/
LOCATION:Enduring Material
CATEGORIES:AMA
END:VEVENT
BEGIN:VEVENT
DTSTART;TZID=America/Chicago:20240513T080000
DTEND;TZID=America/Chicago:20240513T170000
DTSTAMP:20260424T094356
CREATED:20250129T124323Z
LAST-MODIFIED:20250129T124629Z
UID:60963-1715587200-1715619600@mecop.stagingthedigitalscratch.com
SUMMARY:Skincare in Skin of Color:
DESCRIPTION:Unavailable
URL:https://mecop.stagingthedigitalscratch.com/event/skincare-in-skin-of-color/
LOCATION:Enduring Material
CATEGORIES:AMA
END:VEVENT
BEGIN:VEVENT
DTSTART;TZID=America/Chicago:20240513T080000
DTEND;TZID=America/Chicago:20240513T170000
DTSTAMP:20260424T094356
CREATED:20250129T123942Z
LAST-MODIFIED:20250129T124103Z
UID:60960-1715587200-1715619600@mecop.stagingthedigitalscratch.com
SUMMARY:Hot Topics in Thyroid Eye Disease
DESCRIPTION:Unavailable
URL:https://mecop.stagingthedigitalscratch.com/event/hot-topics-in-thyroid-eye-disease/
LOCATION:Enduring Material
CATEGORIES:AMA
END:VEVENT
BEGIN:VEVENT
DTSTART;TZID=America/Chicago:20240513T080000
DTEND;TZID=America/Chicago:20240513T170000
DTSTAMP:20260424T094356
CREATED:20250129T123525Z
LAST-MODIFIED:20250129T123626Z
UID:60957-1715587200-1715619600@mecop.stagingthedigitalscratch.com
SUMMARY:Enhancing the Treatment of High-Risk Non-Muscle-Invasive Bladder Cancer With Immunotherapy-Based Regimens
DESCRIPTION:Unavailable
URL:https://mecop.stagingthedigitalscratch.com/event/enhancing-the-treatment-of-high-risk-non-muscle-invasive-bladder-cancer-with-immunotherapy-based-regimens/
LOCATION:Enduring Material
CATEGORIES:AMA
END:VEVENT
BEGIN:VEVENT
DTSTART;TZID=America/Chicago:20240513T080000
DTEND;TZID=America/Chicago:20240513T170000
DTSTAMP:20260424T094356
CREATED:20250129T122952Z
LAST-MODIFIED:20250129T123053Z
UID:60954-1715587200-1715619600@mecop.stagingthedigitalscratch.com
SUMMARY:Advisory Committee on Immunization Practices Recommended Immunization Schedule for Adults Aged 19 Years or Older-United States\, 2024
DESCRIPTION:Unavailable
URL:https://mecop.stagingthedigitalscratch.com/event/advisory-committee-on-immunization-practices-recommended-immunization-schedule-for-adults-aged-19-years-or-older-united-states-2024/
LOCATION:Enduring Material
CATEGORIES:AMA
END:VEVENT
BEGIN:VEVENT
DTSTART;TZID=America/Chicago:20240513T080000
DTEND;TZID=America/Chicago:20240513T170000
DTSTAMP:20260424T094356
CREATED:20250127T193436Z
LAST-MODIFIED:20250127T193536Z
UID:60929-1715587200-1715619600@mecop.stagingthedigitalscratch.com
SUMMARY:A New Era in the Management of GERD
DESCRIPTION:Unavailable
URL:https://mecop.stagingthedigitalscratch.com/event/a-new-era-in-the-management-of-gerd/
LOCATION:Enduring Material
CATEGORIES:AMA
END:VEVENT
BEGIN:VEVENT
DTSTART;TZID=America/Chicago:20240513T080000
DTEND;TZID=America/Chicago:20240513T170000
DTSTAMP:20260424T094356
CREATED:20250127T192919Z
LAST-MODIFIED:20250127T193219Z
UID:60926-1715587200-1715619600@mecop.stagingthedigitalscratch.com
SUMMARY:Defining Moments:
DESCRIPTION:Unavailable
URL:https://mecop.stagingthedigitalscratch.com/event/defining-moments/
LOCATION:Enduring Material
CATEGORIES:AMA
END:VEVENT
END:VCALENDAR