BEGIN:VCALENDAR
VERSION:2.0
PRODID:-//Mecop - ECPv6.5.1.5//NONSGML v1.0//EN
CALSCALE:GREGORIAN
METHOD:PUBLISH
X-WR-CALNAME:Mecop
X-ORIGINAL-URL:https://mecop.stagingthedigitalscratch.com
X-WR-CALDESC:Events for Mecop
REFRESH-INTERVAL;VALUE=DURATION:PT1H
X-Robots-Tag:noindex
X-PUBLISHED-TTL:PT1H
BEGIN:VTIMEZONE
TZID:America/Chicago
BEGIN:DAYLIGHT
TZOFFSETFROM:-0600
TZOFFSETTO:-0500
TZNAME:CDT
DTSTART:20240310T080000
END:DAYLIGHT
BEGIN:STANDARD
TZOFFSETFROM:-0500
TZOFFSETTO:-0600
TZNAME:CST
DTSTART:20241103T070000
END:STANDARD
END:VTIMEZONE
BEGIN:VEVENT
DTSTART;TZID=America/Chicago:20240612T080000
DTEND;TZID=America/Chicago:20240612T170000
DTSTAMP:20260424T074823
CREATED:20240612T142606Z
LAST-MODIFIED:20240612T143354Z
UID:57252-1718179200-1718211600@mecop.stagingthedigitalscratch.com
SUMMARY:General Adult Tumor Board 2024
DESCRIPTION:Unavailable
URL:https://mecop.stagingthedigitalscratch.com/event/general-adult-tumor-board-2024-11/
LOCATION:Ascension Sacred Heart Hospital\, FL
CATEGORIES:AMA
END:VEVENT
BEGIN:VEVENT
DTSTART;TZID=America/Chicago:20240611T080000
DTEND;TZID=America/Chicago:20240611T170000
DTSTAMP:20260424T074823
CREATED:20240703T160901Z
LAST-MODIFIED:20240703T160901Z
UID:57499-1718092800-1718125200@mecop.stagingthedigitalscratch.com
SUMMARY:NFO Business of Medicine Web Series: The Big 4 of 2024  Modifier 25
DESCRIPTION:Upon completion of this activity\, learners should be able to:\n• The proper utilization of modifier 25\, what is significant and separately identifiable and the impacts of improper utilization.\n• What services are included and what are not included in a diagnostic nasal endoscopy CPT®31231.\n• How to support medical necessity through your documentation\, painting the picture of medical necessity.\n• How to bill office visits based on time or MDM.\n• Proper utilization of G2211.
URL:https://mecop.stagingthedigitalscratch.com/event/nfo-business-of-medicine-web-series-the-big-4-of-2024-modifier-25-2/
LOCATION:Internet Live Webcast
CATEGORIES:AMA
END:VEVENT
BEGIN:VEVENT
DTSTART;TZID=America/Chicago:20240609T080000
DTEND;TZID=America/Chicago:20240609T170000
DTSTAMP:20260424T074823
CREATED:20240621T172250Z
LAST-MODIFIED:20240621T172401Z
UID:57373-1717920000-1717952400@mecop.stagingthedigitalscratch.com
SUMMARY:Screening\, Assessment\, and Treatment Initiation for SUD
DESCRIPTION:Unavailable
URL:https://mecop.stagingthedigitalscratch.com/event/screening-assessment-and-treatment-initiation-for-sud/
LOCATION:Enduring Material
CATEGORIES:AMA
END:VEVENT
BEGIN:VEVENT
DTSTART;TZID=America/Chicago:20240609T080000
DTEND;TZID=America/Chicago:20240609T170000
DTSTAMP:20260424T074823
CREATED:20240621T135434Z
LAST-MODIFIED:20240621T135616Z
UID:57367-1717920000-1717952400@mecop.stagingthedigitalscratch.com
SUMMARY:Pharmacotherapy for Alcohol Use Disorder
DESCRIPTION:Unavailable
URL:https://mecop.stagingthedigitalscratch.com/event/pharmacotherapy-for-alcohol-use-disorder/
LOCATION:Enduring Material
CATEGORIES:AMA
END:VEVENT
BEGIN:VEVENT
DTSTART;TZID=America/Chicago:20240609T080000
DTEND;TZID=America/Chicago:20240609T170000
DTSTAMP:20260424T074823
CREATED:20240620T193610Z
LAST-MODIFIED:20240620T193934Z
UID:57358-1717920000-1717952400@mecop.stagingthedigitalscratch.com
SUMMARY:Medications for Opioid Use Disorder
DESCRIPTION:Unavailable
URL:https://mecop.stagingthedigitalscratch.com/event/medications-for-opioid-use-disorder/
LOCATION:Enduring Material
CATEGORIES:AMA
END:VEVENT
BEGIN:VEVENT
DTSTART;TZID=America/Chicago:20240608T080000
DTEND;TZID=America/Chicago:20240608T170000
DTSTAMP:20260424T074823
CREATED:20240627T191420Z
LAST-MODIFIED:20240627T191553Z
UID:57430-1717833600-1717866000@mecop.stagingthedigitalscratch.com
SUMMARY:Florida Domestic Violence:
DESCRIPTION:Unavailable
URL:https://mecop.stagingthedigitalscratch.com/event/florida-domestic-violence/
LOCATION:Enduring Material
CATEGORIES:AMA,DV
END:VEVENT
BEGIN:VEVENT
DTSTART;TZID=America/Chicago:20240606T080000
DTEND;TZID=America/Chicago:20240606T170000
DTSTAMP:20260424T074823
CREATED:20240703T160605Z
LAST-MODIFIED:20240717T153321Z
UID:57497-1717660800-1717693200@mecop.stagingthedigitalscratch.com
SUMMARY:NFO Business of Medicine Web Series: The Big 4 of 2024  Modifier 25
DESCRIPTION:Upon completion of this activity\, learners should be able to:\n• The proper utilization of modifier 25\, what is significant and separately identifiable and the impacts of improper utilization.\n• What services are included and what are not included in a diagnostic nasal endoscopy CPT®31231.\n• How to support medical necessity through your documentation\, painting the picture of medical necessity.\n• How to bill office visits based on time or MDM.\n• Proper utilization of G2211. \n 
URL:https://mecop.stagingthedigitalscratch.com/event/nfo-business-of-medicine-web-series-the-big-4-of-2024-modifier-25/
LOCATION:Internet Live Webcast
CATEGORIES:AMA
END:VEVENT
BEGIN:VEVENT
DTSTART;TZID=America/Chicago:20240605T080000
DTEND;TZID=America/Chicago:20240605T170000
DTSTAMP:20260424T074823
CREATED:20240605T125248Z
LAST-MODIFIED:20240605T125248Z
UID:57171-1717574400-1717606800@mecop.stagingthedigitalscratch.com
SUMMARY:General Adult Tumor Board 2024
DESCRIPTION:Unavailable
URL:https://mecop.stagingthedigitalscratch.com/event/general-adult-tumor-board-2024-10/
LOCATION:Ascension Sacred Heart Hospital\, FL
CATEGORIES:AMA
END:VEVENT
BEGIN:VEVENT
DTSTART;TZID=America/Chicago:20240605T000000
DTEND;TZID=America/Chicago:20240605T000000
DTSTAMP:20260424T074823
CREATED:20240603T120650Z
LAST-MODIFIED:20250324T143059Z
UID:57139-1717545600-1717545600@mecop.stagingthedigitalscratch.com
SUMMARY:Summit Medical Grand Rounds: Management of Chronic Painful Conditions
DESCRIPTION:INFORM the providers at Summit Medical Group about the latest innovations for pain treatment.
URL:https://mecop.stagingthedigitalscratch.com/event/summit-medical-grand-rounds-5/
LOCATION:Knoxville\, TN
CATEGORIES:AMA
END:VEVENT
BEGIN:VEVENT
DTSTART;TZID=America/Chicago:20240604T080000
DTEND;TZID=America/Chicago:20240604T170000
DTSTAMP:20260424T074823
CREATED:20240703T152435Z
LAST-MODIFIED:20240907T163709Z
UID:57488-1717488000-1717520400@mecop.stagingthedigitalscratch.com
SUMMARY:PEEP Risk Adjustment and Diabetes with Complications
DESCRIPTION:Review CMS-HCC risk adjustment model and why it is important\nReview specific official ICD-10-CM coding guidelines and how they are applied for HCC diagnosis coding\nIdentify elements of the medical record that help support the validation of an HCC diagnosis condition\nIdentify documentation deficiencies for specific conditions
URL:https://mecop.stagingthedigitalscratch.com/event/peep-risk-adjustment-and-diabetes-with-complications-3/
LOCATION:Internet Enduring Material
CATEGORIES:AMA
END:VEVENT
BEGIN:VEVENT
DTSTART;TZID=America/Chicago:20240602T080000
DTEND;TZID=America/Chicago:20240602T170000
DTSTAMP:20260424T074823
CREATED:20240621T134840Z
LAST-MODIFIED:20240621T135031Z
UID:57364-1717315200-1717347600@mecop.stagingthedigitalscratch.com
SUMMARY:Overview of Substance Use Disorders
DESCRIPTION:Unavailable
URL:https://mecop.stagingthedigitalscratch.com/event/overview-of-substance-use-disorders-2/
LOCATION:Enduring Material
CATEGORIES:AMA
END:VEVENT
BEGIN:VEVENT
DTSTART;TZID=America/Chicago:20240602T080000
DTEND;TZID=America/Chicago:20240602T170000
DTSTAMP:20260424T074823
CREATED:20240620T191721Z
LAST-MODIFIED:20240620T192427Z
UID:57352-1717315200-1717347600@mecop.stagingthedigitalscratch.com
SUMMARY:Changing Language to Change Care
DESCRIPTION:Unavailable
URL:https://mecop.stagingthedigitalscratch.com/event/changing-language-to-change-care/
LOCATION:Enduring Material
CATEGORIES:AMA
END:VEVENT
BEGIN:VEVENT
DTSTART;TZID=America/Chicago:20240601T080000
DTEND;TZID=America/Chicago:20240611T170000
DTSTAMP:20260424T074823
CREATED:20240611T134522Z
LAST-MODIFIED:20240907T165225Z
UID:57241-1717228800-1718125200@mecop.stagingthedigitalscratch.com
SUMMARY:PEEP Risk Adjustment and Musculoskeletal Health
DESCRIPTION:See live May 2024 content outline.
URL:https://mecop.stagingthedigitalscratch.com/event/peep-risk-adjustment-and-musculoskeletal-health/
LOCATION:Internet Enduring Material
CATEGORIES:AMA
END:VEVENT
BEGIN:VEVENT
DTSTART;TZID=America/Chicago:20240601T080000
DTEND;TZID=America/Chicago:20240601T170000
DTSTAMP:20260424T074823
CREATED:20240729T171455Z
LAST-MODIFIED:20240804T182409Z
UID:57754-1717228800-1717261200@mecop.stagingthedigitalscratch.com
SUMMARY:Breast Cancer Staging
DESCRIPTION:Unavailable
URL:https://mecop.stagingthedigitalscratch.com/event/breast-cancer-staging-2/
LOCATION:Enduring Activity
CATEGORIES:AMA
END:VEVENT
BEGIN:VEVENT
DTSTART;TZID=America/Chicago:20240601T080000
DTEND;TZID=America/Chicago:20240601T170000
DTSTAMP:20260424T074823
CREATED:20240612T175127Z
LAST-MODIFIED:20240612T175451Z
UID:57254-1717228800-1717261200@mecop.stagingthedigitalscratch.com
SUMMARY:Vegas Cosmetic Surgery and Aesthetic Dermatology 2024
DESCRIPTION:Unavailable
URL:https://mecop.stagingthedigitalscratch.com/event/vegas-cosmetic-surgery-aesthetic-dermatology-2024/
LOCATION:Live
CATEGORIES:AMA
END:VEVENT
BEGIN:VEVENT
DTSTART;TZID=America/Chicago:20240531T080000
DTEND;TZID=America/Chicago:20240531T170000
DTSTAMP:20260424T074823
CREATED:20241023T195959Z
LAST-MODIFIED:20241023T200140Z
UID:59008-1717142400-1717174800@mecop.stagingthedigitalscratch.com
SUMMARY:2024 Faculty Teaching Credits Clinical Workshop
DESCRIPTION:Unavailable
URL:https://mecop.stagingthedigitalscratch.com/event/2024-faculty-teaching-credits-clinical-workshop/
LOCATION:Tallahassee Regional Campus\, Tallahassee\, FL\, United States
CATEGORIES:AMA
END:VEVENT
BEGIN:VEVENT
DTSTART;TZID=America/Chicago:20240531T080000
DTEND;TZID=America/Chicago:20240531T170000
DTSTAMP:20260424T074823
CREATED:20240730T131730Z
LAST-MODIFIED:20240730T131730Z
UID:57783-1717142400-1717174800@mecop.stagingthedigitalscratch.com
SUMMARY:Small-Bowel Neuroendocrine Neoplasms
DESCRIPTION:Unavailable
URL:https://mecop.stagingthedigitalscratch.com/event/small-bowel-neuroendocrine-neoplasms-2/
LOCATION:Enduring Activity
CATEGORIES:AMA
END:VEVENT
BEGIN:VEVENT
DTSTART;TZID=America/Chicago:20240530T180000
DTEND;TZID=America/Chicago:20240530T200000
DTSTAMP:20260424T074823
CREATED:20240528T192638Z
LAST-MODIFIED:20240617T180332Z
UID:57100-1717092000-1717099200@mecop.stagingthedigitalscratch.com
SUMMARY:FSU-Orlando
DESCRIPTION:Changes to the clerkship syllabi for AY23-24\nFaculty feedback and suggestions\nEvaluation of Student form and grading policy\nFeedback on evaluation tool\nKeys to the evaluation tool\nThe importance of the narrative comments in the evaluations\nGrading Scale \nLearning objectives: \n• Review academic achievements for AY23-24\no Match Results\no Student Awards\no Scholastic Scores\n• Discuss the changes to the core IM clerkship and Sub Internship for AY24-25\n• Understand the ways to optimize the faculty evaluation of students for AY24-25
URL:https://mecop.stagingthedigitalscratch.com/event/im-all-faculty-meeting-with-education-director-benjamin-kaplan/
LOCATION:Zoom
CATEGORIES:AMA
END:VEVENT
BEGIN:VEVENT
DTSTART;TZID=America/Chicago:20240530T120000
DTEND;TZID=America/Chicago:20240530T130000
DTSTAMP:20260424T074823
CREATED:20240528T125405Z
LAST-MODIFIED:20240604T141307Z
UID:57084-1717070400-1717074000@mecop.stagingthedigitalscratch.com
SUMMARY:MUSM Clinical Faculty Development Series
DESCRIPTION:Grasp the essential role and types of medical simulation in modern medical education.\nLearn effective strategies for embedding simulation throughout the medical curriculum.\nDiscover how the MUSM Simulation Center facilitates comprehensive simulation-based education\, supporting both educators and students.
URL:https://mecop.stagingthedigitalscratch.com/event/musm-clinical-faculty-development-series-19/
LOCATION:Live
CATEGORIES:AMA
END:VEVENT
BEGIN:VEVENT
DTSTART;TZID=America/Chicago:20240530T080000
DTEND;TZID=America/Chicago:20240530T170000
DTSTAMP:20260424T074823
CREATED:20240611T133424Z
LAST-MODIFIED:20240907T164847Z
UID:57232-1717056000-1717088400@mecop.stagingthedigitalscratch.com
SUMMARY:Lipid-Lowering Therapy to Reduce CVD Risk ACT
DESCRIPTION:See content.
URL:https://mecop.stagingthedigitalscratch.com/event/lipid-lowering-therapy-to-reduce-cvd-risk-act-3/
LOCATION:Internet Enduring Material
CATEGORIES:AMA
END:VEVENT
BEGIN:VEVENT
DTSTART;TZID=America/Chicago:20240530T080000
DTEND;TZID=America/Chicago:20240530T170000
DTSTAMP:20260424T074823
CREATED:20240611T132126Z
LAST-MODIFIED:20240703T152057Z
UID:57222-1717056000-1717088400@mecop.stagingthedigitalscratch.com
SUMMARY:Diabetes Type 1 Basic Care ACT
DESCRIPTION:See content.
URL:https://mecop.stagingthedigitalscratch.com/event/diabetes-type-1-basic-care-act-3/
LOCATION:Internet Enduring Material
CATEGORIES:AMA
END:VEVENT
BEGIN:VEVENT
DTSTART;TZID=America/Chicago:20240530T080000
DTEND;TZID=America/Chicago:20240530T170000
DTSTAMP:20260424T074823
CREATED:20240602T214518Z
LAST-MODIFIED:20240602T214757Z
UID:57134-1717056000-1717088400@mecop.stagingthedigitalscratch.com
SUMMARY:Recognizing and Managing Endocrine Metabolic Disease in Practice
DESCRIPTION:Unavailable
URL:https://mecop.stagingthedigitalscratch.com/event/recognizing-and-managing-endocrine-metabolic-disease-in-practice/
LOCATION:Enduring Material
CATEGORIES:AMA
END:VEVENT
BEGIN:VEVENT
DTSTART;TZID=America/Chicago:20240529T080000
DTEND;TZID=America/Chicago:20240529T170000
DTSTAMP:20260424T074823
CREATED:20240601T202232Z
LAST-MODIFIED:20250310T141945Z
UID:57127-1716969600-1717002000@mecop.stagingthedigitalscratch.com
SUMMARY:Lead Me Through ECG's
DESCRIPTION:Interpret ECG results and discuss implications\nIdentify ECG abnormalities and appropriate treatment or course of action\n  \nIdentify ECG abnormalities and determine appropriate treatment or course of action
URL:https://mecop.stagingthedigitalscratch.com/event/lead-me-through-ecgs/
LOCATION:Internet Enduring Material
CATEGORIES:AMA
END:VEVENT
BEGIN:VEVENT
DTSTART;TZID=America/Chicago:20240528T080000
DTEND;TZID=America/Chicago:20240528T170000
DTSTAMP:20260424T074823
CREATED:20240528T170057Z
LAST-MODIFIED:20240529T143805Z
UID:57093-1716883200-1716915600@mecop.stagingthedigitalscratch.com
SUMMARY:Risk Adjustment and Musculoskeletal Inflammatory Diseases
DESCRIPTION:Review CMS-HCC risk adjustment model and why it is important\nReview specific official ICD-10-CM coding guidelines and how they are applied for HCC diagnosis coding\nIdentify elements of the medical record that help support the validation of an HCC diagnosis condition\nIdentify documentation deficiencies for specific conditions
URL:https://mecop.stagingthedigitalscratch.com/event/risk-adjustment-and-musculoskeletal-inflammatory-diseases-4/
LOCATION:Live Webinar
CATEGORIES:AMA
END:VEVENT
BEGIN:VEVENT
DTSTART;TZID=America/Chicago:20240527T080000
DTEND;TZID=America/Chicago:20240527T170000
DTSTAMP:20260424T074823
CREATED:20240730T135348Z
LAST-MODIFIED:20240730T135545Z
UID:57792-1716796800-1716829200@mecop.stagingthedigitalscratch.com
SUMMARY:JNM CE/SAM (September 2023):
DESCRIPTION:Unavailable
URL:https://mecop.stagingthedigitalscratch.com/event/jnm-ce-sam-september-2023/
LOCATION:Enduring Material
CATEGORIES:AMA
END:VEVENT
BEGIN:VEVENT
DTSTART;TZID=America/Chicago:20240524T120000
DTEND;TZID=America/Chicago:20240524T130000
DTSTAMP:20260424T074823
CREATED:20240517T130227Z
LAST-MODIFIED:20240527T125057Z
UID:56986-1716552000-1716555600@mecop.stagingthedigitalscratch.com
SUMMARY:MUSM Clinical Faculty Development Series
DESCRIPTION:Identify the impact of suboptimal lifestyle on death and disease.\nSummarize the six pillars of Lifestyle Medicine (LM).\nCompare how Lifestyle Medicine is different from other traditional and non-traditional approaches to patient care.\nSummarize key studies supporting how Lifestyle Medicine prevents\, treats and reverses chronic disease/mortality.
URL:https://mecop.stagingthedigitalscratch.com/event/musm-clinical-faculty-development-series-13/
LOCATION:Live
CATEGORIES:AMA
END:VEVENT
BEGIN:VEVENT
DTSTART;TZID=America/Chicago:20240524T080000
DTEND;TZID=America/Chicago:20240524T170000
DTSTAMP:20260424T074823
CREATED:20241002T180638Z
LAST-MODIFIED:20241124T194054Z
UID:58542-1716537600-1716570000@mecop.stagingthedigitalscratch.com
SUMMARY:2024 Faculty Teaching Credits Advanced Clinical Foundations
DESCRIPTION:Unavailable
URL:https://mecop.stagingthedigitalscratch.com/event/2024-faculty-teaching-credits-advanced-clinical-foundations/
LOCATION:Tallahassee Regional Campus\, Tallahassee\, FL\, United States
CATEGORIES:AMA
END:VEVENT
BEGIN:VEVENT
DTSTART;TZID=America/Chicago:20240524T080000
DTEND;TZID=America/Chicago:20240524T170000
DTSTAMP:20260424T074823
CREATED:20240604T201102Z
LAST-MODIFIED:20250107T142144Z
UID:57164-1716537600-1716570000@mecop.stagingthedigitalscratch.com
SUMMARY:2024 Faculty Teaching Credits Summer Clinical Practicum
DESCRIPTION:Unavailable
URL:https://mecop.stagingthedigitalscratch.com/event/2024-faculty-teaching-credits-summer-clinical-practicum/
LOCATION:Orlando Regional Campus\, Orlando\, FL\, United States
CATEGORIES:AMA
END:VEVENT
BEGIN:VEVENT
DTSTART;TZID=America/Chicago:20240523T080000
DTEND;TZID=America/Chicago:20240523T170000
DTSTAMP:20260424T074823
CREATED:20241226T145044Z
LAST-MODIFIED:20241226T145049Z
UID:60308-1716451200-1716483600@mecop.stagingthedigitalscratch.com
SUMMARY:Chronic Non-Cancer Pain ACT
DESCRIPTION:See content.
URL:https://mecop.stagingthedigitalscratch.com/event/chronic-non-cancer-pain-act-2/
LOCATION:Internet Enduring Material
CATEGORIES:AMA
END:VEVENT
BEGIN:VEVENT
DTSTART;TZID=America/Chicago:20240522T080000
DTEND;TZID=America/Chicago:20240522T170000
DTSTAMP:20260424T074823
CREATED:20240522T133258Z
LAST-MODIFIED:20240522T133258Z
UID:57046-1716364800-1716397200@mecop.stagingthedigitalscratch.com
SUMMARY:General Adult Tumor Board 2024
DESCRIPTION:Unavailable
URL:https://mecop.stagingthedigitalscratch.com/event/general-adult-tumor-board-2024-9/
LOCATION:Ascension Sacred Heart Hospital\, FL
CATEGORIES:AMA
END:VEVENT
END:VCALENDAR