BEGIN:VCALENDAR
VERSION:2.0
PRODID:-//Mecop - ECPv6.5.1.5//NONSGML v1.0//EN
CALSCALE:GREGORIAN
METHOD:PUBLISH
X-WR-CALNAME:Mecop
X-ORIGINAL-URL:https://mecop.stagingthedigitalscratch.com
X-WR-CALDESC:Events for Mecop
REFRESH-INTERVAL;VALUE=DURATION:PT1H
X-Robots-Tag:noindex
X-PUBLISHED-TTL:PT1H
BEGIN:VTIMEZONE
TZID:America/Chicago
BEGIN:DAYLIGHT
TZOFFSETFROM:-0600
TZOFFSETTO:-0500
TZNAME:CDT
DTSTART:20240310T080000
END:DAYLIGHT
BEGIN:STANDARD
TZOFFSETFROM:-0500
TZOFFSETTO:-0600
TZNAME:CST
DTSTART:20241103T070000
END:STANDARD
END:VTIMEZONE
BEGIN:VEVENT
DTSTART;TZID=America/Chicago:20240625T080000
DTEND;TZID=America/Chicago:20240625T170000
DTSTAMP:20260423T001013
CREATED:20240703T161424Z
LAST-MODIFIED:20240829T180147Z
UID:57502-1719302400-1719334800@mecop.stagingthedigitalscratch.com
SUMMARY:NFO Business of Medicine Web Series: The Big 4 of 2024  Modifier 25
DESCRIPTION:Upon completion of this activity\, learners should be able to:\n• The proper utilization of modifier 25\, what is significant and separately identifiable and the impacts of improper utilization.\n• What services are included and what are not included in a diagnostic nasal endoscopy CPT®31231.\n• How to support medical necessity through your documentation\, painting the picture of medical necessity.\n• How to bill office visits based on time or MDM.\n• Proper utilization of G2211.
URL:https://mecop.stagingthedigitalscratch.com/event/nfo-business-of-medicine-web-series-the-big-4-of-2024-modifier-25-3/
LOCATION:Internet Live Webcast
CATEGORIES:AMA
END:VEVENT
BEGIN:VEVENT
DTSTART;TZID=America/Chicago:20240625T080000
DTEND;TZID=America/Chicago:20240625T170000
DTSTAMP:20260423T001013
CREATED:20240625T165344Z
LAST-MODIFIED:20240628T152405Z
UID:57397-1719302400-1719334800@mecop.stagingthedigitalscratch.com
SUMMARY:Risk Adjustment and A Beautiful Mind with Behavioral Health
DESCRIPTION:Review CMS-HCC risk adjustment model and why it is important\nReview specific official ICD-10-CM coding guidelines and how they are applied for HCC diagnosis coding\nIdentify elements of the medical record that help support the validation of an HCC diagnosis condition\nIdentify documentation deficiencies for specific conditions
URL:https://mecop.stagingthedigitalscratch.com/event/risk-adjustment-and-a-beautiful-mind-and-behavioral-health/
LOCATION:Live Webinar
CATEGORIES:AMA
END:VEVENT
BEGIN:VEVENT
DTSTART;TZID=America/Chicago:20240622T080000
DTEND;TZID=America/Chicago:20240623T170000
DTSTAMP:20260423T001013
CREATED:20240624T182723Z
LAST-MODIFIED:20240925T143843Z
UID:57389-1719043200-1719162000@mecop.stagingthedigitalscratch.com
SUMMARY:Fundamentals with Injector Coach Institute
DESCRIPTION:Assess facial anatomy to determine proper treatment and placement. Demonstrate competency in facial anatomy as it pertains to placement of botulinium toxin and filler. Demonstrate efficiency in neurotoxin and filler. Perform proper placement and injection of neurotoxin and filler for glabella\, frontalis and crow’s feet\, as well as cheeks\, lips and nasolabial folds.
URL:https://mecop.stagingthedigitalscratch.com/event/fundamentals-with-the-injector-coach-institute-2/
LOCATION:Mind Body Soul Medical
CATEGORIES:AMA
END:VEVENT
BEGIN:VEVENT
DTSTART;TZID=America/Chicago:20240622T080000
DTEND;TZID=America/Chicago:20240622T170000
DTSTAMP:20260423T001013
CREATED:20240628T151653Z
LAST-MODIFIED:20240701T180637Z
UID:57446-1719043200-1719075600@mecop.stagingthedigitalscratch.com
SUMMARY:Method Aesthetics Academy: PRF and PDO Threads Course
DESCRIPTION:In this course\, students will learn about the use of Platelet Rich Fibrin for skin rejuvenation. PRF is a natural\, biocompatible matrix made from the patient’s own blood\, which is processed to concentrate platelets and other blood components involved in the healing process. This matrix provides a scaffold for cells to attach and grow\, and the concentrated platelets release growth factors to stimulate the body’s natural healing process. We will discuss various indications for PRF\, as well as the preparation\, application\, and benefits of this innovative procedure. Clinical considerations\, as well as case studies will also be reviewed and there will be an in-depth hands on lab whereby students prepare PRF using a model’s blood with a cannula\, including proper handling and sterilization. Students will also learn about polydioxanone (PDO) threads for skin rejuvenation. PDO threads are absorbable sutures that are inserted into the skin to lift and tighten sagging skin from the body’s natural ageing process. PDO threads are also used to improve the overall texture of the skin. We will discuss different types of PDO threads\, including barbed and mono threads\, and each’s indications and contra-indications and potential side effects. We will also cover proper insertion technique and patient care. Case studies will also be reviewed with thorough discussion. Each student will also pariticpate in a hands-on lab where they are closely proctored in utilization of PDO threads on a model patients from consultation/assessment\, to preparation and proper technique and completion/after care.
URL:https://mecop.stagingthedigitalscratch.com/event/method-aesthetics-academy-prf-and-pdo-threads-course-3/
LOCATION:Mela MedSpa
CATEGORIES:AMA
END:VEVENT
BEGIN:VEVENT
DTSTART;TZID=America/Chicago:20240621T080000
DTEND;TZID=America/Chicago:20240621T170000
DTSTAMP:20260423T001013
CREATED:20241009T144056Z
LAST-MODIFIED:20241208T143119Z
UID:58659-1718956800-1718989200@mecop.stagingthedigitalscratch.com
SUMMARY:2024 Faculty Teaching Credits Clinical Medicine Clerkship
DESCRIPTION:Unavailable
URL:https://mecop.stagingthedigitalscratch.com/event/2024-faculty-teaching-credits-clinical-medicine-clerkship/
LOCATION:Tallahassee Regional Campus\, Tallahassee\, FL\, United States
CATEGORIES:AMA
END:VEVENT
BEGIN:VEVENT
DTSTART;TZID=America/Chicago:20240620T080000
DTEND;TZID=America/Chicago:20240620T161500
DTSTAMP:20260423T001013
CREATED:20240527T173937Z
LAST-MODIFIED:20240702T165919Z
UID:57078-1718870400-1718900100@mecop.stagingthedigitalscratch.com
SUMMARY:MUSM Pediatric Advancement Speakers' Series
DESCRIPTION:TBA
URL:https://mecop.stagingthedigitalscratch.com/event/musm-pediatric-advancement-speakers-series-8/
LOCATION:President’s Dining Room\, Mercer University\, Macon Campus
CATEGORIES:AMA
END:VEVENT
BEGIN:VEVENT
DTSTART;TZID=America/Chicago:20240619T080000
DTEND;TZID=America/Chicago:20240619T170000
DTSTAMP:20260423T001013
CREATED:20240730T134643Z
LAST-MODIFIED:20240730T134643Z
UID:57790-1718784000-1718816400@mecop.stagingthedigitalscratch.com
SUMMARY:General Adult Tumor Board 2024
DESCRIPTION:Unavailable
URL:https://mecop.stagingthedigitalscratch.com/event/general-adult-tumor-board-2024-13/
LOCATION:Ascension Sacred Heart Hospital\, FL
CATEGORIES:AMA
END:VEVENT
BEGIN:VEVENT
DTSTART;TZID=America/Chicago:20240619T080000
DTEND;TZID=America/Chicago:20240619T170000
DTSTAMP:20260423T001013
CREATED:20240711T161011Z
LAST-MODIFIED:20240711T161018Z
UID:57575-1718784000-1718816400@mecop.stagingthedigitalscratch.com
SUMMARY:NFO Business of Medicine Web Series: ADA Regulations and Compliance
DESCRIPTION:This webinar will cover the fundamental principles of the Americans with Disabilities Act (ADA) and an employer’s obligation to engage in the interactive process with qualified employees to determine whether a reasonable accommodation must be provided. The presentation will delve into various types of reasonable accommodations\, such as job restructuring\, leave\, modified schedules\, and reassignment (among others).  Finally\, the presentation will cover challenging scenarios\, such as conflicting accommodation requests or undue hardship\, and will provide some best practices for addressing these various scenarios. \nUpon completion of this activity\, learners should be able to:\nIdentify the fundamental principles of the ADA.\nDetermine whether reasonable accommodation have been provided.\nHow to handle challenging scenarios.
URL:https://mecop.stagingthedigitalscratch.com/event/nfo-business-of-medicine-web-series-ada-regulations-and-compliance/
LOCATION:Internet Live Webcast
CATEGORIES:AMA
END:VEVENT
BEGIN:VEVENT
DTSTART;TZID=America/Chicago:20240619T080000
DTEND;TZID=America/Chicago:20240619T170000
DTSTAMP:20260423T001013
CREATED:20240621T140115Z
LAST-MODIFIED:20240621T140232Z
UID:57370-1718784000-1718816400@mecop.stagingthedigitalscratch.com
SUMMARY:Preventing Opioid-Involved Overdose with Education and Naloxone
DESCRIPTION:Unavailable
URL:https://mecop.stagingthedigitalscratch.com/event/preventing-opioid-involved-overdose-with-education-and-naloxone/
LOCATION:Enduring Material
CATEGORIES:AMA
END:VEVENT
BEGIN:VEVENT
DTSTART;TZID=America/Chicago:20240619T080000
DTEND;TZID=America/Chicago:20240619T170000
DTSTAMP:20260423T001013
CREATED:20240522T125504Z
LAST-MODIFIED:20240703T170020Z
UID:57043-1718784000-1718816400@mecop.stagingthedigitalscratch.com
SUMMARY:Better Health Group Monthly Town Hall Meeting
DESCRIPTION:TBA
URL:https://mecop.stagingthedigitalscratch.com/event/better-health-group-monthly-town-hall-meeting-3/
LOCATION:Zoom
CATEGORIES:AMA
END:VEVENT
BEGIN:VEVENT
DTSTART;TZID=America/Chicago:20240618T080000
DTEND;TZID=America/Chicago:20240618T170000
DTSTAMP:20260423T001013
CREATED:20240619T215852Z
LAST-MODIFIED:20240719T134251Z
UID:57337-1718697600-1718730000@mecop.stagingthedigitalscratch.com
SUMMARY:CMS Monthly Provider Meeting
DESCRIPTION:Discuss new 42CFR Part 8 changes. \nDiscuss documentation expectations when seeing patients in follow up. \nDiscuss the impact of SDOH on patient retention and how our treatment affects the SDOH in a positive way.
URL:https://mecop.stagingthedigitalscratch.com/event/cms-monthly-medical-provider-meeting/
LOCATION:Internet Live Webcast
CATEGORIES:AMA
END:VEVENT
BEGIN:VEVENT
DTSTART;TZID=America/Chicago:20240618T080000
DTEND;TZID=America/Chicago:20240618T170000
DTSTAMP:20260423T001013
CREATED:20240617T125625Z
LAST-MODIFIED:20240619T140014Z
UID:57281-1718697600-1718730000@mecop.stagingthedigitalscratch.com
SUMMARY:South Baldwin Tumor Board
DESCRIPTION:1. Review patient cases and all necessary findings (pathology\, radiology\, surgery\, etc.) and discuss key\nfindings to determine course of treatment.\n2. Discuss implications amongst multidisciplinary team members\, and review best practices\, current\nevidence-based findings\, etc.\n3. Assign treatment protocols based on consensus of the multidisciplinary team.
URL:https://mecop.stagingthedigitalscratch.com/event/south-baldwin-tumor-board-31/
LOCATION:Baldwin Health
CATEGORIES:AMA
END:VEVENT
BEGIN:VEVENT
DTSTART;TZID=America/Chicago:20240618T070000
DTEND;TZID=America/Chicago:20240618T080000
DTSTAMP:20260423T001013
CREATED:20240618T141826Z
LAST-MODIFIED:20240622T212127Z
UID:57294-1718694000-1718697600@mecop.stagingthedigitalscratch.com
SUMMARY:Risk Adjustment and A Beautiful Mind with Behavioral Health
DESCRIPTION:Review CMS-HCC risk adjustment model and why it is important\nReview specific official ICD-10-CM coding guidelines and how they are applied for HCC diagnosis coding\nIdentify elements of the medical record that help support the validation of an HCC diagnosis condition\nIdentify documentation deficiencies for specific conditions
URL:https://mecop.stagingthedigitalscratch.com/event/risk-adjustment-and-a-beautiful-mind-with-behavioral-health-3/
LOCATION:Live Webinar
CATEGORIES:AMA
END:VEVENT
BEGIN:VEVENT
DTSTART;TZID=America/Chicago:20240616T080000
DTEND;TZID=America/Chicago:20240616T170000
DTSTAMP:20260423T001013
CREATED:20240806T144146Z
LAST-MODIFIED:20240806T144447Z
UID:57913-1718524800-1718557200@mecop.stagingthedigitalscratch.com
SUMMARY:JNM CE/SAM (June 2023):
DESCRIPTION:Unavailable
URL:https://mecop.stagingthedigitalscratch.com/event/jnm-ce-sam-june-2023/
LOCATION:Enduring Material
CATEGORIES:AMA
END:VEVENT
BEGIN:VEVENT
DTSTART;TZID=America/Chicago:20240616T080000
DTEND;TZID=America/Chicago:20240616T170000
DTSTAMP:20260423T001013
CREATED:20240730T133237Z
LAST-MODIFIED:20240730T134307Z
UID:57787-1718524800-1718557200@mecop.stagingthedigitalscratch.com
SUMMARY:Unilateral Axillary Lymphadenopathy on Breast MRI
DESCRIPTION:Unavailable
URL:https://mecop.stagingthedigitalscratch.com/event/unilateral-axillary-lymphadenopathy-on-breast-mri-2/
LOCATION:Enduring Activity
CATEGORIES:AMA
END:VEVENT
BEGIN:VEVENT
DTSTART;TZID=America/Chicago:20240616T080000
DTEND;TZID=America/Chicago:20240616T170000
DTSTAMP:20260423T001013
CREATED:20240730T132657Z
LAST-MODIFIED:20240730T132657Z
UID:57785-1718524800-1718557200@mecop.stagingthedigitalscratch.com
SUMMARY:Selective Surgical Excision of Benign Papillomas Diagnosed at CNB
DESCRIPTION:Unavailable
URL:https://mecop.stagingthedigitalscratch.com/event/selective-surgical-excision-of-benign-papillomas-diagnosed-at-cnb-2/
LOCATION:Enduring Activity
CATEGORIES:AMA
END:VEVENT
BEGIN:VEVENT
DTSTART;TZID=America/Chicago:20240616T080000
DTEND;TZID=America/Chicago:20240616T170000
DTSTAMP:20260423T001013
CREATED:20240729T171940Z
LAST-MODIFIED:20240729T171940Z
UID:57757-1718524800-1718557200@mecop.stagingthedigitalscratch.com
SUMMARY:Architectural Distortion on Tomosynthesis
DESCRIPTION:Unavailable
URL:https://mecop.stagingthedigitalscratch.com/event/architectural-distortion-on-tomosynthesis-2/
LOCATION:Enduring Activity
CATEGORIES:AMA
END:VEVENT
BEGIN:VEVENT
DTSTART;TZID=America/Chicago:20240616T080000
DTEND;TZID=America/Chicago:20240616T170000
DTSTAMP:20260423T001013
CREATED:20240620T194139Z
LAST-MODIFIED:20240620T194437Z
UID:57361-1718524800-1718557200@mecop.stagingthedigitalscratch.com
SUMMARY:Opioids for Pain:
DESCRIPTION:Unavailable
URL:https://mecop.stagingthedigitalscratch.com/event/opioids-for-pain/
LOCATION:Enduring Material
CATEGORIES:AMA
END:VEVENT
BEGIN:VEVENT
DTSTART;TZID=America/Chicago:20240616T080000
DTEND;TZID=America/Chicago:20240616T170000
DTSTAMP:20260423T001013
CREATED:20240620T193027Z
LAST-MODIFIED:20240620T193400Z
UID:57355-1718524800-1718557200@mecop.stagingthedigitalscratch.com
SUMMARY:Management of Other Substance Use Co-occurring with Opioid Use Disorder:
DESCRIPTION:Unavailable
URL:https://mecop.stagingthedigitalscratch.com/event/management-of-other-substance-use-co-occurring-with-opioid-use-disorder/
LOCATION:Enduring Material
CATEGORIES:AMA
END:VEVENT
BEGIN:VEVENT
DTSTART;TZID=America/Chicago:20240616T080000
DTEND;TZID=America/Chicago:20240616T170000
DTSTAMP:20260423T001013
CREATED:20240620T144830Z
LAST-MODIFIED:20240701T174706Z
UID:57347-1718524800-1718557200@mecop.stagingthedigitalscratch.com
SUMMARY:FSU Fundamentals of Teaching in the FSU COM Clinical Education Program I Module
DESCRIPTION:Unavailable
URL:https://mecop.stagingthedigitalscratch.com/event/fsu-fundamentals-of-teaching-in-the-fsu-com-clinical-education-program-i-module-3/
LOCATION:Enduring Material
CATEGORIES:AMA
END:VEVENT
BEGIN:VEVENT
DTSTART;TZID=America/Chicago:20240614T080000
DTEND;TZID=America/Chicago:20240614T170000
DTSTAMP:20260423T001013
CREATED:20240614T185841Z
LAST-MODIFIED:20240617T142833Z
UID:57279-1718352000-1718384400@mecop.stagingthedigitalscratch.com
SUMMARY:Risk Adjustment and A Beautiful Mind with Behavioral Health
DESCRIPTION:Review CMS-HCC risk adjustment model and why it is important\nReview specific official ICD-10-CM coding guidelines and how they are applied for HCC diagnosis coding\nIdentify elements of the medical record that help support the validation of an HCC diagnosis condition\nIdentify documentation deficiencies for specific conditions
URL:https://mecop.stagingthedigitalscratch.com/event/risk-adjustment-and-a-beautiful-mind-with-behavioral-health-2/
LOCATION:Live Webinar
CATEGORIES:AMA
END:VEVENT
BEGIN:VEVENT
DTSTART;TZID=America/Chicago:20240613T080000
DTEND;TZID=America/Chicago:20240613T170000
DTSTAMP:20260423T001013
CREATED:20240614T140416Z
LAST-MODIFIED:20240618T203400Z
UID:57271-1718265600-1718298000@mecop.stagingthedigitalscratch.com
SUMMARY:Risk Adjustment and A Beautiful Mind with Behavioral Health
DESCRIPTION:Review CMS-HCC risk adjustment model and why it is important\nReview specific official ICD-10-CM coding guidelines and how they are applied for HCC diagnosis coding\nIdentify elements of the medical record that help support the validation of an HCC diagnosis condition\nIdentify documentation deficiencies for specific conditions
URL:https://mecop.stagingthedigitalscratch.com/event/risk-adjustment-and-a-beautiful-mind-with-behavioral-health/
LOCATION:Live Webinar
CATEGORIES:AMA
END:VEVENT
BEGIN:VEVENT
DTSTART;TZID=America/Chicago:20240612T123000
DTEND;TZID=America/Chicago:20240612T133000
DTSTAMP:20260423T001013
CREATED:20240122T202419Z
LAST-MODIFIED:20240620T115634Z
UID:55421-1718195400-1718199000@mecop.stagingthedigitalscratch.com
SUMMARY:MUSM Pediatric Advancement Speakers' Series
DESCRIPTION:Explain risk-based screening criteria for diabetes\nDiscuss diagnosis and treatment of prediabetes and diabetes\nReview recent advances in technology and pharmacology for management of diabetes in children and adolescents\nOutline the medications available for management of obesity in children
URL:https://mecop.stagingthedigitalscratch.com/event/musm-pediatric-grand-rounds-7/
LOCATION:Live Webinar
CATEGORIES:AMA
END:VEVENT
BEGIN:VEVENT
DTSTART;TZID=America/Chicago:20240612T080000
DTEND;TZID=America/Chicago:20240612T170000
DTSTAMP:20260423T001013
CREATED:20240715T184750Z
LAST-MODIFIED:20240715T184750Z
UID:57621-1718179200-1718211600@mecop.stagingthedigitalscratch.com
SUMMARY:MUSM Pediatric Advancement Speakers' Series
DESCRIPTION:Explain risk-based screening criteria for diabetes\nDiscuss diagnosis and treatment of prediabetes and diabetes\nReview recent advances in technology and pharmacology for management of diabetes in children and adolescents\nOutline the medications available for management of obesity in children
URL:https://mecop.stagingthedigitalscratch.com/event/musm-pediatric-advancement-speakers-series-13/
LOCATION:Online CME
CATEGORIES:AMA
END:VEVENT
BEGIN:VEVENT
DTSTART;TZID=America/Chicago:20240612T080000
DTEND;TZID=America/Chicago:20240612T170000
DTSTAMP:20260423T001013
CREATED:20240612T142606Z
LAST-MODIFIED:20240612T143354Z
UID:57252-1718179200-1718211600@mecop.stagingthedigitalscratch.com
SUMMARY:General Adult Tumor Board 2024
DESCRIPTION:Unavailable
URL:https://mecop.stagingthedigitalscratch.com/event/general-adult-tumor-board-2024-11/
LOCATION:Ascension Sacred Heart Hospital\, FL
CATEGORIES:AMA
END:VEVENT
BEGIN:VEVENT
DTSTART;TZID=America/Chicago:20240611T080000
DTEND;TZID=America/Chicago:20240611T170000
DTSTAMP:20260423T001013
CREATED:20240703T160901Z
LAST-MODIFIED:20240703T160901Z
UID:57499-1718092800-1718125200@mecop.stagingthedigitalscratch.com
SUMMARY:NFO Business of Medicine Web Series: The Big 4 of 2024  Modifier 25
DESCRIPTION:Upon completion of this activity\, learners should be able to:\n• The proper utilization of modifier 25\, what is significant and separately identifiable and the impacts of improper utilization.\n• What services are included and what are not included in a diagnostic nasal endoscopy CPT®31231.\n• How to support medical necessity through your documentation\, painting the picture of medical necessity.\n• How to bill office visits based on time or MDM.\n• Proper utilization of G2211.
URL:https://mecop.stagingthedigitalscratch.com/event/nfo-business-of-medicine-web-series-the-big-4-of-2024-modifier-25-2/
LOCATION:Internet Live Webcast
CATEGORIES:AMA
END:VEVENT
BEGIN:VEVENT
DTSTART;TZID=America/Chicago:20240609T080000
DTEND;TZID=America/Chicago:20240609T170000
DTSTAMP:20260423T001013
CREATED:20240621T172250Z
LAST-MODIFIED:20240621T172401Z
UID:57373-1717920000-1717952400@mecop.stagingthedigitalscratch.com
SUMMARY:Screening\, Assessment\, and Treatment Initiation for SUD
DESCRIPTION:Unavailable
URL:https://mecop.stagingthedigitalscratch.com/event/screening-assessment-and-treatment-initiation-for-sud/
LOCATION:Enduring Material
CATEGORIES:AMA
END:VEVENT
BEGIN:VEVENT
DTSTART;TZID=America/Chicago:20240609T080000
DTEND;TZID=America/Chicago:20240609T170000
DTSTAMP:20260423T001013
CREATED:20240621T135434Z
LAST-MODIFIED:20240621T135616Z
UID:57367-1717920000-1717952400@mecop.stagingthedigitalscratch.com
SUMMARY:Pharmacotherapy for Alcohol Use Disorder
DESCRIPTION:Unavailable
URL:https://mecop.stagingthedigitalscratch.com/event/pharmacotherapy-for-alcohol-use-disorder/
LOCATION:Enduring Material
CATEGORIES:AMA
END:VEVENT
BEGIN:VEVENT
DTSTART;TZID=America/Chicago:20240609T080000
DTEND;TZID=America/Chicago:20240609T170000
DTSTAMP:20260423T001013
CREATED:20240620T193610Z
LAST-MODIFIED:20240620T193934Z
UID:57358-1717920000-1717952400@mecop.stagingthedigitalscratch.com
SUMMARY:Medications for Opioid Use Disorder
DESCRIPTION:Unavailable
URL:https://mecop.stagingthedigitalscratch.com/event/medications-for-opioid-use-disorder/
LOCATION:Enduring Material
CATEGORIES:AMA
END:VEVENT
BEGIN:VEVENT
DTSTART;TZID=America/Chicago:20240608T080000
DTEND;TZID=America/Chicago:20240608T170000
DTSTAMP:20260423T001013
CREATED:20240627T191420Z
LAST-MODIFIED:20240627T191553Z
UID:57430-1717833600-1717866000@mecop.stagingthedigitalscratch.com
SUMMARY:Florida Domestic Violence:
DESCRIPTION:Unavailable
URL:https://mecop.stagingthedigitalscratch.com/event/florida-domestic-violence/
LOCATION:Enduring Material
CATEGORIES:AMA,DV
END:VEVENT
END:VCALENDAR