BEGIN:VCALENDAR
VERSION:2.0
PRODID:-//Mecop - ECPv6.5.1.5//NONSGML v1.0//EN
CALSCALE:GREGORIAN
METHOD:PUBLISH
X-WR-CALNAME:Mecop
X-ORIGINAL-URL:https://mecop.stagingthedigitalscratch.com
X-WR-CALDESC:Events for Mecop
REFRESH-INTERVAL;VALUE=DURATION:PT1H
X-Robots-Tag:noindex
X-PUBLISHED-TTL:PT1H
BEGIN:VTIMEZONE
TZID:America/Chicago
BEGIN:DAYLIGHT
TZOFFSETFROM:-0600
TZOFFSETTO:-0500
TZNAME:CDT
DTSTART:20240310T080000
END:DAYLIGHT
BEGIN:STANDARD
TZOFFSETFROM:-0500
TZOFFSETTO:-0600
TZNAME:CST
DTSTART:20241103T070000
END:STANDARD
END:VTIMEZONE
BEGIN:VEVENT
DTSTART;TZID=America/Chicago:20240820T080000
DTEND;TZID=America/Chicago:20240820T170000
DTSTAMP:20260422T174958
CREATED:20240809T135649Z
LAST-MODIFIED:20241115T225057Z
UID:57947-1724140800-1724173200@mecop.stagingthedigitalscratch.com
SUMMARY:CMS Monthly Provider Meeting
DESCRIPTION:TBA
URL:https://mecop.stagingthedigitalscratch.com/event/cms-monthly-provider-meeting-4/
LOCATION:Internet Live Webcast
CATEGORIES:AMA
END:VEVENT
BEGIN:VEVENT
DTSTART;TZID=America/Chicago:20240818T080000
DTEND;TZID=America/Chicago:20240818T170000
DTSTAMP:20260422T174958
CREATED:20240819T143010Z
LAST-MODIFIED:20240922T203448Z
UID:58011-1723968000-1724000400@mecop.stagingthedigitalscratch.com
SUMMARY:DEA Training Course
DESCRIPTION:Unavailable
URL:https://mecop.stagingthedigitalscratch.com/event/dea-training-course-3/
LOCATION:Enduring Material
CATEGORIES:AMA,Prescribing of Controlled Substances
END:VEVENT
BEGIN:VEVENT
DTSTART;TZID=America/Chicago:20240815T080000
DTEND;TZID=America/Chicago:20240815T170000
DTSTAMP:20260422T174958
CREATED:20240815T185028Z
LAST-MODIFIED:20240829T153123Z
UID:57998-1723708800-1723741200@mecop.stagingthedigitalscratch.com
SUMMARY:FSU Fundamentals of Teaching in the FSU COM Clinical Education Program II Module
DESCRIPTION:Unavailable
URL:https://mecop.stagingthedigitalscratch.com/event/fsu-fundamentals-of-teaching-in-the-fsu-com-clinical-education-program-ii-module-6/
LOCATION:Enduring Material
CATEGORIES:AMA
END:VEVENT
BEGIN:VEVENT
DTSTART;TZID=America/Chicago:20240814T123000
DTEND;TZID=America/Chicago:20240814T133000
DTSTAMP:20260422T174958
CREATED:20240205T184901Z
LAST-MODIFIED:20240821T160646Z
UID:55669-1723638600-1723642200@mecop.stagingthedigitalscratch.com
SUMMARY:MUSM Pediatric Advancement Speakers' Series
DESCRIPTION:Describe the epidemiology and clinical presentation of congenital syphilis and HIV\nInitiate an appropriate work-up to evaluate an infant for congenital syphilis and HIV\nInterpret maternal and infant testing to determine whether an infant has congenital syphilis and/or congenital HIV\nAppropriately treat an infant with congenital syphilis\nAppropriately start prophylaxis for an infant with perinatal HIV exposure
URL:https://mecop.stagingthedigitalscratch.com/event/musm-pediatric-advancement-speakers-series-2/
LOCATION:Live
CATEGORIES:AMA
END:VEVENT
BEGIN:VEVENT
DTSTART;TZID=America/Chicago:20240814T080000
DTEND;TZID=America/Chicago:20240814T170000
DTSTAMP:20260422T174958
CREATED:20240814T130415Z
LAST-MODIFIED:20240814T130415Z
UID:57988-1723622400-1723654800@mecop.stagingthedigitalscratch.com
SUMMARY:General Adult Tumor Board 2024
DESCRIPTION:Unavailable
URL:https://mecop.stagingthedigitalscratch.com/event/general-adult-tumor-board-2024-21/
LOCATION:Ascension Sacred Heart Hospital\, FL
CATEGORIES:AMA
END:VEVENT
BEGIN:VEVENT
DTSTART;TZID=America/Chicago:20240813T000000
DTEND;TZID=America/Chicago:20240813T000000
DTSTAMP:20260422T174958
CREATED:20240829T150515Z
LAST-MODIFIED:20250324T143311Z
UID:58186-1723507200-1723507200@mecop.stagingthedigitalscratch.com
SUMMARY:Summit Medical Grand Rounds: Coronary CTA
DESCRIPTION:See content.
URL:https://mecop.stagingthedigitalscratch.com/event/summit-medical-grand-rounds-7/
LOCATION:Live Webcast
CATEGORIES:AMA
END:VEVENT
BEGIN:VEVENT
DTSTART;TZID=America/Chicago:20240812T080000
DTEND;TZID=America/Chicago:20240812T170000
DTSTAMP:20260422T174958
CREATED:20250226T163612Z
LAST-MODIFIED:20250226T163622Z
UID:61443-1723449600-1723482000@mecop.stagingthedigitalscratch.com
SUMMARY:Community Medical Services Provider Manual: Addiction Primer
DESCRIPTION:None/See Content.
URL:https://mecop.stagingthedigitalscratch.com/event/community-medical-services-provider-manual-addiction-primer-7/
LOCATION:Enduring Material
CATEGORIES:AMA
END:VEVENT
BEGIN:VEVENT
DTSTART;TZID=America/Chicago:20240809T080000
DTEND;TZID=America/Chicago:20240809T170000
DTSTAMP:20260422T174958
CREATED:20241107T162132Z
LAST-MODIFIED:20241210T200031Z
UID:59191-1723190400-1723222800@mecop.stagingthedigitalscratch.com
SUMMARY:2024 Faculty Teaching Credits Internal Medicine/Geriatrics Clerkship
DESCRIPTION:Unavailable
URL:https://mecop.stagingthedigitalscratch.com/event/2024-faculty-teaching-credits-internal-medicine-geriatrics-clerkship/
LOCATION:Daytona Beach Regional Campus\, 1200 W International Speedway\, Daytona Beach\, FL\, 32114\, United States
CATEGORIES:AMA
END:VEVENT
BEGIN:VEVENT
DTSTART;TZID=America/Chicago:20240809T080000
DTEND;TZID=America/Chicago:20240809T170000
DTSTAMP:20260422T174958
CREATED:20241022T185530Z
LAST-MODIFIED:20241022T190229Z
UID:58993-1723190400-1723222800@mecop.stagingthedigitalscratch.com
SUMMARY:2024 Faculty Teaching Credits Special Topics in Health Research
DESCRIPTION:Unavailable
URL:https://mecop.stagingthedigitalscratch.com/event/2024-faculty-teaching-credits-special-topics-in-health-research/
LOCATION:Orlando Regional Campus\, Orlando\, FL\, United States
CATEGORIES:AMA
END:VEVENT
BEGIN:VEVENT
DTSTART;TZID=America/Chicago:20240809T080000
DTEND;TZID=America/Chicago:20240809T170000
DTSTAMP:20260422T174958
CREATED:20240821T180053Z
LAST-MODIFIED:20241204T185417Z
UID:58051-1723190400-1723222800@mecop.stagingthedigitalscratch.com
SUMMARY:2024 Faculty Teaching Credits Emergency Medicine Clerkship
DESCRIPTION:Unavailable
URL:https://mecop.stagingthedigitalscratch.com/event/2024-faculty-teaching-credits-emergency-medicine-clerkship-3/
LOCATION:Fort Pierce Regional Campus\, 1200 W International Speedway Blvd #101\, Daytona Beach\, FL\, 32114\, United States
CATEGORIES:AMA
END:VEVENT
BEGIN:VEVENT
DTSTART;TZID=America/Chicago:20240809T080000
DTEND;TZID=America/Chicago:20240809T170000
DTSTAMP:20260422T174958
CREATED:20240812T170845Z
LAST-MODIFIED:20240813T004324Z
UID:57965-1723190400-1723222800@mecop.stagingthedigitalscratch.com
SUMMARY:Risk Adjustment and Pulmonary Conditions
DESCRIPTION:Review CMS-HCC risk adjustment model and why it is important\nReview specific official ICD-10-CM coding guidelines and how they are applied for HCC diagnosis coding\nIdentify elements of the medical record that help support the validation of an HCC diagnosis condition\nIdentify documentation deficiencies for specific conditions
URL:https://mecop.stagingthedigitalscratch.com/event/risk-adjustment-and-pulmonary-conditions/
LOCATION:Live Webinar
CATEGORIES:AMA
END:VEVENT
BEGIN:VEVENT
DTSTART;TZID=America/Chicago:20240808T080000
DTEND;TZID=America/Chicago:20240808T170000
DTSTAMP:20260422T174958
CREATED:20240809T133551Z
LAST-MODIFIED:20240812T165937Z
UID:57945-1723104000-1723136400@mecop.stagingthedigitalscratch.com
SUMMARY:Risk Adjustment and Reaching the Vertical Limit
DESCRIPTION:Review CMS-HCC risk adjustment model and why it is important\nReview specific official ICD-10-CM coding guidelines and how they are applied for HCC diagnosis coding\nIdentify elements of the medical record that help support the validation of an HCC diagnosis condition\nIdentify documentation deficiencies for specific conditions
URL:https://mecop.stagingthedigitalscratch.com/event/risk-adjustment-and-reaching-the-vertical-limit/
LOCATION:Live Webinar
CATEGORIES:AMA
END:VEVENT
BEGIN:VEVENT
DTSTART;TZID=America/Chicago:20240807T080000
DTEND;TZID=America/Chicago:20240807T170000
DTSTAMP:20260422T174958
CREATED:20240807T124620Z
LAST-MODIFIED:20240807T124620Z
UID:57917-1723017600-1723050000@mecop.stagingthedigitalscratch.com
SUMMARY:General Adult Tumor Board 2024
DESCRIPTION:Unavailable
URL:https://mecop.stagingthedigitalscratch.com/event/general-adult-tumor-board-2024-20/
LOCATION:Ascension Sacred Heart Hospital\, FL
CATEGORIES:AMA
END:VEVENT
BEGIN:VEVENT
DTSTART;TZID=America/Chicago:20240806T080000
DTEND;TZID=America/Chicago:20240806T170000
DTSTAMP:20260422T174958
CREATED:20240911T184347Z
LAST-MODIFIED:20241020T135236Z
UID:58318-1722931200-1722963600@mecop.stagingthedigitalscratch.com
SUMMARY:FSU-Ft. Pierce
DESCRIPTION:1. Describe 3 features of the FSUCOM curriculum that you would include in a conversation with someone who was unfamiliar with the curriculum.\n2. Identify learning objectives you can help the FSUCOM student accomplish that are located in the syllabus specific to the required clerkship or elective rotation on which you teach.\n3. List the three characteristics/skills of effective clinical teachers that you feel are particularly/most important.\n4. List/describe one characteristic of effective teachers that you feel need to enhance and one characteristic/skill you feel is a strength at this time.\n5. Describe the wave model which is a teaching strategy designed to help make teaching in the ambulatory setting efficient.\n6. Describe how to provide an orientation at the beginning of a clerkship to a student arriving at your office or clinical setting.\n7. Describe the ARCH model for giving feedback to the student.
URL:https://mecop.stagingthedigitalscratch.com/event/fsu-ft-pierce/
LOCATION:Fort Pierce Regional Campus\, 1200 W International Speedway Blvd #101\, Daytona Beach\, FL\, 32114\, United States
CATEGORIES:AMA
END:VEVENT
BEGIN:VEVENT
DTSTART;TZID=America/Chicago:20240805T080000
DTEND;TZID=America/Chicago:20240805T170000
DTSTAMP:20260422T174958
CREATED:20240920T163809Z
LAST-MODIFIED:20240920T164732Z
UID:58420-1722844800-1722877200@mecop.stagingthedigitalscratch.com
SUMMARY:ANI Dermal Filler Training
DESCRIPTION:Describe the facial anatomy involved in ageing\, and understand how the loss of volume in the fat pads impact appearance. \nOutline the various dermal filler categories\, products and brands available. \nPerform a patient consultation and prepare the product for administration.. \nIdentify contraindications and adverse events and perform appropriate management \nInject dermal filler on a variety of patients to successfully address their ageing concern.
URL:https://mecop.stagingthedigitalscratch.com/event/ani-dermal-filler-training/
LOCATION:Houston\, TX
CATEGORIES:AMA
END:VEVENT
BEGIN:VEVENT
DTSTART;TZID=America/Chicago:20240805T080000
DTEND;TZID=America/Chicago:20240805T170000
DTSTAMP:20260422T174958
CREATED:20240920T162928Z
LAST-MODIFIED:20240920T164856Z
UID:58417-1722844800-1722877200@mecop.stagingthedigitalscratch.com
SUMMARY:ANI Neurotoxin Training
DESCRIPTION:Outline facial skin and muscle anatomy and changes introduced throughout ageing. \nIdentify common landmarks for neurotoxin injections and the desired result. \nOutline risks and complications. \nDifferentiate between all available neurotoxins and their approved and off-label usages. \nConvert and dilute each neurotoxin product appropriately. \nPerform neurotoxin injections succesfully on multiple patients under direct supervision. \n 
URL:https://mecop.stagingthedigitalscratch.com/event/ani-neurotoxin-training/
LOCATION:Houston\, TX
CATEGORIES:AMA
END:VEVENT
BEGIN:VEVENT
DTSTART;TZID=America/Chicago:20240805T080000
DTEND;TZID=America/Chicago:20240805T170000
DTSTAMP:20260422T174958
CREATED:20240812T173355Z
LAST-MODIFIED:20240829T151847Z
UID:57968-1722844800-1722877200@mecop.stagingthedigitalscratch.com
SUMMARY:FSU Fundamentals of Teaching in the FSU COM Clinical Education Program I Module
DESCRIPTION:Unavailable
URL:https://mecop.stagingthedigitalscratch.com/event/fsu-fundamentals-of-teaching-in-the-fsu-com-clinical-education-program-module-3/
LOCATION:Enduring Material
CATEGORIES:AMA
END:VEVENT
BEGIN:VEVENT
DTSTART;TZID=America/Chicago:20240805T000000
DTEND;TZID=America/Chicago:20240805T000000
DTSTAMP:20260422T174958
CREATED:20240111T235420Z
LAST-MODIFIED:20241115T172245Z
UID:55167-1722816000-1722816000@mecop.stagingthedigitalscratch.com
SUMMARY:PEEP Pediatric Chronic Conditions
DESCRIPTION:Review CMS-HCC risk adjustment model and why it is important\nReview specific official ICD-10-CM coding guidelines and how they are applied for HCC diagnosis coding\nIdentify elements of the medical record that help support the validation of an HCC diagnosis condition\nIdentify documentation deficiencies for specific conditions.
URL:https://mecop.stagingthedigitalscratch.com/event/peep-pediatric-chronic-conditions-2/
LOCATION:Internet Enduring Material
CATEGORIES:AMA
END:VEVENT
BEGIN:VEVENT
DTSTART;TZID=America/Chicago:20240803T080000
DTEND;TZID=America/Chicago:20240803T170000
DTSTAMP:20260422T174958
CREATED:20240827T154934Z
LAST-MODIFIED:20240827T155027Z
UID:58138-1722672000-1722704400@mecop.stagingthedigitalscratch.com
SUMMARY:BLS Instructor Essentials Online
DESCRIPTION:Unavailable
URL:https://mecop.stagingthedigitalscratch.com/event/bls-instructor-essentials-online/
LOCATION:Enduring Material
CATEGORIES:AMA
END:VEVENT
BEGIN:VEVENT
DTSTART;TZID=America/Chicago:20240802T080000
DTEND;TZID=America/Chicago:20240802T170000
DTSTAMP:20260422T174958
CREATED:20240805T180231Z
LAST-MODIFIED:20241004T215433Z
UID:57902-1722585600-1722618000@mecop.stagingthedigitalscratch.com
SUMMARY:PEEP Risk Adjustment and Vascular Disease
DESCRIPTION:Review CMS-HCC risk adjustment model and why it is important\nReview specific official ICD-10-CM coding guidelines and how they are applied for HCC diagnosis coding\nIdentify elements of the medical record that help support the validation of an HCC diagnosis condition\nIdentify documentation deficiencies for specific conditions
URL:https://mecop.stagingthedigitalscratch.com/event/peep-risk-adjustment-and-vascular-disease-3/
LOCATION:Internet Enduring Material
CATEGORIES:AMA
END:VEVENT
BEGIN:VEVENT
DTSTART;TZID=America/Chicago:20240802T080000
DTEND;TZID=America/Chicago:20240802T170000
DTSTAMP:20260422T174958
CREATED:20240805T142454Z
LAST-MODIFIED:20240805T144108Z
UID:57876-1722585600-1722618000@mecop.stagingthedigitalscratch.com
SUMMARY:Florida Medical Licensure Program
DESCRIPTION:Unavailable
URL:https://mecop.stagingthedigitalscratch.com/event/florida-medical-licensure-program/
LOCATION:Enduring Material
CATEGORIES:AMA,DV,MedErrors,Prescribing of Controlled Substances
END:VEVENT
BEGIN:VEVENT
DTSTART;TZID=America/Chicago:20240801T000000
DTEND;TZID=America/Chicago:20240801T000000
DTSTAMP:20260422T174958
CREATED:20240111T231701Z
LAST-MODIFIED:20241004T215102Z
UID:55139-1722470400-1722470400@mecop.stagingthedigitalscratch.com
SUMMARY:PEEP Risk Adjustment Heart Failure and Arrhythmias
DESCRIPTION:Review CMS-HCC risk adjustment model and why it is important\nReview specific official ICD-10-CM coding guidelines and how they are applied for HCC diagnosis coding\nIdentify elements of the medical record that help support the validation of an HCC diagnosis condition\nIdentify documentation deficiencies for specific conditions
URL:https://mecop.stagingthedigitalscratch.com/event/peep-risk-adjustment-heart-failure-and-arrhythmias-2/
LOCATION:Internet Enduring Material
CATEGORIES:AMA
END:VEVENT
BEGIN:VEVENT
DTSTART;TZID=America/Chicago:20240729T080000
DTEND;TZID=America/Chicago:20240729T170000
DTSTAMP:20260422T174958
CREATED:20241014T195307Z
LAST-MODIFIED:20241014T195545Z
UID:58683-1722240000-1722272400@mecop.stagingthedigitalscratch.com
SUMMARY:Fetal Heart Monitoring (v2)
DESCRIPTION:Unavailable
URL:https://mecop.stagingthedigitalscratch.com/event/fetal-heart-monitoring-v2-4/
LOCATION:Enduring Material
CATEGORIES:AMA
END:VEVENT
BEGIN:VEVENT
DTSTART;TZID=America/Chicago:20240729T080000
DTEND;TZID=America/Chicago:20240729T170000
DTSTAMP:20260422T174958
CREATED:20240731T210811Z
LAST-MODIFIED:20240731T213926Z
UID:57817-1722240000-1722272400@mecop.stagingthedigitalscratch.com
SUMMARY:Nemours Children's Health Completed Activities
DESCRIPTION:Unavailable
URL:https://mecop.stagingthedigitalscratch.com/event/nemours-childrens-health-completed-activities/
LOCATION:Live
CATEGORIES:AMA
END:VEVENT
BEGIN:VEVENT
DTSTART;TZID=America/Chicago:20240727T080000
DTEND;TZID=America/Chicago:20240727T170000
DTSTAMP:20260422T174958
CREATED:20240827T154505Z
LAST-MODIFIED:20240827T162618Z
UID:58136-1722067200-1722099600@mecop.stagingthedigitalscratch.com
SUMMARY:Question of the Week
DESCRIPTION:Unavailable
URL:https://mecop.stagingthedigitalscratch.com/event/question-of-the-week-12/
LOCATION:Enduring Material
CATEGORIES:AMA
END:VEVENT
BEGIN:VEVENT
DTSTART;TZID=America/Chicago:20240727T080000
DTEND;TZID=America/Chicago:20240727T170000
DTSTAMP:20260422T174958
CREATED:20240801T140419Z
LAST-MODIFIED:20240801T143451Z
UID:57831-1722067200-1722099600@mecop.stagingthedigitalscratch.com
SUMMARY:Method Aesthetics Academy: Level 2 Training
DESCRIPTION:Upon completion\, learners will:\nAssess and place lower face neuromodulators and neuromodulators for medical necessity\nPlace and inject dermal filler for tear troughs\, temples\, brow bone\, jaw and chin\nSelect\, place and utilize cannulas effectively
URL:https://mecop.stagingthedigitalscratch.com/event/method-aesthetics-academy-level-2-training-6/
LOCATION:Mela MedSpa
CATEGORIES:AMA
END:VEVENT
BEGIN:VEVENT
DTSTART;TZID=America/Chicago:20240727T080000
DTEND;TZID=America/Chicago:20240727T170000
DTSTAMP:20260422T174958
CREATED:20240729T202522Z
LAST-MODIFIED:20240729T202725Z
UID:57779-1722067200-1722099600@mecop.stagingthedigitalscratch.com
SUMMARY:EMedHome CME Transcript
DESCRIPTION:Unavailable
URL:https://mecop.stagingthedigitalscratch.com/event/emedhome-com-cme-transcript-2/
LOCATION:Enduring materials
CATEGORIES:AMA
END:VEVENT
BEGIN:VEVENT
DTSTART;TZID=America/Chicago:20240726T080000
DTEND;TZID=America/Chicago:20240726T170000
DTSTAMP:20260422T174958
CREATED:20241209T140424Z
LAST-MODIFIED:20241209T140424Z
UID:59988-1721980800-1722013200@mecop.stagingthedigitalscratch.com
SUMMARY:2024 Faculty Teaching Credits Special Topics in Internal Medicine
DESCRIPTION:Unavailable
URL:https://mecop.stagingthedigitalscratch.com/event/2024-faculty-teaching-credits-special-topics-in-internal-medicine/
LOCATION:Fort Pierce Regional Campus\, 1200 W International Speedway Blvd #101\, Daytona Beach\, FL\, 32114\, United States
CATEGORIES:AMA
END:VEVENT
BEGIN:VEVENT
DTSTART;TZID=America/Chicago:20240726T080000
DTEND;TZID=America/Chicago:20240726T170000
DTSTAMP:20260422T174958
CREATED:20240807T195236Z
LAST-MODIFIED:20240807T195502Z
UID:57920-1721980800-1722013200@mecop.stagingthedigitalscratch.com
SUMMARY:2024 Faculty Teaching Credits Pulmonary and Critical Care Medicine Clerkship
DESCRIPTION:Unavailable
URL:https://mecop.stagingthedigitalscratch.com/event/2024-faculty-teaching-credits-pulmonary-and-critical-care-medicine/
LOCATION:Sarasota Regional Campus\, 5560 Bee Ridge Rd\, Sarasota\, FL\, 34233\, United States
CATEGORIES:AMA
END:VEVENT
BEGIN:VEVENT
DTSTART;TZID=America/Chicago:20240726T080000
DTEND;TZID=America/Chicago:20240726T170000
DTSTAMP:20260422T174958
CREATED:20240729T172508Z
LAST-MODIFIED:20240729T172508Z
UID:57759-1721980800-1722013200@mecop.stagingthedigitalscratch.com
SUMMARY:Prescribing Controlled Substances
DESCRIPTION:Unavailable
URL:https://mecop.stagingthedigitalscratch.com/event/prescribing-controlled-substances-6/
LOCATION:Enduring Activity
CATEGORIES:AMA,Prescribing of Controlled Substances
END:VEVENT
END:VCALENDAR