BEGIN:VCALENDAR
VERSION:2.0
PRODID:-//Mecop - ECPv6.5.1.5//NONSGML v1.0//EN
CALSCALE:GREGORIAN
METHOD:PUBLISH
X-WR-CALNAME:Mecop
X-ORIGINAL-URL:https://mecop.stagingthedigitalscratch.com
X-WR-CALDESC:Events for Mecop
REFRESH-INTERVAL;VALUE=DURATION:PT1H
X-Robots-Tag:noindex
X-PUBLISHED-TTL:PT1H
BEGIN:VTIMEZONE
TZID:America/Chicago
BEGIN:DAYLIGHT
TZOFFSETFROM:-0600
TZOFFSETTO:-0500
TZNAME:CDT
DTSTART:20240310T080000
END:DAYLIGHT
BEGIN:STANDARD
TZOFFSETFROM:-0500
TZOFFSETTO:-0600
TZNAME:CST
DTSTART:20241103T070000
END:STANDARD
END:VTIMEZONE
BEGIN:VEVENT
DTSTART;TZID=America/Chicago:20240904T080000
DTEND;TZID=America/Chicago:20240904T170000
DTSTAMP:20260422T192342
CREATED:20240904T190405Z
LAST-MODIFIED:20240904T191339Z
UID:58230-1725436800-1725469200@mecop.stagingthedigitalscratch.com
SUMMARY:General Adult Tumor Board 2024
DESCRIPTION:Unavailable
URL:https://mecop.stagingthedigitalscratch.com/event/general-adult-tumor-board-2024-22/
LOCATION:Ascension Sacred Heart Hospital\, FL
CATEGORIES:AMA
END:VEVENT
BEGIN:VEVENT
DTSTART;TZID=America/Chicago:20240901T080000
DTEND;TZID=America/Chicago:20240901T170000
DTSTAMP:20260422T192342
CREATED:20241009T233305Z
LAST-MODIFIED:20241009T233508Z
UID:58669-1725177600-1725210000@mecop.stagingthedigitalscratch.com
SUMMARY:Preceptor for the Alabama College of Osteopathic Medicine Students
DESCRIPTION:Unavailable
URL:https://mecop.stagingthedigitalscratch.com/event/preceptor-for-the-alabama-college-of-osteopathic-medicine-students/
LOCATION:Preceptor
CATEGORIES:AMA
END:VEVENT
BEGIN:VEVENT
DTSTART;TZID=America/Chicago:20240827T080000
DTEND;TZID=America/Chicago:20240827T170000
DTSTAMP:20260422T192342
CREATED:20240827T183018Z
LAST-MODIFIED:20240829T172523Z
UID:58152-1724745600-1724778000@mecop.stagingthedigitalscratch.com
SUMMARY:Risk Adjustment and Reaching the Vertical Limit
DESCRIPTION:Review CMS-HCC risk adjustment model and why it is important\nReview specific official ICD-10-CM coding guidelines and how they are applied for HCC diagnosis coding\nIdentify elements of the medical record that help support the validation of an HCC diagnosis condition\nIdentify documentation deficiencies for specific conditions
URL:https://mecop.stagingthedigitalscratch.com/event/risk-adjustment-and-reaching-the-vertical-limit-2/
LOCATION:Live Webinar
CATEGORIES:AMA
END:VEVENT
BEGIN:VEVENT
DTSTART;TZID=America/Chicago:20240826T080000
DTEND;TZID=America/Chicago:20240826T170000
DTSTAMP:20260422T192342
CREATED:20241114T150307Z
LAST-MODIFIED:20241114T150502Z
UID:59322-1724659200-1724691600@mecop.stagingthedigitalscratch.com
SUMMARY:2024 Faculty Teaching Credits Pediatric Neonatal Clerkship
DESCRIPTION:Unavailable
URL:https://mecop.stagingthedigitalscratch.com/event/2024-faculty-teaching-credits-pediatric-neonatal-clerkship/
LOCATION:Pensacola Regional Campus\, 11000 University Parkway Bldg 234\, 2nd Floor\, Pensacola\, FL\, 32514-5750\, United States
CATEGORIES:AMA
END:VEVENT
BEGIN:VEVENT
DTSTART;TZID=America/Chicago:20240826T080000
DTEND;TZID=America/Chicago:20240826T170000
DTSTAMP:20260422T192342
CREATED:20240827T153421Z
LAST-MODIFIED:20240827T153630Z
UID:58130-1724659200-1724691600@mecop.stagingthedigitalscratch.com
SUMMARY:NCHFL Florida Cardiac Center Surgical Case Conference
DESCRIPTION:Unavailable
URL:https://mecop.stagingthedigitalscratch.com/event/nchfl-florida-cardiac-center-surgical-case-conference/
LOCATION:Educational Activity
CATEGORIES:AMA
END:VEVENT
BEGIN:VEVENT
DTSTART;TZID=America/Chicago:20240823T080000
DTEND;TZID=America/Chicago:20240823T170000
DTSTAMP:20260422T192342
CREATED:20241205T145435Z
LAST-MODIFIED:20241205T150740Z
UID:59879-1724400000-1724432400@mecop.stagingthedigitalscratch.com
SUMMARY:2024 Faculty Teaching Credits OBGYN Clerkship
DESCRIPTION:Unavailable
URL:https://mecop.stagingthedigitalscratch.com/event/2024-faculty-teaching-credits-obgyn-clerkship-2/
LOCATION:Tallahassee Regional Campus\, Tallahassee\, FL\, United States
CATEGORIES:AMA
END:VEVENT
BEGIN:VEVENT
DTSTART;TZID=America/Chicago:20240823T080000
DTEND;TZID=America/Chicago:20240823T170000
DTSTAMP:20260422T192342
CREATED:20241118T130623Z
LAST-MODIFIED:20241118T130623Z
UID:59450-1724400000-1724432400@mecop.stagingthedigitalscratch.com
SUMMARY:2024 Faculty Teaching Credits Internal Medicine/Pulmonary Clerkship
DESCRIPTION:Unavailable
URL:https://mecop.stagingthedigitalscratch.com/event/2024-faculty-teaching-credits-internal-medicine-pulmonary-clerkship/
LOCATION:Daytona Beach Regional Campus\, 1200 W International Speedway\, Daytona Beach\, FL\, 32114\, United States
CATEGORIES:AMA
END:VEVENT
BEGIN:VEVENT
DTSTART;TZID=America/Chicago:20240823T080000
DTEND;TZID=America/Chicago:20240823T170000
DTSTAMP:20260422T192342
CREATED:20241030T184028Z
LAST-MODIFIED:20241030T190428Z
UID:59113-1724400000-1724432400@mecop.stagingthedigitalscratch.com
SUMMARY:2024 Faculty Teaching Credits Anesthesiology Clerkship
DESCRIPTION:Unavailable
URL:https://mecop.stagingthedigitalscratch.com/event/2024-faculty-teaching-credits-anesthesiology-clerkship-3/
LOCATION:Tallahassee Regional Campus\, Tallahassee\, FL\, United States
CATEGORIES:AMA
END:VEVENT
BEGIN:VEVENT
DTSTART;TZID=America/Chicago:20240823T080000
DTEND;TZID=America/Chicago:20240823T170000
DTSTAMP:20260422T192342
CREATED:20241015T204610Z
LAST-MODIFIED:20241208T151220Z
UID:58702-1724400000-1724432400@mecop.stagingthedigitalscratch.com
SUMMARY:2024 Faculty Teaching Credits Orthopedic Surgery Clerkship
DESCRIPTION:Unavailable
URL:https://mecop.stagingthedigitalscratch.com/event/2024-faculty-teaching-credits-orthopedic-surgery-clerkship-2/
LOCATION:Pensacola Regional Campus\, 11000 University Parkway Bldg 234\, 2nd Floor\, Pensacola\, FL\, 32514-5750\, United States
CATEGORIES:AMA
END:VEVENT
BEGIN:VEVENT
DTSTART;TZID=America/Chicago:20240823T080000
DTEND;TZID=America/Chicago:20240823T170000
DTSTAMP:20260422T192342
CREATED:20240904T175208Z
LAST-MODIFIED:20240904T175208Z
UID:58226-1724400000-1724432400@mecop.stagingthedigitalscratch.com
SUMMARY:2024 Faculty Teaching Credits Behavioral and Mental Health Clerkship
DESCRIPTION:Unavailable
URL:https://mecop.stagingthedigitalscratch.com/event/2024-faculty-teaching-credits-behavioral-and-mental-health-clerkship-2/
LOCATION:Orlando Regional Campus\, Orlando\, FL\, United States
CATEGORIES:AMA
END:VEVENT
BEGIN:VEVENT
DTSTART;TZID=America/Chicago:20240823T080000
DTEND;TZID=America/Chicago:20240823T170000
DTSTAMP:20260422T192342
CREATED:20240827T211357Z
LAST-MODIFIED:20241202T205817Z
UID:58168-1724400000-1724432400@mecop.stagingthedigitalscratch.com
SUMMARY:2024 Faculty Teaching Credits Surgery Clerkship
DESCRIPTION:Unavailable
URL:https://mecop.stagingthedigitalscratch.com/event/2024-faculty-teaching-credits-surgery-clerkship-3/
LOCATION:Pensacola Regional Campus\, 11000 University Parkway Bldg 234\, 2nd Floor\, Pensacola\, FL\, 32514-5750\, United States
CATEGORIES:AMA
END:VEVENT
BEGIN:VEVENT
DTSTART;TZID=America/Chicago:20240823T080000
DTEND;TZID=America/Chicago:20240823T170000
DTSTAMP:20260422T192342
CREATED:20240827T194813Z
LAST-MODIFIED:20240827T195911Z
UID:58159-1724400000-1724432400@mecop.stagingthedigitalscratch.com
SUMMARY:2024 Faculty Teaching Credits Pediatric Gastroenterology Clerkship
DESCRIPTION:Unavailable
URL:https://mecop.stagingthedigitalscratch.com/event/2024-faculty-teaching-credits-pediatrics-and-gastroenterology-clerkship/
LOCATION:Pensacola Regional Campus\, 11000 University Parkway Bldg 234\, 2nd Floor\, Pensacola\, FL\, 32514-5750\, United States
CATEGORIES:AMA
END:VEVENT
BEGIN:VEVENT
DTSTART;TZID=America/Chicago:20240822T180000
DTEND;TZID=America/Chicago:20240822T200000
DTSTAMP:20260422T192342
CREATED:20240716T133750Z
LAST-MODIFIED:20240829T183928Z
UID:57631-1724349600-1724356800@mecop.stagingthedigitalscratch.com
SUMMARY:FSU-Tallahassee
DESCRIPTION:Learning Objectives. Participants will learn to:\n– Identify the subscription medical apps available\n– Identify the mobile friendly library subscription resources available thru the mobile friendly library site\n– Register and install subscription medical apps\n– Identify highly recommended free and inexpensive medical apps\n– Use the basic navigation tools of the primary apps\n– Get help loading the medical applications provided by the College of Medicine to its faculty/students/residents
URL:https://mecop.stagingthedigitalscratch.com/event/intro-to-med-mobile-apps/
LOCATION:2619 Centennial Blvd Suite 101
CATEGORIES:AMA
END:VEVENT
BEGIN:VEVENT
DTSTART;TZID=America/Chicago:20240822T080000
DTEND;TZID=America/Chicago:20240822T170000
DTSTAMP:20260422T192342
CREATED:20240923T141505Z
LAST-MODIFIED:20240923T141739Z
UID:58428-1724313600-1724346000@mecop.stagingthedigitalscratch.com
SUMMARY:NFO Business of Medicine Web Series: Against Medical Advice  - Autonomy Versus Safety
DESCRIPTION:Whether from a place of personal autonomy or distrust\, patients are refusing medical care and advice at a point in care that could have significant consequences\, which is referred to as leaving “against medical advice.” This program discusses the competing interests of autonomy and safety\, and the foundation for informed consent is described. The informed consent/informed refusal process and documentation are addressed in the context of leaving against medical advice. Strategies to obtain the best outcomes for both the patient and the healthcare provider when a patient leaves against medical advice are also provided. \nObjectives:  Discuss the competing interests of autonomy and safety.  Describe the foundation for informed consent. Reinforce the informed consent \, informed refusal process and documentation. Identify what constitutes against medical advice. Discuss leaving AMA prevention methods and documentation.
URL:https://mecop.stagingthedigitalscratch.com/event/nfo-business-of-medicine-web-series-against-medical-advice-autonomy-versus-safety/
LOCATION:Live Webcast
CATEGORIES:AMA
END:VEVENT
BEGIN:VEVENT
DTSTART;TZID=America/Chicago:20240822T080000
DTEND;TZID=America/Chicago:20240822T170000
DTSTAMP:20260422T192342
CREATED:20240902T154855Z
LAST-MODIFIED:20240902T161507Z
UID:58206-1724313600-1724346000@mecop.stagingthedigitalscratch.com
SUMMARY:FADAA Co-Occurring Disorders
DESCRIPTION:This session address gaps in disorders that co-occur with substance abuse.  By end of session\, learners will: \nDEFINE co-occurring disorders. \nDISCUSS the prevalence and risk factors for co-occurring disorders. \nIDENTIFY and ASSESS needs for care and services related to co-occurring disorders. \nEVALUATE each individual patient and REFER when appropriate.
URL:https://mecop.stagingthedigitalscratch.com/event/fadaa-co-occurring-disorders-2/
LOCATION:Live
CATEGORIES:AMA
END:VEVENT
BEGIN:VEVENT
DTSTART;TZID=America/Chicago:20240822T080000
DTEND;TZID=America/Chicago:20240822T170000
DTSTAMP:20260422T192342
CREATED:20240822T213436Z
LAST-MODIFIED:20240827T175741Z
UID:58093-1724313600-1724346000@mecop.stagingthedigitalscratch.com
SUMMARY:Risk Adjustment and The Facts of Life about Pediatric Conditions
DESCRIPTION:Review CMS-HCC risk adjustment model and why it is important\nReview specific official ICD-10-CM coding guidelines and how they are applied for HCC diagnosis coding\nIdentify elements of the medical record that help support the validation of an HCC diagnosis condition\nIdentify documentation deficiencies for specific conditions
URL:https://mecop.stagingthedigitalscratch.com/event/risk-adjustment-and-the-facts-of-life-about-pediatric-conditions-2/
LOCATION:Live Webinar
CATEGORIES:AMA
END:VEVENT
BEGIN:VEVENT
DTSTART;TZID=America/Chicago:20240822T000000
DTEND;TZID=America/Chicago:20240822T000000
DTSTAMP:20260422T192342
CREATED:20240724T190332Z
LAST-MODIFIED:20241120T211701Z
UID:57738-1724284800-1724284800@mecop.stagingthedigitalscratch.com
SUMMARY:FSU-Pensacola
DESCRIPTION:Explain why it is important to be aware of generational differences.\nExplain the values within our own and other generations.\nExplain how knowledge of generational differences can be used to enhance the educational experience of our students
URL:https://mecop.stagingthedigitalscratch.com/event/fsu-pensacola-9/
LOCATION:Pensacola\, Florida\, Pensacola\, FL\, 32514\, United States
CATEGORIES:AMA
END:VEVENT
BEGIN:VEVENT
DTSTART;TZID=America/Chicago:20240821T080000
DTEND;TZID=America/Chicago:20240821T170000
DTSTAMP:20260422T192342
CREATED:20240902T162355Z
LAST-MODIFIED:20240902T162847Z
UID:58210-1724227200-1724259600@mecop.stagingthedigitalscratch.com
SUMMARY:FADAA Pregnancy and Medication for Opioid Use Disorder Program
DESCRIPTION:To discuss evidence-based\, multidisciplinary\, non-judgmental care for pregnant women with substance abuse disorders. \nTo establish contraceptive care and pharmaco-therapy protocols to care for women with OUD post partum before or upon discharge.
URL:https://mecop.stagingthedigitalscratch.com/event/fadaa-pregnancy-and-medication-for-opioid-use-disorder-program/
LOCATION:Live
CATEGORIES:AMA
END:VEVENT
BEGIN:VEVENT
DTSTART;TZID=America/Chicago:20240821T080000
DTEND;TZID=America/Chicago:20240821T170000
DTSTAMP:20260422T192342
CREATED:20240827T160016Z
LAST-MODIFIED:20240827T161744Z
UID:58142-1724227200-1724259600@mecop.stagingthedigitalscratch.com
SUMMARY:AAP Individual Activities
DESCRIPTION:Unavailable
URL:https://mecop.stagingthedigitalscratch.com/event/aap-summary-of-cme-credits/
LOCATION:Enduring materials
CATEGORIES:AMA
END:VEVENT
BEGIN:VEVENT
DTSTART;TZID=America/Chicago:20240821T080000
DTEND;TZID=America/Chicago:20240821T170000
DTSTAMP:20260422T192342
CREATED:20240728T211636Z
LAST-MODIFIED:20240826T174927Z
UID:57752-1724227200-1724259600@mecop.stagingthedigitalscratch.com
SUMMARY:Better Health Group Monthly Town Hall Meeting
DESCRIPTION:
URL:https://mecop.stagingthedigitalscratch.com/event/better-health-group-monthly-town-hall-meeting-5/
LOCATION:Zoom
CATEGORIES:AMA
END:VEVENT
BEGIN:VEVENT
DTSTART;TZID=America/Chicago:20240820T080000
DTEND;TZID=America/Chicago:20240820T170000
DTSTAMP:20260422T192342
CREATED:20240821T142402Z
LAST-MODIFIED:20240825T012604Z
UID:58038-1724140800-1724173200@mecop.stagingthedigitalscratch.com
SUMMARY:Risk Adjustment and The Facts of Life about Pediatric Conditions
DESCRIPTION:Review CMS-HCC risk adjustment model and why it is important\nReview specific official ICD-10-CM coding guidelines and how they are applied for HCC diagnosis coding\nIdentify elements of the medical record that help support the validation of an HCC diagnosis condition\nIdentify documentation deficiencies for specific conditions
URL:https://mecop.stagingthedigitalscratch.com/event/risk-adjustment-and-the-facts-of-life-about-pediatric-conditions/
LOCATION:Live Webinar
CATEGORIES:AMA
END:VEVENT
BEGIN:VEVENT
DTSTART;TZID=America/Chicago:20240820T080000
DTEND;TZID=America/Chicago:20240820T170000
DTSTAMP:20260422T192342
CREATED:20240821T141719Z
LAST-MODIFIED:20240823T212321Z
UID:58035-1724140800-1724173200@mecop.stagingthedigitalscratch.com
SUMMARY:Risk Adjustment and Reaching the Vertical Limit with Pulmonary Conditions Endeavour
DESCRIPTION:Review CMS-HCC risk adjustment model and why it is important\nReview specific official ICD-10-CM coding guidelines and how they are applied for HCC diagnosis coding\nIdentify elements of the medical record that help support the validation of an HCC diagnosis condition\nIdentify documentation deficiencies for specific conditions
URL:https://mecop.stagingthedigitalscratch.com/event/risk-adjustment-and-reaching-the-vertical-limit-with-pulmonary-conditions-endeavour/
LOCATION:Live Webinar
CATEGORIES:AMA
END:VEVENT
BEGIN:VEVENT
DTSTART;TZID=America/Chicago:20240820T080000
DTEND;TZID=America/Chicago:20240820T170000
DTSTAMP:20260422T192342
CREATED:20240821T141008Z
LAST-MODIFIED:20240825T012648Z
UID:58032-1724140800-1724173200@mecop.stagingthedigitalscratch.com
SUMMARY:Risk Adjustment and Pulmonary Conditions
DESCRIPTION:Review CMS-HCC risk adjustment model and why it is important\nReview specific official ICD-10-CM coding guidelines and how they are applied for HCC diagnosis coding\nIdentify elements of the medical record that help support the validation of an HCC diagnosis condition\nIdentify documentation deficiencies for specific conditions
URL:https://mecop.stagingthedigitalscratch.com/event/risk-adjustment-and-pulmonary-conditions-2/
LOCATION:Live Webinar
CATEGORIES:AMA
END:VEVENT
BEGIN:VEVENT
DTSTART;TZID=America/Chicago:20240820T080000
DTEND;TZID=America/Chicago:20240820T170000
DTSTAMP:20260422T192342
CREATED:20240820T131358Z
LAST-MODIFIED:20250324T143405Z
UID:58018-1724140800-1724173200@mecop.stagingthedigitalscratch.com
SUMMARY:Summit Medical Grand Rounds: Opioid Use Disorder in Primary Care
DESCRIPTION:Assess the evidence for using buprenorphine for a diagnosis of OUD in the primary care setting.\nDescribe trends in ambulatory practices among primary care providers in prescribing buprenorphine for OUD.\nReview office based ambulatory models of care for OUD and common causes for hesitation.\nList practical evidence-based tips for how to start a practice de novo.\nProvide the opportunity to discuss rewards and challenges in question-and-answer session.
URL:https://mecop.stagingthedigitalscratch.com/event/summit-medical-grand-rounds-6/
LOCATION:Knoxville\, TN
CATEGORIES:AMA
END:VEVENT
BEGIN:VEVENT
DTSTART;TZID=America/Chicago:20240820T080000
DTEND;TZID=America/Chicago:20240820T170000
DTSTAMP:20260422T192342
CREATED:20240809T135649Z
LAST-MODIFIED:20241115T225057Z
UID:57947-1724140800-1724173200@mecop.stagingthedigitalscratch.com
SUMMARY:CMS Monthly Provider Meeting
DESCRIPTION:TBA
URL:https://mecop.stagingthedigitalscratch.com/event/cms-monthly-provider-meeting-4/
LOCATION:Internet Live Webcast
CATEGORIES:AMA
END:VEVENT
BEGIN:VEVENT
DTSTART;TZID=America/Chicago:20240818T080000
DTEND;TZID=America/Chicago:20240818T170000
DTSTAMP:20260422T192342
CREATED:20240819T143010Z
LAST-MODIFIED:20240922T203448Z
UID:58011-1723968000-1724000400@mecop.stagingthedigitalscratch.com
SUMMARY:DEA Training Course
DESCRIPTION:Unavailable
URL:https://mecop.stagingthedigitalscratch.com/event/dea-training-course-3/
LOCATION:Enduring Material
CATEGORIES:AMA,Prescribing of Controlled Substances
END:VEVENT
BEGIN:VEVENT
DTSTART;TZID=America/Chicago:20240815T080000
DTEND;TZID=America/Chicago:20240815T170000
DTSTAMP:20260422T192342
CREATED:20240815T185028Z
LAST-MODIFIED:20240829T153123Z
UID:57998-1723708800-1723741200@mecop.stagingthedigitalscratch.com
SUMMARY:FSU Fundamentals of Teaching in the FSU COM Clinical Education Program II Module
DESCRIPTION:Unavailable
URL:https://mecop.stagingthedigitalscratch.com/event/fsu-fundamentals-of-teaching-in-the-fsu-com-clinical-education-program-ii-module-6/
LOCATION:Enduring Material
CATEGORIES:AMA
END:VEVENT
BEGIN:VEVENT
DTSTART;TZID=America/Chicago:20240814T123000
DTEND;TZID=America/Chicago:20240814T133000
DTSTAMP:20260422T192342
CREATED:20240205T184901Z
LAST-MODIFIED:20240821T160646Z
UID:55669-1723638600-1723642200@mecop.stagingthedigitalscratch.com
SUMMARY:MUSM Pediatric Advancement Speakers' Series
DESCRIPTION:Describe the epidemiology and clinical presentation of congenital syphilis and HIV\nInitiate an appropriate work-up to evaluate an infant for congenital syphilis and HIV\nInterpret maternal and infant testing to determine whether an infant has congenital syphilis and/or congenital HIV\nAppropriately treat an infant with congenital syphilis\nAppropriately start prophylaxis for an infant with perinatal HIV exposure
URL:https://mecop.stagingthedigitalscratch.com/event/musm-pediatric-advancement-speakers-series-2/
LOCATION:Live
CATEGORIES:AMA
END:VEVENT
BEGIN:VEVENT
DTSTART;TZID=America/Chicago:20240814T080000
DTEND;TZID=America/Chicago:20240814T170000
DTSTAMP:20260422T192342
CREATED:20240814T130415Z
LAST-MODIFIED:20240814T130415Z
UID:57988-1723622400-1723654800@mecop.stagingthedigitalscratch.com
SUMMARY:General Adult Tumor Board 2024
DESCRIPTION:Unavailable
URL:https://mecop.stagingthedigitalscratch.com/event/general-adult-tumor-board-2024-21/
LOCATION:Ascension Sacred Heart Hospital\, FL
CATEGORIES:AMA
END:VEVENT
BEGIN:VEVENT
DTSTART;TZID=America/Chicago:20240813T000000
DTEND;TZID=America/Chicago:20240813T000000
DTSTAMP:20260422T192342
CREATED:20240829T150515Z
LAST-MODIFIED:20250324T143311Z
UID:58186-1723507200-1723507200@mecop.stagingthedigitalscratch.com
SUMMARY:Summit Medical Grand Rounds: Coronary CTA
DESCRIPTION:See content.
URL:https://mecop.stagingthedigitalscratch.com/event/summit-medical-grand-rounds-7/
LOCATION:Live Webcast
CATEGORIES:AMA
END:VEVENT
END:VCALENDAR