BEGIN:VCALENDAR
VERSION:2.0
PRODID:-//Mecop - ECPv6.5.1.5//NONSGML v1.0//EN
CALSCALE:GREGORIAN
METHOD:PUBLISH
X-WR-CALNAME:Mecop
X-ORIGINAL-URL:https://mecop.stagingthedigitalscratch.com
X-WR-CALDESC:Events for Mecop
REFRESH-INTERVAL;VALUE=DURATION:PT1H
X-Robots-Tag:noindex
X-PUBLISHED-TTL:PT1H
BEGIN:VTIMEZONE
TZID:America/Chicago
BEGIN:DAYLIGHT
TZOFFSETFROM:-0600
TZOFFSETTO:-0500
TZNAME:CDT
DTSTART:20240310T080000
END:DAYLIGHT
BEGIN:STANDARD
TZOFFSETFROM:-0500
TZOFFSETTO:-0600
TZNAME:CST
DTSTART:20241103T070000
END:STANDARD
END:VTIMEZONE
BEGIN:VEVENT
DTSTART;TZID=America/Chicago:20240910T080000
DTEND;TZID=America/Chicago:20240910T170000
DTSTAMP:20260422T174926
CREATED:20240916T180051Z
LAST-MODIFIED:20240917T205351Z
UID:58355-1725955200-1725987600@mecop.stagingthedigitalscratch.com
SUMMARY:FSU Fundamentals of Teaching in the FSU COM Clinical Education Program II Module
DESCRIPTION:Unavailable
URL:https://mecop.stagingthedigitalscratch.com/event/fsu-fundamentals-of-teaching-in-the-fsu-com-clinical-education-program-ii-module-7/
LOCATION:Enduring Material
CATEGORIES:AMA
END:VEVENT
BEGIN:VEVENT
DTSTART;TZID=America/Chicago:20240910T080000
DTEND;TZID=America/Chicago:20240910T170000
DTSTAMP:20260422T174926
CREATED:20240916T175550Z
LAST-MODIFIED:20241004T204335Z
UID:58353-1725955200-1725987600@mecop.stagingthedigitalscratch.com
SUMMARY:FSU Fundamentals of Teaching in the FSU COM Clinical Education Program I Module
DESCRIPTION:Unavailable
URL:https://mecop.stagingthedigitalscratch.com/event/fsu-fundamentals-of-teaching-in-the-fsu-com-clinical-education-program-i-module-4/
LOCATION:Enduring Material
CATEGORIES:AMA
END:VEVENT
BEGIN:VEVENT
DTSTART;TZID=America/Chicago:20240910T080000
DTEND;TZID=America/Chicago:20240910T170000
DTSTAMP:20260422T174926
CREATED:20240903T195115Z
LAST-MODIFIED:20250324T143149Z
UID:58217-1725955200-1725987600@mecop.stagingthedigitalscratch.com
SUMMARY:Summit Medical Grand Rounds: Vaccine Updates
DESCRIPTION:1. Update the attendees regarding the scientific information that resulted in the latest updates from the ACIP.\n2. Update the attendees on the latest efficacy and safety data for the influenza\, RSV\, pneumococcal\, and HPV vaccines.
URL:https://mecop.stagingthedigitalscratch.com/event/summit-medical-group-grand-rounds/
LOCATION:Live Webcast
CATEGORIES:AMA
END:VEVENT
BEGIN:VEVENT
DTSTART;TZID=America/Chicago:20240909T080000
DTEND;TZID=America/Chicago:20240909T170000
DTSTAMP:20260422T174926
CREATED:20250515T145110Z
LAST-MODIFIED:20250515T145357Z
UID:62853-1725868800-1725901200@mecop.stagingthedigitalscratch.com
SUMMARY:Reflective Practice
DESCRIPTION:Unavailable
URL:https://mecop.stagingthedigitalscratch.com/event/reflective-practice/
LOCATION:Enduring Activity
CATEGORIES:AMA
END:VEVENT
BEGIN:VEVENT
DTSTART;TZID=America/Chicago:20240908T080000
DTEND;TZID=America/Chicago:20240908T170000
DTSTAMP:20260422T174926
CREATED:20241009T161236Z
LAST-MODIFIED:20241009T161334Z
UID:58664-1725782400-1725814800@mecop.stagingthedigitalscratch.com
SUMMARY:2024 PRN Annual Conference
DESCRIPTION:NA
URL:https://mecop.stagingthedigitalscratch.com/event/2024-prn-annual-conference/
LOCATION:Live
CATEGORIES:AMA
END:VEVENT
BEGIN:VEVENT
DTSTART;TZID=America/Chicago:20240907T080000
DTEND;TZID=America/Chicago:20240907T170000
DTSTAMP:20260422T174926
CREATED:20250122T162612Z
LAST-MODIFIED:20250122T162931Z
UID:60772-1725696000-1725728400@mecop.stagingthedigitalscratch.com
SUMMARY:Hidden in Plain Sight:
DESCRIPTION:Unavailable
URL:https://mecop.stagingthedigitalscratch.com/event/hidden-in-plain-sight/
LOCATION:Enduring Material
CATEGORIES:AMA
END:VEVENT
BEGIN:VEVENT
DTSTART;TZID=America/Chicago:20240907T080000
DTEND;TZID=America/Chicago:20240907T170000
DTSTAMP:20260422T174926
CREATED:20250122T161812Z
LAST-MODIFIED:20250122T162334Z
UID:60769-1725696000-1725728400@mecop.stagingthedigitalscratch.com
SUMMARY:Getting BACK on Track:
DESCRIPTION:Unavailable
URL:https://mecop.stagingthedigitalscratch.com/event/getting-back-on-track/
LOCATION:Enduring Material
CATEGORIES:AMA
END:VEVENT
BEGIN:VEVENT
DTSTART;TZID=America/Chicago:20240907T080000
DTEND;TZID=America/Chicago:20240907T170000
DTSTAMP:20260422T174926
CREATED:20250122T153745Z
LAST-MODIFIED:20250122T161556Z
UID:60766-1725696000-1725728400@mecop.stagingthedigitalscratch.com
SUMMARY:Building a Foundation for the Management of Atopic Dermatitis
DESCRIPTION:Unavailable
URL:https://mecop.stagingthedigitalscratch.com/event/building-a-foundation-for-the-management-of-atopic-dermatitis/
LOCATION:Enduring Material
CATEGORIES:AMA
END:VEVENT
BEGIN:VEVENT
DTSTART;TZID=America/Chicago:20240907T080000
DTEND;TZID=America/Chicago:20240907T170000
DTSTAMP:20260422T174926
CREATED:20250122T153205Z
LAST-MODIFIED:20250122T153454Z
UID:60763-1725696000-1725728400@mecop.stagingthedigitalscratch.com
SUMMARY:Advancing Therapy in Ulcerative Colitis:
DESCRIPTION:Unavailable
URL:https://mecop.stagingthedigitalscratch.com/event/advancing-therapy-in-ulcerative-colitis/
LOCATION:Enduring Material
CATEGORIES:AMA
END:VEVENT
BEGIN:VEVENT
DTSTART;TZID=America/Chicago:20240907T080000
DTEND;TZID=America/Chicago:20240907T170000
DTSTAMP:20260422T174926
CREATED:20250122T152734Z
LAST-MODIFIED:20250122T152909Z
UID:60760-1725696000-1725728400@mecop.stagingthedigitalscratch.com
SUMMARY:Clinical Aspects and Disease Severity in Streptococcus dysgalactiae Subspecies Equisimilis Bacteremia\, Finland
DESCRIPTION:Unavailable
URL:https://mecop.stagingthedigitalscratch.com/event/clinical-aspects-and-disease-severity-in-streptococcus-dysgalactiae-subspecies-equisimilis-bacteremia-finland/
LOCATION:Journal based CME activity
CATEGORIES:AMA
END:VEVENT
BEGIN:VEVENT
DTSTART;TZID=America/Chicago:20240907T080000
DTEND;TZID=America/Chicago:20240907T170000
DTSTAMP:20260422T174926
CREATED:20250122T143845Z
LAST-MODIFIED:20250122T143959Z
UID:60757-1725696000-1725728400@mecop.stagingthedigitalscratch.com
SUMMARY:International Perspectives on Biomarker Testing in Alzheimer's Disease Diagnosis
DESCRIPTION:Unavailable
URL:https://mecop.stagingthedigitalscratch.com/event/international-perspectives-on-biomarker-testing-in-alzheimers-disease-diagnosis/
LOCATION:Enduring Material
CATEGORIES:AMA
END:VEVENT
BEGIN:VEVENT
DTSTART;TZID=America/Chicago:20240907T080000
DTEND;TZID=America/Chicago:20240907T170000
DTSTAMP:20260422T174926
CREATED:20250122T143347Z
LAST-MODIFIED:20250122T143508Z
UID:60753-1725696000-1725728400@mecop.stagingthedigitalscratch.com
SUMMARY:Medscape Now! Hot Topics in Women's Health December 2023
DESCRIPTION:Unavailable
URL:https://mecop.stagingthedigitalscratch.com/event/medscape-now-hot-topics-in-womens-health-december-2023/
LOCATION:Enduring Material
CATEGORIES:AMA
END:VEVENT
BEGIN:VEVENT
DTSTART;TZID=America/Chicago:20240907T080000
DTEND;TZID=America/Chicago:20240907T170000
DTSTAMP:20260422T174926
CREATED:20250122T142700Z
LAST-MODIFIED:20250122T142759Z
UID:60748-1725696000-1725728400@mecop.stagingthedigitalscratch.com
SUMMARY:Medscape Now! Hot Topics in Critical Care August 2024
DESCRIPTION:Unavailable
URL:https://mecop.stagingthedigitalscratch.com/event/medscape-now-hot-topics-in-critical-care-august-2024/
LOCATION:Enduring Material
CATEGORIES:AMA
END:VEVENT
BEGIN:VEVENT
DTSTART;TZID=America/Chicago:20240907T080000
DTEND;TZID=America/Chicago:20240907T170000
DTSTAMP:20260422T174926
CREATED:20250122T141712Z
LAST-MODIFIED:20250122T142903Z
UID:60745-1725696000-1725728400@mecop.stagingthedigitalscratch.com
SUMMARY:Addressing Barriers to Medical Management of Peripheral Artery Disease:
DESCRIPTION:Unavailable
URL:https://mecop.stagingthedigitalscratch.com/event/addressing-barriers-to-medical-management-of-peripheral-artery-disease/
LOCATION:Enduring Material
CATEGORIES:AMA
END:VEVENT
BEGIN:VEVENT
DTSTART;TZID=America/Chicago:20240907T080000
DTEND;TZID=America/Chicago:20240907T170000
DTSTAMP:20260422T174926
CREATED:20250122T141148Z
LAST-MODIFIED:20250122T143018Z
UID:60742-1725696000-1725728400@mecop.stagingthedigitalscratch.com
SUMMARY:Patient-Centric Management of Actinic Keratosis
DESCRIPTION:Unavailable
URL:https://mecop.stagingthedigitalscratch.com/event/patient-centric-management-of-actinic-keratosis/
LOCATION:Enduring Material
CATEGORIES:AMA
END:VEVENT
BEGIN:VEVENT
DTSTART;TZID=America/Chicago:20240906T080000
DTEND;TZID=America/Chicago:20240906T170000
DTSTAMP:20260422T174926
CREATED:20241004T215312Z
LAST-MODIFIED:20241220T171240Z
UID:58603-1725609600-1725642000@mecop.stagingthedigitalscratch.com
SUMMARY:PEEP Risk Adjustment and Weight and Metabolic Disorders
DESCRIPTION:Review CMS-HCC risk adjustment model and why it is important\nReview specific official ICD-10-CM coding guidelines and how they are applied for HCC diagnosis coding\nIdentify elements of the medical record that help support the validation of an HCC diagnosis condition\nIdentify documentation deficiencies for specific conditions
URL:https://mecop.stagingthedigitalscratch.com/event/peep-risk-adjustment-and-weight-and-metabolic-disorders-3/
LOCATION:Internet Enduring Material
CATEGORIES:AMA
END:VEVENT
BEGIN:VEVENT
DTSTART;TZID=America/Chicago:20240906T080000
DTEND;TZID=America/Chicago:20240906T170000
DTSTAMP:20260422T174926
CREATED:20241004T212050Z
LAST-MODIFIED:20241220T214628Z
UID:58583-1725609600-1725642000@mecop.stagingthedigitalscratch.com
SUMMARY:PEEP Risk Adjustment and Neurology
DESCRIPTION:Review CMS-HCC risk adjustment model and why it is important\nReview specific official ICD-10-CM coding guidelines and how they are applied for HCC diagnosis coding\nIdentify elements of the medical record that help support the validation of an HCC diagnosis condition\nIdentify documentation deficiencies for specific conditions
URL:https://mecop.stagingthedigitalscratch.com/event/peep-risk-adjustment-and-neurology-3/
LOCATION:Internet Enduring Material
CATEGORIES:AMA
END:VEVENT
BEGIN:VEVENT
DTSTART;TZID=America/Chicago:20240906T080000
DTEND;TZID=America/Chicago:20240906T170000
DTSTAMP:20260422T174926
CREATED:20241004T211320Z
LAST-MODIFIED:20241220T165803Z
UID:58578-1725609600-1725642000@mecop.stagingthedigitalscratch.com
SUMMARY:Advance Care Planning ACT
DESCRIPTION:See document.
URL:https://mecop.stagingthedigitalscratch.com/event/advance-care-planning-act-5/
LOCATION:Internet Enduring Material
CATEGORIES:AMA
END:VEVENT
BEGIN:VEVENT
DTSTART;TZID=America/Chicago:20240904T080000
DTEND;TZID=America/Chicago:20240904T170000
DTSTAMP:20260422T174926
CREATED:20241004T220825Z
LAST-MODIFIED:20241220T215004Z
UID:58616-1725436800-1725469200@mecop.stagingthedigitalscratch.com
SUMMARY:PEEP Risk Adjustment and Musculoskeletal Health
DESCRIPTION:See content.
URL:https://mecop.stagingthedigitalscratch.com/event/peep-risk-adjustment-and-musculoskeletal-health-2/
LOCATION:Internet Enduring Material
CATEGORIES:AMA
END:VEVENT
BEGIN:VEVENT
DTSTART;TZID=America/Chicago:20240904T080000
DTEND;TZID=America/Chicago:20240904T170000
DTSTAMP:20260422T174926
CREATED:20241004T220557Z
LAST-MODIFIED:20241220T172005Z
UID:58614-1725436800-1725469200@mecop.stagingthedigitalscratch.com
SUMMARY:PEEP Risk Adjustment and CKD
DESCRIPTION:See content.
URL:https://mecop.stagingthedigitalscratch.com/event/peep-risk-adjustment-and-ckd-2/
LOCATION:Internet Enduring Material
CATEGORIES:AMA
END:VEVENT
BEGIN:VEVENT
DTSTART;TZID=America/Chicago:20240904T080000
DTEND;TZID=America/Chicago:20240904T170000
DTSTAMP:20260422T174926
CREATED:20241004T215928Z
LAST-MODIFIED:20241220T171543Z
UID:58608-1725436800-1725469200@mecop.stagingthedigitalscratch.com
SUMMARY:PEEP Risk Adjustment and Behavioral Health
DESCRIPTION:In the context of behavioral health:\nReview CMS-HCC risk adjustment model and why it is important\nReview specific official ICD-10-CM coding guidelines and how they are applied for HCC diagnosis coding\nIdentify elements of the medical record that help support the validation of an HCC diagnosis condition\nIdentify documentation deficiencies for specific conditions
URL:https://mecop.stagingthedigitalscratch.com/event/peep-risk-adjustment-and-behavioral-health-4/
LOCATION:Internet Enduring Material
CATEGORIES:AMA
END:VEVENT
BEGIN:VEVENT
DTSTART;TZID=America/Chicago:20240904T080000
DTEND;TZID=America/Chicago:20240904T170000
DTSTAMP:20260422T174926
CREATED:20241004T215701Z
LAST-MODIFIED:20241220T215120Z
UID:58606-1725436800-1725469200@mecop.stagingthedigitalscratch.com
SUMMARY:PEEP V28 CMS HCC Risk Adjustment Model Changes
DESCRIPTION:Review CMS-HCC risk adjustment model and why it is important\nReview specific official ICD-10-CM coding guidelines and how they are applied for HCC diagnosis coding\nIdentify elements of the medical record that help support the validation of an HCC diagnosis condition\nIdentify documentation deficiencies for specific conditions.
URL:https://mecop.stagingthedigitalscratch.com/event/peep-v28-cms-hcc-risk-adjustment-model-changes-4/
LOCATION:Internet Enduring Material
CATEGORIES:AMA
END:VEVENT
BEGIN:VEVENT
DTSTART;TZID=America/Chicago:20240904T080000
DTEND;TZID=America/Chicago:20240904T170000
DTSTAMP:20260422T174926
CREATED:20241004T212632Z
LAST-MODIFIED:20241220T215451Z
UID:58586-1725436800-1725469200@mecop.stagingthedigitalscratch.com
SUMMARY:PEEP Risk Adjustment and Diabetes with Complications
DESCRIPTION:Review CMS-HCC risk adjustment model and why it is important\nReview specific official ICD-10-CM coding guidelines and how they are applied for HCC diagnosis coding\nIdentify elements of the medical record that help support the validation of an HCC diagnosis condition\nIdentify documentation deficiencies for specific conditions
URL:https://mecop.stagingthedigitalscratch.com/event/peep-risk-adjustment-and-diabetes-with-complications-4/
LOCATION:Internet Enduring Material
CATEGORIES:AMA
END:VEVENT
BEGIN:VEVENT
DTSTART;TZID=America/Chicago:20240904T080000
DTEND;TZID=America/Chicago:20240904T170000
DTSTAMP:20260422T174926
CREATED:20240909T184424Z
LAST-MODIFIED:20240909T185027Z
UID:58304-1725436800-1725469200@mecop.stagingthedigitalscratch.com
SUMMARY:Question of the Week
DESCRIPTION:Unavailable
URL:https://mecop.stagingthedigitalscratch.com/event/question-of-the-week-13/
LOCATION:Enduring Material
CATEGORIES:AMA
END:VEVENT
BEGIN:VEVENT
DTSTART;TZID=America/Chicago:20240904T080000
DTEND;TZID=America/Chicago:20240904T170000
DTSTAMP:20260422T174926
CREATED:20240904T190405Z
LAST-MODIFIED:20240904T191339Z
UID:58230-1725436800-1725469200@mecop.stagingthedigitalscratch.com
SUMMARY:General Adult Tumor Board 2024
DESCRIPTION:Unavailable
URL:https://mecop.stagingthedigitalscratch.com/event/general-adult-tumor-board-2024-22/
LOCATION:Ascension Sacred Heart Hospital\, FL
CATEGORIES:AMA
END:VEVENT
BEGIN:VEVENT
DTSTART;TZID=America/Chicago:20240901T080000
DTEND;TZID=America/Chicago:20240901T170000
DTSTAMP:20260422T174926
CREATED:20241009T233305Z
LAST-MODIFIED:20241009T233508Z
UID:58669-1725177600-1725210000@mecop.stagingthedigitalscratch.com
SUMMARY:Preceptor for the Alabama College of Osteopathic Medicine Students
DESCRIPTION:Unavailable
URL:https://mecop.stagingthedigitalscratch.com/event/preceptor-for-the-alabama-college-of-osteopathic-medicine-students/
LOCATION:Preceptor
CATEGORIES:AMA
END:VEVENT
BEGIN:VEVENT
DTSTART;TZID=America/Chicago:20240827T080000
DTEND;TZID=America/Chicago:20240827T170000
DTSTAMP:20260422T174926
CREATED:20240827T183018Z
LAST-MODIFIED:20240829T172523Z
UID:58152-1724745600-1724778000@mecop.stagingthedigitalscratch.com
SUMMARY:Risk Adjustment and Reaching the Vertical Limit
DESCRIPTION:Review CMS-HCC risk adjustment model and why it is important\nReview specific official ICD-10-CM coding guidelines and how they are applied for HCC diagnosis coding\nIdentify elements of the medical record that help support the validation of an HCC diagnosis condition\nIdentify documentation deficiencies for specific conditions
URL:https://mecop.stagingthedigitalscratch.com/event/risk-adjustment-and-reaching-the-vertical-limit-2/
LOCATION:Live Webinar
CATEGORIES:AMA
END:VEVENT
BEGIN:VEVENT
DTSTART;TZID=America/Chicago:20240826T080000
DTEND;TZID=America/Chicago:20240826T170000
DTSTAMP:20260422T174926
CREATED:20241114T150307Z
LAST-MODIFIED:20241114T150502Z
UID:59322-1724659200-1724691600@mecop.stagingthedigitalscratch.com
SUMMARY:2024 Faculty Teaching Credits Pediatric Neonatal Clerkship
DESCRIPTION:Unavailable
URL:https://mecop.stagingthedigitalscratch.com/event/2024-faculty-teaching-credits-pediatric-neonatal-clerkship/
LOCATION:Pensacola Regional Campus\, 11000 University Parkway Bldg 234\, 2nd Floor\, Pensacola\, FL\, 32514-5750\, United States
CATEGORIES:AMA
END:VEVENT
BEGIN:VEVENT
DTSTART;TZID=America/Chicago:20240826T080000
DTEND;TZID=America/Chicago:20240826T170000
DTSTAMP:20260422T174926
CREATED:20240827T153421Z
LAST-MODIFIED:20240827T153630Z
UID:58130-1724659200-1724691600@mecop.stagingthedigitalscratch.com
SUMMARY:NCHFL Florida Cardiac Center Surgical Case Conference
DESCRIPTION:Unavailable
URL:https://mecop.stagingthedigitalscratch.com/event/nchfl-florida-cardiac-center-surgical-case-conference/
LOCATION:Educational Activity
CATEGORIES:AMA
END:VEVENT
BEGIN:VEVENT
DTSTART;TZID=America/Chicago:20240823T080000
DTEND;TZID=America/Chicago:20240823T170000
DTSTAMP:20260422T174926
CREATED:20241205T145435Z
LAST-MODIFIED:20241205T150740Z
UID:59879-1724400000-1724432400@mecop.stagingthedigitalscratch.com
SUMMARY:2024 Faculty Teaching Credits OBGYN Clerkship
DESCRIPTION:Unavailable
URL:https://mecop.stagingthedigitalscratch.com/event/2024-faculty-teaching-credits-obgyn-clerkship-2/
LOCATION:Tallahassee Regional Campus\, Tallahassee\, FL\, United States
CATEGORIES:AMA
END:VEVENT
END:VCALENDAR