BEGIN:VCALENDAR
VERSION:2.0
PRODID:-//Mecop - ECPv6.5.1.5//NONSGML v1.0//EN
CALSCALE:GREGORIAN
METHOD:PUBLISH
X-WR-CALNAME:Mecop
X-ORIGINAL-URL:https://mecop.stagingthedigitalscratch.com
X-WR-CALDESC:Events for Mecop
REFRESH-INTERVAL;VALUE=DURATION:PT1H
X-Robots-Tag:noindex
X-PUBLISHED-TTL:PT1H
BEGIN:VTIMEZONE
TZID:America/Chicago
BEGIN:DAYLIGHT
TZOFFSETFROM:-0600
TZOFFSETTO:-0500
TZNAME:CDT
DTSTART:20240310T080000
END:DAYLIGHT
BEGIN:STANDARD
TZOFFSETFROM:-0500
TZOFFSETTO:-0600
TZNAME:CST
DTSTART:20241103T070000
END:STANDARD
END:VTIMEZONE
BEGIN:VEVENT
DTSTART;TZID=America/Chicago:20240916T080000
DTEND;TZID=America/Chicago:20240916T170000
DTSTAMP:20260423T034342
CREATED:20240917T142452Z
LAST-MODIFIED:20240917T142452Z
UID:58379-1726473600-1726506000@mecop.stagingthedigitalscratch.com
SUMMARY:Medical Management of Shoulder Dystocia
DESCRIPTION:Unavailable
URL:https://mecop.stagingthedigitalscratch.com/event/medical-management-of-shoulder-dystocia-2/
LOCATION:Enduring Activity
CATEGORIES:AMA
END:VEVENT
BEGIN:VEVENT
DTSTART;TZID=America/Chicago:20240914T080000
DTEND;TZID=America/Chicago:20240914T170000
DTSTAMP:20260423T034342
CREATED:20250113T185333Z
LAST-MODIFIED:20250113T185956Z
UID:60564-1726300800-1726333200@mecop.stagingthedigitalscratch.com
SUMMARY:59th Annual Meeting
DESCRIPTION:Unavailable
URL:https://mecop.stagingthedigitalscratch.com/event/59th-annual-meeting/
LOCATION:Barcelona Spain
CATEGORIES:AMA
END:VEVENT
BEGIN:VEVENT
DTSTART;TZID=America/Chicago:20240913T130000
DTEND;TZID=America/Chicago:20240913T140000
DTSTAMP:20260423T034342
CREATED:20240913T203310Z
LAST-MODIFIED:20240913T220539Z
UID:58342-1726232400-1726236000@mecop.stagingthedigitalscratch.com
SUMMARY:Risk Adjustment and Different Strokes
DESCRIPTION:Review CMS-HCC risk adjustment model and why it is important\nReview specific official ICD-10-CM coding guidelines and how they are applied for HCC diagnosis coding\nIdentify elements of the medical record that help support the validation of an HCC diagnosis condition\nIdentify documentation deficiencies for specific conditions.
URL:https://mecop.stagingthedigitalscratch.com/event/risk-adjustment-and-different-strokes-2/
LOCATION:Live Webinar
CATEGORIES:AMA
END:VEVENT
BEGIN:VEVENT
DTSTART;TZID=America/Chicago:20240913T080000
DTEND;TZID=America/Chicago:20240913T170000
DTSTAMP:20260423T034342
CREATED:20241027T105536Z
LAST-MODIFIED:20241027T105536Z
UID:59044-1726214400-1726246800@mecop.stagingthedigitalscratch.com
SUMMARY:2024 Faculty Teaching Credits Interventional Radiology Clerkship
DESCRIPTION:Unavailable
URL:https://mecop.stagingthedigitalscratch.com/event/2024-faculty-teaching-credits-interventional-radiology-clerkship/
LOCATION:Sarasota Regional Campus\, 5560 Bee Ridge Rd\, Sarasota\, FL\, 34233\, United States
CATEGORIES:AMA
END:VEVENT
BEGIN:VEVENT
DTSTART;TZID=America/Chicago:20240912T080000
DTEND;TZID=America/Chicago:20240912T170000
DTSTAMP:20260423T034342
CREATED:20241004T214327Z
LAST-MODIFIED:20241114T190552Z
UID:58594-1726128000-1726160400@mecop.stagingthedigitalscratch.com
SUMMARY:PEEP Risk Adjustment and the Facts of Life about Pediatric Conditions
DESCRIPTION:Review CMS-HCC risk adjustment model and why it is important\nReview specific official ICD-10-CM coding guidelines and how they are applied for HCC diagnosis coding\nIdentify elements of the medical record that help support the validation of an HCC diagnosis condition\nIdentify documentation deficiencies for specific conditions
URL:https://mecop.stagingthedigitalscratch.com/event/peep-risk-adjustment-and-the-facts-of-life-about-pediatric-conditions/
LOCATION:Internet Enduring Material
CATEGORIES:AMA
END:VEVENT
BEGIN:VEVENT
DTSTART;TZID=America/Chicago:20240912T080000
DTEND;TZID=America/Chicago:20240912T170000
DTSTAMP:20260423T034342
CREATED:20240923T142258Z
LAST-MODIFIED:20240923T143435Z
UID:58432-1726128000-1726160400@mecop.stagingthedigitalscratch.com
SUMMARY:NFO Business of Medicine Web Series: Documentation Essentials for Healthcare Professionals
DESCRIPTION:Documentation in patient health records is used in a variety of ways. It memorializes patient care\, facilitates communication among caregivers\, forms the basis for coding and billing\, provides data pertinent to quality improvement\, and may provide information that is critical to the defense of legal action. Unfortunately\, documentation issues continue to be a contributing factor in adverse events and malpractice claims. This program addresses common documentation issues and provides realistic strategies to enhance patient safety efforts through documentation. \nObjectives: \nDescribe the function and benefit of documentation. Identify lessons learned from the defense of claims. Discuss best practices to avoid documentation issues. Establish goals to strengthen documentation.
URL:https://mecop.stagingthedigitalscratch.com/event/nfo-business-of-medicine-web-series-documentation-essentials-for-healthcare-professionals/
LOCATION:Live Webcast
CATEGORIES:AMA
END:VEVENT
BEGIN:VEVENT
DTSTART;TZID=America/Chicago:20240912T080000
DTEND;TZID=America/Chicago:20240912T170000
DTSTAMP:20260423T034342
CREATED:20240913T115025Z
LAST-MODIFIED:20240913T213401Z
UID:58337-1726128000-1726160400@mecop.stagingthedigitalscratch.com
SUMMARY:Risk Adjustment and Different Strokes
DESCRIPTION:Review CMS-HCC risk adjustment model and why it is important\nReview specific official ICD-10-CM coding guidelines and how they are applied for HCC diagnosis coding\nIdentify elements of the medical record that help support the validation of an HCC diagnosis condition\nIdentify documentation deficiencies for specific conditions
URL:https://mecop.stagingthedigitalscratch.com/event/risk-adjustment-and-different-strokes/
LOCATION:Live Webinar
CATEGORIES:AMA
END:VEVENT
BEGIN:VEVENT
DTSTART;TZID=America/Chicago:20240912T073000
DTEND;TZID=America/Chicago:20240912T170000
DTSTAMP:20260423T034342
CREATED:20240819T160414Z
LAST-MODIFIED:20241007T173851Z
UID:58013-1726126200-1726160400@mecop.stagingthedigitalscratch.com
SUMMARY:2nd Annual Graduate Medical Education Symposium 2024
DESCRIPTION:The overall purpose of the symposium is to allow for participant development in the primary area of leadership. This will be accomplished through participant self-discovery\, assessment\, group interactions\, and post symposium self-reflection. The varied topics allow for a longitudinal connection that culminates into a holistic approach to being a high-quality leader. \nObjectives: \n-Define the essential qualities of effective leaders in healthcare settings \n-Improve self-awareness\, improve communication skills\, learn and apply strategies to foster team collaboration\, and analyze feedback to drive personal growth \n-Enhance Employee Replenishment Strategies: Attendees will leave with ways to replenish themselves and others to support employee well-being. \n-Making Goals Attainable: Attendees will leave with ways to make current systems and methods more doable by narrowing the scope. \n-Develop Strategies for Cultivating Trust: Attendees will leave with tools and techniques to build and sustain trust in the organization. \n 
URL:https://mecop.stagingthedigitalscratch.com/event/2nd-annual-graduate-medical-education-symposium/
LOCATION:Sunseeker Resort\, Tampa\, Florida
CATEGORIES:AMA
END:VEVENT
BEGIN:VEVENT
DTSTART;TZID=America/Chicago:20240911T123000
DTEND;TZID=America/Chicago:20240911T133000
DTSTAMP:20260423T034342
CREATED:20240205T185101Z
LAST-MODIFIED:20240925T205748Z
UID:55671-1726057800-1726061400@mecop.stagingthedigitalscratch.com
SUMMARY:MUSM Pediatric Advancement Speakers' Series
DESCRIPTION:DESCRIBE the core features of autism and some of the underlying processes thought to lead to contribute to development of autism.\nPROVIDE examples of differences in how the core features of autism may present in individual autistic youth\nDESCRIBE the broad categories of supports needed by autistic youth.
URL:https://mecop.stagingthedigitalscratch.com/event/musm-pediatric-advancement-speakers-series-3/
LOCATION:Live
CATEGORIES:AMA
END:VEVENT
BEGIN:VEVENT
DTSTART;TZID=America/Chicago:20240911T120000
DTEND;TZID=America/Chicago:20240911T130000
DTSTAMP:20260423T034342
CREATED:20240708T225610Z
LAST-MODIFIED:20240924T145118Z
UID:57531-1726056000-1726059600@mecop.stagingthedigitalscratch.com
SUMMARY:MUSM Rural Healthcare Ethics ECHO Program
DESCRIPTION:1. To frame the ethical conflicts inherent to Maternal-Fetal Medicine.\n2. To put the current ethical conflicts of Maternal-Fetal Medicine into historical context.\n3. To introduce examples of advancing technologies in the field of Maternal-Fetal Medicine and their potential role in ethical conflict.\n4. To review some theoretical clinical examples and promote thoughtful discussion.
URL:https://mecop.stagingthedigitalscratch.com/event/musm-pediatric-advanced-speakers-series/
LOCATION:Live
CATEGORIES:AMA
END:VEVENT
BEGIN:VEVENT
DTSTART;TZID=America/Chicago:20240911T080000
DTEND;TZID=America/Chicago:20240911T170000
DTSTAMP:20260423T034342
CREATED:20241004T220136Z
LAST-MODIFIED:20241206T154414Z
UID:58610-1726041600-1726074000@mecop.stagingthedigitalscratch.com
SUMMARY:Management of Obesity in Children ACT
DESCRIPTION:See content.
URL:https://mecop.stagingthedigitalscratch.com/event/management-of-obesity-in-children-act-4/
LOCATION:Internet Enduring Material
CATEGORIES:AMA
END:VEVENT
BEGIN:VEVENT
DTSTART;TZID=America/Chicago:20240911T080000
DTEND;TZID=America/Chicago:20240911T170000
DTSTAMP:20260423T034342
CREATED:20241004T214516Z
LAST-MODIFIED:20241114T190703Z
UID:58596-1726041600-1726074000@mecop.stagingthedigitalscratch.com
SUMMARY:Basic Coding and Documentation Principles (BCD) ACT
DESCRIPTION:Outline basic coding and documentation principles related to the CMS-HCC model to clinical notes.
URL:https://mecop.stagingthedigitalscratch.com/event/basic-coding-and-documentation-principles-bcd-act-4/
LOCATION:Internet Enduring Material
CATEGORIES:AMA
END:VEVENT
BEGIN:VEVENT
DTSTART;TZID=America/Chicago:20240911T080000
DTEND;TZID=America/Chicago:20240911T170000
DTSTAMP:20260423T034342
CREATED:20241004T213319Z
LAST-MODIFIED:20241220T215422Z
UID:58590-1726041600-1726074000@mecop.stagingthedigitalscratch.com
SUMMARY:PEEP Risk Adjustment and Pulmonary Conditions
DESCRIPTION:See content.
URL:https://mecop.stagingthedigitalscratch.com/event/peep-risk-adjustment-and-pulmonary-conditions-3/
LOCATION:Internet Enduring Material
CATEGORIES:AMA
END:VEVENT
BEGIN:VEVENT
DTSTART;TZID=America/Chicago:20240911T080000
DTEND;TZID=America/Chicago:20240911T170000
DTSTAMP:20260423T034342
CREATED:20241004T212917Z
LAST-MODIFIED:20241004T212923Z
UID:58588-1726041600-1726074000@mecop.stagingthedigitalscratch.com
SUMMARY:Asthma (Adults\, Adolescents and Children) ACT
DESCRIPTION:See content.
URL:https://mecop.stagingthedigitalscratch.com/event/asthma-adults-adolescents-and-children-act-4/
LOCATION:Internet Enduring Material
CATEGORIES:AMA
END:VEVENT
BEGIN:VEVENT
DTSTART;TZID=America/Chicago:20240911T080000
DTEND;TZID=America/Chicago:20240911T170000
DTSTAMP:20260423T034342
CREATED:20241004T211845Z
LAST-MODIFIED:20241114T185313Z
UID:58581-1726041600-1726074000@mecop.stagingthedigitalscratch.com
SUMMARY:Applying Basic Coding and Documentation Principles (ABCD) ACT
DESCRIPTION:Apply basic coding and documentation principles related to the CMS-HCC model to clinical notes.\nUtilize the ACTreference sheet as a systematic approach to identifying common geriatric conditions.\nUtilize the ACTreference sheet as a lookup reference to improve the accuracy of diagnosis coding.
URL:https://mecop.stagingthedigitalscratch.com/event/applying-basic-coding-and-documentation-principles-abcd-act-4/
LOCATION:Internet Enduring Material
CATEGORIES:AMA
END:VEVENT
BEGIN:VEVENT
DTSTART;TZID=America/Chicago:20240911T080000
DTEND;TZID=America/Chicago:20240911T170000
DTSTAMP:20260423T034342
CREATED:20240915T132149Z
LAST-MODIFIED:20240915T132149Z
UID:58350-1726041600-1726074000@mecop.stagingthedigitalscratch.com
SUMMARY:NCHFL Florida Cardiac Center Surgical Case Conference
DESCRIPTION:Unavailable
URL:https://mecop.stagingthedigitalscratch.com/event/nchfl-florida-cardiac-center-surgical-case-conference-2/
LOCATION:Educational Activity
CATEGORIES:AMA
END:VEVENT
BEGIN:VEVENT
DTSTART;TZID=America/Chicago:20240911T080000
DTEND;TZID=America/Chicago:20240911T170000
DTSTAMP:20260423T034342
CREATED:20240912T185708Z
LAST-MODIFIED:20240912T192250Z
UID:58332-1726041600-1726074000@mecop.stagingthedigitalscratch.com
SUMMARY:2024 Maintenance of Certification (MOC) Program
DESCRIPTION:Unavailable
URL:https://mecop.stagingthedigitalscratch.com/event/2024-maintenance-of-certification-program/
LOCATION:Enduring Material
CATEGORIES:AMA
END:VEVENT
BEGIN:VEVENT
DTSTART;TZID=America/Chicago:20240911T080000
DTEND;TZID=America/Chicago:20240911T170000
DTSTAMP:20260423T034342
CREATED:20240912T134748Z
LAST-MODIFIED:20240912T134748Z
UID:58329-1726041600-1726074000@mecop.stagingthedigitalscratch.com
SUMMARY:General Adult Tumor Board 2024
DESCRIPTION:Unavailable
URL:https://mecop.stagingthedigitalscratch.com/event/general-adult-tumor-board-2024-23/
LOCATION:Ascension Sacred Heart Hospital\, FL
CATEGORIES:AMA
END:VEVENT
BEGIN:VEVENT
DTSTART;TZID=America/Chicago:20240910T120000
DTEND;TZID=America/Chicago:20240910T130000
DTSTAMP:20260423T034342
CREATED:20240717T144057Z
LAST-MODIFIED:20240912T134311Z
UID:57655-1725969600-1725973200@mecop.stagingthedigitalscratch.com
SUMMARY:MUSM Clinical Faculty Development Series
DESCRIPTION:Learn more about the autism spectrum and how signs/symptoms can present; \nIdentify ways that you can make your practice more autism-friendly; \nLearn more about autism resources that your patients can use.
URL:https://mecop.stagingthedigitalscratch.com/event/musm-clinical-faculty-development-series-25/
LOCATION:Live
CATEGORIES:AMA
END:VEVENT
BEGIN:VEVENT
DTSTART;TZID=America/Chicago:20240910T080000
DTEND;TZID=America/Chicago:20240910T170000
DTSTAMP:20260423T034342
CREATED:20241029T143531Z
LAST-MODIFIED:20241029T144158Z
UID:59085-1725955200-1725987600@mecop.stagingthedigitalscratch.com
SUMMARY:KAMAP The Science Behind PRP/PRF
DESCRIPTION:
URL:https://mecop.stagingthedigitalscratch.com/event/kamap-the-science-behind-prp-prf-2/
LOCATION:Internet Enduring Material
CATEGORIES:AMA
END:VEVENT
BEGIN:VEVENT
DTSTART;TZID=America/Chicago:20240910T080000
DTEND;TZID=America/Chicago:20240910T170000
DTSTAMP:20260423T034342
CREATED:20241029T142952Z
LAST-MODIFIED:20241029T144229Z
UID:59081-1725955200-1725987600@mecop.stagingthedigitalscratch.com
SUMMARY:KAMAP Hyaluronidase: The Safety Net of Aesthetics
DESCRIPTION:Explain the mechanism of action of hyaluronidase\nIdentify safe prescribing practices of hyaluronidase\nDemonstrate safe administration of hyaluronidase\nCompare primary and secondary uses of hyaluronidase in medical aesthetics\nAnticipate the risk of allergic reaction to hyaluronidase\nOutline possible side effects of hyaluronidase administration
URL:https://mecop.stagingthedigitalscratch.com/event/kamap-hyaluronidase-the-safety-net-of-aesthetics-4/
LOCATION:Internet Enduring Material
CATEGORIES:AMA
END:VEVENT
BEGIN:VEVENT
DTSTART;TZID=America/Chicago:20240910T080000
DTEND;TZID=America/Chicago:20240910T170000
DTSTAMP:20260423T034342
CREATED:20240917T202851Z
LAST-MODIFIED:20240917T203919Z
UID:58383-1725955200-1725987600@mecop.stagingthedigitalscratch.com
SUMMARY:FSU Fundamentals for Inspired FSUCOM Clinical Educators Module:
DESCRIPTION:Unavailable
URL:https://mecop.stagingthedigitalscratch.com/event/fsu-fundamentals-for-inspired-fsucom-clinical-educators-module-6/
LOCATION:Enduring Material
CATEGORIES:AMA
END:VEVENT
BEGIN:VEVENT
DTSTART;TZID=America/Chicago:20240910T080000
DTEND;TZID=America/Chicago:20240910T170000
DTSTAMP:20260423T034342
CREATED:20240916T182505Z
LAST-MODIFIED:20240916T182505Z
UID:58373-1725955200-1725987600@mecop.stagingthedigitalscratch.com
SUMMARY:FSU Identifying and Preventing Academic and Non-academic Difficulties Among M3 and M4 Learners Module
DESCRIPTION:Unavailable
URL:https://mecop.stagingthedigitalscratch.com/event/fsu-identifying-and-preventing-academic-and-non-academic-difficulties-among-m3-and-m4-learners-module-6/
LOCATION:Enduring Material
CATEGORIES:AMA
END:VEVENT
BEGIN:VEVENT
DTSTART;TZID=America/Chicago:20240910T080000
DTEND;TZID=America/Chicago:20240910T170000
DTSTAMP:20260423T034342
CREATED:20240916T181214Z
LAST-MODIFIED:20240916T181214Z
UID:58365-1725955200-1725987600@mecop.stagingthedigitalscratch.com
SUMMARY:FSU MBTI-Using Knowledge of Personality Type to Enhance Clinical Teaching Module
DESCRIPTION:Unavailable
URL:https://mecop.stagingthedigitalscratch.com/event/fsu-mbti-using-knowledge-of-personality-type-to-enhance-clinical-teaching-module-8/
LOCATION:Enduring Material
CATEGORIES:AMA
END:VEVENT
BEGIN:VEVENT
DTSTART;TZID=America/Chicago:20240910T080000
DTEND;TZID=America/Chicago:20240910T170000
DTSTAMP:20260423T034342
CREATED:20240916T180051Z
LAST-MODIFIED:20240917T205351Z
UID:58355-1725955200-1725987600@mecop.stagingthedigitalscratch.com
SUMMARY:FSU Fundamentals of Teaching in the FSU COM Clinical Education Program II Module
DESCRIPTION:Unavailable
URL:https://mecop.stagingthedigitalscratch.com/event/fsu-fundamentals-of-teaching-in-the-fsu-com-clinical-education-program-ii-module-7/
LOCATION:Enduring Material
CATEGORIES:AMA
END:VEVENT
BEGIN:VEVENT
DTSTART;TZID=America/Chicago:20240910T080000
DTEND;TZID=America/Chicago:20240910T170000
DTSTAMP:20260423T034342
CREATED:20240916T175550Z
LAST-MODIFIED:20241004T204335Z
UID:58353-1725955200-1725987600@mecop.stagingthedigitalscratch.com
SUMMARY:FSU Fundamentals of Teaching in the FSU COM Clinical Education Program I Module
DESCRIPTION:Unavailable
URL:https://mecop.stagingthedigitalscratch.com/event/fsu-fundamentals-of-teaching-in-the-fsu-com-clinical-education-program-i-module-4/
LOCATION:Enduring Material
CATEGORIES:AMA
END:VEVENT
BEGIN:VEVENT
DTSTART;TZID=America/Chicago:20240910T080000
DTEND;TZID=America/Chicago:20240910T170000
DTSTAMP:20260423T034342
CREATED:20240903T195115Z
LAST-MODIFIED:20250324T143149Z
UID:58217-1725955200-1725987600@mecop.stagingthedigitalscratch.com
SUMMARY:Summit Medical Grand Rounds: Vaccine Updates
DESCRIPTION:1. Update the attendees regarding the scientific information that resulted in the latest updates from the ACIP.\n2. Update the attendees on the latest efficacy and safety data for the influenza\, RSV\, pneumococcal\, and HPV vaccines.
URL:https://mecop.stagingthedigitalscratch.com/event/summit-medical-group-grand-rounds/
LOCATION:Live Webcast
CATEGORIES:AMA
END:VEVENT
BEGIN:VEVENT
DTSTART;TZID=America/Chicago:20240909T080000
DTEND;TZID=America/Chicago:20240909T170000
DTSTAMP:20260423T034342
CREATED:20250515T145110Z
LAST-MODIFIED:20250515T145357Z
UID:62853-1725868800-1725901200@mecop.stagingthedigitalscratch.com
SUMMARY:Reflective Practice
DESCRIPTION:Unavailable
URL:https://mecop.stagingthedigitalscratch.com/event/reflective-practice/
LOCATION:Enduring Activity
CATEGORIES:AMA
END:VEVENT
BEGIN:VEVENT
DTSTART;TZID=America/Chicago:20240908T080000
DTEND;TZID=America/Chicago:20240908T170000
DTSTAMP:20260423T034342
CREATED:20241009T161236Z
LAST-MODIFIED:20241009T161334Z
UID:58664-1725782400-1725814800@mecop.stagingthedigitalscratch.com
SUMMARY:2024 PRN Annual Conference
DESCRIPTION:NA
URL:https://mecop.stagingthedigitalscratch.com/event/2024-prn-annual-conference/
LOCATION:Live
CATEGORIES:AMA
END:VEVENT
BEGIN:VEVENT
DTSTART;TZID=America/Chicago:20240907T080000
DTEND;TZID=America/Chicago:20240907T170000
DTSTAMP:20260423T034342
CREATED:20250122T162612Z
LAST-MODIFIED:20250122T162931Z
UID:60772-1725696000-1725728400@mecop.stagingthedigitalscratch.com
SUMMARY:Hidden in Plain Sight:
DESCRIPTION:Unavailable
URL:https://mecop.stagingthedigitalscratch.com/event/hidden-in-plain-sight/
LOCATION:Enduring Material
CATEGORIES:AMA
END:VEVENT
END:VCALENDAR