BEGIN:VCALENDAR
VERSION:2.0
PRODID:-//Mecop - ECPv6.5.1.5//NONSGML v1.0//EN
CALSCALE:GREGORIAN
METHOD:PUBLISH
X-WR-CALNAME:Mecop
X-ORIGINAL-URL:https://mecop.stagingthedigitalscratch.com
X-WR-CALDESC:Events for Mecop
REFRESH-INTERVAL;VALUE=DURATION:PT1H
X-Robots-Tag:noindex
X-PUBLISHED-TTL:PT1H
BEGIN:VTIMEZONE
TZID:America/Chicago
BEGIN:DAYLIGHT
TZOFFSETFROM:-0600
TZOFFSETTO:-0500
TZNAME:CDT
DTSTART:20240310T080000
END:DAYLIGHT
BEGIN:STANDARD
TZOFFSETFROM:-0500
TZOFFSETTO:-0600
TZNAME:CST
DTSTART:20241103T070000
END:STANDARD
END:VTIMEZONE
BEGIN:VEVENT
DTSTART;TZID=America/Chicago:20240920T080000
DTEND;TZID=America/Chicago:20240920T170000
DTSTAMP:20260423T020907
CREATED:20241126T223409Z
LAST-MODIFIED:20241126T223409Z
UID:59721-1726819200-1726851600@mecop.stagingthedigitalscratch.com
SUMMARY:2024 Faculty Teaching Credits Gynecologic Oncology Clerkship
DESCRIPTION:Unavailable
URL:https://mecop.stagingthedigitalscratch.com/event/2024-faculty-teaching-credits-gynecologic-oncology-clerkship-2/
LOCATION:Orlando Regional Campus\, Orlando\, FL\, United States
CATEGORIES:AMA
END:VEVENT
BEGIN:VEVENT
DTSTART;TZID=America/Chicago:20240920T080000
DTEND;TZID=America/Chicago:20240920T170000
DTSTAMP:20260423T020907
CREATED:20241124T155143Z
LAST-MODIFIED:20241124T155143Z
UID:59609-1726819200-1726851600@mecop.stagingthedigitalscratch.com
SUMMARY:2024 Faculty Teaching Credits Neurosurgery Clerkship
DESCRIPTION:Unavailable
URL:https://mecop.stagingthedigitalscratch.com/event/2024-faculty-teaching-credits-neurosurgery-clerkship/
LOCATION:Fort Pierce Regional Campus\, 1200 W International Speedway Blvd #101\, Daytona Beach\, FL\, 32114\, United States
CATEGORIES:AMA
END:VEVENT
BEGIN:VEVENT
DTSTART;TZID=America/Chicago:20240920T080000
DTEND;TZID=America/Chicago:20240920T170000
DTSTAMP:20260423T020907
CREATED:20241121T182935Z
LAST-MODIFIED:20241211T190521Z
UID:59554-1726819200-1726851600@mecop.stagingthedigitalscratch.com
SUMMARY:2024 Faculty Teaching Credits Forensic Pathology Clerkship
DESCRIPTION:Unavailable
URL:https://mecop.stagingthedigitalscratch.com/event/2024-faculty-teaching-credits-forensic-pathology-clerkship-2/
LOCATION:Orlando Regional Campus\, Orlando\, FL\, United States
CATEGORIES:AMA
END:VEVENT
BEGIN:VEVENT
DTSTART;TZID=America/Chicago:20240920T080000
DTEND;TZID=America/Chicago:20240920T170000
DTSTAMP:20260423T020907
CREATED:20241120T172711Z
LAST-MODIFIED:20241120T173911Z
UID:59527-1726819200-1726851600@mecop.stagingthedigitalscratch.com
SUMMARY:2024 Faculty Teaching Credits Vascular Surgery Clerkship
DESCRIPTION:Unavailable
URL:https://mecop.stagingthedigitalscratch.com/event/2024-faculty-teaching-credits-vascular-surgery-clerkship-2/
LOCATION:Sarasota Regional Campus\, 5560 Bee Ridge Rd\, Sarasota\, FL\, 34233\, United States
CATEGORIES:AMA
END:VEVENT
BEGIN:VEVENT
DTSTART;TZID=America/Chicago:20240920T080000
DTEND;TZID=America/Chicago:20240920T170000
DTSTAMP:20260423T020907
CREATED:20241119T204828Z
LAST-MODIFIED:20241119T204828Z
UID:59498-1726819200-1726851600@mecop.stagingthedigitalscratch.com
SUMMARY:2024 Faculty Teaching Credits Surgery/Urology Clerkship
DESCRIPTION:Unavailable
URL:https://mecop.stagingthedigitalscratch.com/event/2024-faculty-teaching-credits-surgery-urology-clerkship-2/
LOCATION:Pensacola Regional Campus\, 11000 University Parkway Bldg 234\, 2nd Floor\, Pensacola\, FL\, 32514-5750\, United States
CATEGORIES:AMA
END:VEVENT
BEGIN:VEVENT
DTSTART;TZID=America/Chicago:20240920T080000
DTEND;TZID=America/Chicago:20240920T170000
DTSTAMP:20260423T020907
CREATED:20241118T145408Z
LAST-MODIFIED:20241118T145408Z
UID:59455-1726819200-1726851600@mecop.stagingthedigitalscratch.com
SUMMARY:2024 Faculty Teaching Credits Internal Medicine/Dermatology Teaching Credits
DESCRIPTION:Unavailable
URL:https://mecop.stagingthedigitalscratch.com/event/2024-faculty-teaching-credits-internal-medicine-dermatology-teaching-credits/
LOCATION:Daytona Beach Regional Campus\, 1200 W International Speedway\, Daytona Beach\, FL\, 32114\, United States
CATEGORIES:AMA
END:VEVENT
BEGIN:VEVENT
DTSTART;TZID=America/Chicago:20240920T080000
DTEND;TZID=America/Chicago:20240920T170000
DTSTAMP:20260423T020907
CREATED:20241115T124933Z
LAST-MODIFIED:20241115T125540Z
UID:59364-1726819200-1726851600@mecop.stagingthedigitalscratch.com
SUMMARY:2024 Faculty Teaching Credits Otolaryngology/Head and Neck Surgery Clerkship
DESCRIPTION:Unavailable
URL:https://mecop.stagingthedigitalscratch.com/event/2024-faculty-teaching-credits-otolaryngology-head-and-neck-surgery-clerkship/
LOCATION:Sarasota Regional Campus\, 5560 Bee Ridge Rd\, Sarasota\, FL\, 34233\, United States
CATEGORIES:AMA
END:VEVENT
BEGIN:VEVENT
DTSTART;TZID=America/Chicago:20240920T080000
DTEND;TZID=America/Chicago:20240920T170000
DTSTAMP:20260423T020907
CREATED:20241111T192026Z
LAST-MODIFIED:20241111T192820Z
UID:59272-1726819200-1726851600@mecop.stagingthedigitalscratch.com
SUMMARY:2024 Faculty Teaching Credits Opthalmology/Oculofacial Surgery Clerkship
DESCRIPTION:Unavailable
URL:https://mecop.stagingthedigitalscratch.com/event/2024-faculty-teaching-credits-opthalmology-oculofacial-surgery-clerkship/
LOCATION:Sarasota Regional Campus\, 5560 Bee Ridge Rd\, Sarasota\, FL\, 34233\, United States
CATEGORIES:AMA
END:VEVENT
BEGIN:VEVENT
DTSTART;TZID=America/Chicago:20240920T080000
DTEND;TZID=America/Chicago:20240920T170000
DTSTAMP:20260423T020907
CREATED:20241031T123049Z
LAST-MODIFIED:20241031T123201Z
UID:59131-1726819200-1726851600@mecop.stagingthedigitalscratch.com
SUMMARY:2024 Faculty Teaching Credits Outpatient Psychiatry Clerkship
DESCRIPTION:Unavailable
URL:https://mecop.stagingthedigitalscratch.com/event/2024-faculty-teaching-credits-outpatient-psychiatry-clerkship/
LOCATION:Fort Pierce Regional Campus\, 1200 W International Speedway Blvd #101\, Daytona Beach\, FL\, 32114\, United States
CATEGORIES:AMA
END:VEVENT
BEGIN:VEVENT
DTSTART;TZID=America/Chicago:20240920T080000
DTEND;TZID=America/Chicago:20240920T170000
DTSTAMP:20260423T020907
CREATED:20241028T140940Z
LAST-MODIFIED:20241028T141425Z
UID:59055-1726819200-1726851600@mecop.stagingthedigitalscratch.com
SUMMARY:2024 Faculty Teaching Credits Sleep Medicine Clerkship
DESCRIPTION:Unavailable
URL:https://mecop.stagingthedigitalscratch.com/event/2024-faculty-teaching-credits-sleep-medicine-clerkship/
LOCATION:Tallahassee Regional Campus\, Tallahassee\, FL\, United States
CATEGORIES:AMA
END:VEVENT
BEGIN:VEVENT
DTSTART;TZID=America/Chicago:20240920T080000
DTEND;TZID=America/Chicago:20240920T170000
DTSTAMP:20260423T020907
CREATED:20241016T195509Z
LAST-MODIFIED:20241111T165008Z
UID:58741-1726819200-1726851600@mecop.stagingthedigitalscratch.com
SUMMARY:2024 Faculty Teaching Credits Orthopedics Clerkship
DESCRIPTION:Unavailable
URL:https://mecop.stagingthedigitalscratch.com/event/2024-faculty-teaching-credits-orthopedics-clerkship/
LOCATION:Sarasota Regional Campus\, 5560 Bee Ridge Rd\, Sarasota\, FL\, 34233\, United States
CATEGORIES:AMA
END:VEVENT
BEGIN:VEVENT
DTSTART;TZID=America/Chicago:20240920T080000
DTEND;TZID=America/Chicago:20240920T170000
DTSTAMP:20260423T020907
CREATED:20241004T134841Z
LAST-MODIFIED:20241004T135526Z
UID:58566-1726819200-1726851600@mecop.stagingthedigitalscratch.com
SUMMARY:2024 Faculty Teaching Credits Internal Medicine/Cardiology Clerkship
DESCRIPTION:Unavailable
URL:https://mecop.stagingthedigitalscratch.com/event/2024-faculty-teaching-credits-internal-medicine-cardiology-clerkship/
LOCATION:Sarasota Regional Campus\, 5560 Bee Ridge Rd\, Sarasota\, FL\, 34233\, United States
CATEGORIES:AMA
END:VEVENT
BEGIN:VEVENT
DTSTART;TZID=America/Chicago:20240920T080000
DTEND;TZID=America/Chicago:20240920T170000
DTSTAMP:20260423T020907
CREATED:20241002T111952Z
LAST-MODIFIED:20241211T152959Z
UID:58534-1726819200-1726851600@mecop.stagingthedigitalscratch.com
SUMMARY:2024 Faculty Teaching Credits Emergency Medicine Clerkship
DESCRIPTION:Unavailable
URL:https://mecop.stagingthedigitalscratch.com/event/2024-faculty-teaching-credits-emergency-medicine-clerkship-4/
LOCATION:Sarasota Regional Campus\, 5560 Bee Ridge Rd\, Sarasota\, FL\, 34233\, United States
CATEGORIES:AMA
END:VEVENT
BEGIN:VEVENT
DTSTART;TZID=America/Chicago:20240920T080000
DTEND;TZID=America/Chicago:20240920T170000
DTSTAMP:20260423T020907
CREATED:20240925T120722Z
LAST-MODIFIED:20241206T202849Z
UID:58472-1726819200-1726851600@mecop.stagingthedigitalscratch.com
SUMMARY:2024 Faculty Teaching Credits Plastic Surgery Clerkship
DESCRIPTION:Unavailable
URL:https://mecop.stagingthedigitalscratch.com/event/2024-faculty-teaching-credits-plastic-surgery-clerkship/
LOCATION:Fort Pierce Regional Campus\, 1200 W International Speedway Blvd #101\, Daytona Beach\, FL\, 32114\, United States
CATEGORIES:AMA
END:VEVENT
BEGIN:VEVENT
DTSTART;TZID=America/Chicago:20240920T080000
DTEND;TZID=America/Chicago:20240920T170000
DTSTAMP:20260423T020907
CREATED:20240925T114701Z
LAST-MODIFIED:20241210T130712Z
UID:58468-1726819200-1726851600@mecop.stagingthedigitalscratch.com
SUMMARY:2024 Faculty Teaching Credits Urology Clerkship
DESCRIPTION:Unavailable
URL:https://mecop.stagingthedigitalscratch.com/event/2024-faculty-teaching-credits-urology-clerkship/
LOCATION:Fort Pierce Regional Campus\, 1200 W International Speedway Blvd #101\, Daytona Beach\, FL\, 32114\, United States
CATEGORIES:AMA
END:VEVENT
BEGIN:VEVENT
DTSTART;TZID=America/Chicago:20240920T080000
DTEND;TZID=America/Chicago:20240920T170000
DTSTAMP:20260423T020907
CREATED:20240918T211411Z
LAST-MODIFIED:20241202T160037Z
UID:58402-1726819200-1726851600@mecop.stagingthedigitalscratch.com
SUMMARY:2024 Faculty Teaching Credits Ophthalmology Clerkship
DESCRIPTION:Unavailable
URL:https://mecop.stagingthedigitalscratch.com/event/2024-faculty-teaching-credits-ophthalmology-clerkship-2/
LOCATION:Tallahassee Regional Campus\, Tallahassee\, FL\, United States
CATEGORIES:AMA
END:VEVENT
BEGIN:VEVENT
DTSTART;TZID=America/Chicago:20240919T180000
DTEND;TZID=America/Chicago:20240919T200000
DTSTAMP:20260423T020907
CREATED:20240830T130141Z
LAST-MODIFIED:20240930T160327Z
UID:58198-1726768800-1726776000@mecop.stagingthedigitalscratch.com
SUMMARY:FSU-Daytona Beach
DESCRIPTION:1. Describe cause and manner of death\n2. Understand the parts of a death certificate\n3. Understand the prevalence of errors on death certificates\n4. Improve death certification in practice by reviewing examples and guidelines\n5. Discuss cases from the Zoom audience
URL:https://mecop.stagingthedigitalscratch.com/event/florida-state-university-college-of-medicine-daytona-beach-regional-campus/
LOCATION:Daytona Beach Regional Campus\, 1200 W International Speedway\, Daytona Beach\, FL\, 32114\, United States
CATEGORIES:AMA
END:VEVENT
BEGIN:VEVENT
DTSTART;TZID=America/Chicago:20240918T080000
DTEND;TZID=America/Chicago:20240918T170000
DTSTAMP:20260423T020907
CREATED:20241003T153316Z
LAST-MODIFIED:20241003T184115Z
UID:58554-1726646400-1726678800@mecop.stagingthedigitalscratch.com
SUMMARY:Confirmed or Suspected Autism: Collaborative Interventions and Management
DESCRIPTION:Discuss evidenced-based interdisciplinary interventions and regional resources for children with confirmed or suspected autism spectrum disorder.
URL:https://mecop.stagingthedigitalscratch.com/event/confirmed-or-suspected-autism-collaborative-interventions-and-management/
LOCATION:Live Webcast
CATEGORIES:AMA
END:VEVENT
BEGIN:VEVENT
DTSTART;TZID=America/Chicago:20240918T080000
DTEND;TZID=America/Chicago:20240918T170000
DTSTAMP:20260423T020907
CREATED:20240924T184413Z
LAST-MODIFIED:20240925T151551Z
UID:58464-1726646400-1726678800@mecop.stagingthedigitalscratch.com
SUMMARY:CMS Monthly Provider Meeting
DESCRIPTION:Discuss the use of suboxone in pregnancy\nDiscuss how stimulants effect methadone metabolism\nDiscuss current dosing trends
URL:https://mecop.stagingthedigitalscratch.com/event/cms-monthly-provider-meeting-5/
LOCATION:Internet Live Webcast
CATEGORIES:AMA
END:VEVENT
BEGIN:VEVENT
DTSTART;TZID=America/Chicago:20240918T080000
DTEND;TZID=America/Chicago:20240918T170000
DTSTAMP:20260423T020907
CREATED:20240918T130512Z
LAST-MODIFIED:20240918T131356Z
UID:58393-1726646400-1726678800@mecop.stagingthedigitalscratch.com
SUMMARY:General Adult Tumor Board 2024
DESCRIPTION:Unavailable
URL:https://mecop.stagingthedigitalscratch.com/event/general-adult-tumor-board-2024-24/
LOCATION:Ascension Sacred Heart Hospital\, FL
CATEGORIES:AMA
END:VEVENT
BEGIN:VEVENT
DTSTART;TZID=America/Chicago:20240918T080000
DTEND;TZID=America/Chicago:20240918T170000
DTSTAMP:20260423T020907
CREATED:20240826T171433Z
LAST-MODIFIED:20241024T143757Z
UID:58109-1726646400-1726678800@mecop.stagingthedigitalscratch.com
SUMMARY:Better Health Group Monthly Town Hall Meeting
DESCRIPTION:TBA
URL:https://mecop.stagingthedigitalscratch.com/event/better-health-group-monthly-town-hall-meeting-6/
LOCATION:Zoom
CATEGORIES:AMA
END:VEVENT
BEGIN:VEVENT
DTSTART;TZID=America/Chicago:20240917T080000
DTEND;TZID=America/Chicago:20240917T170000
DTSTAMP:20260423T020907
CREATED:20240925T202729Z
LAST-MODIFIED:20241028T212609Z
UID:58494-1726560000-1726592400@mecop.stagingthedigitalscratch.com
SUMMARY:FSU-Ft. Pierce
DESCRIPTION:1. Describe 3 features of the FSUCOM curriculum that you would include in a conversation with someone who was unfamiliar with the curriculum.\n2. Identify learning objectives you can help the FSUCOM student accomplish that are located in the syllabus specific to the required clerkship or elective rotation on which you teach.\n3. List the three characteristics/skills of effective clinical teachers that you feel are particularly/most important.\n4. List/describe one characteristic of effective teachers that you feel need to enhance and one characteristic/skill you feel is a strength at this time.\n5. Describe the wave model which is a teaching strategy designed to help make teaching in the ambulatory setting efficient.\n6. Describe how to provide an orientation at the beginning of a clerkship to a student arriving at your office or clinical setting.\n7. Describe the ARCH model for giving feedback to the student.
URL:https://mecop.stagingthedigitalscratch.com/event/fsu-ft-pierce-192/
LOCATION:Fort Pierce Regional Campus\, 1200 W International Speedway Blvd #101\, Daytona Beach\, FL\, 32114\, United States
CATEGORIES:AMA
END:VEVENT
BEGIN:VEVENT
DTSTART;TZID=America/Chicago:20240917T080000
DTEND;TZID=America/Chicago:20240917T170000
DTSTAMP:20260423T020907
CREATED:20240917T183703Z
LAST-MODIFIED:20240920T144640Z
UID:58381-1726560000-1726592400@mecop.stagingthedigitalscratch.com
SUMMARY:Risk Adjustment and Different Strokes
DESCRIPTION:Review CMS-HCC risk adjustment model and why it is important\nReview specific official ICD-10-CM coding guidelines and how they are applied for HCC diagnosis coding\nIdentify elements of the medical record that help support the validation of an HCC diagnosis condition\nIdentify documentation deficiencies for specific conditions.
URL:https://mecop.stagingthedigitalscratch.com/event/risk-adjustment-and-different-strokes-3/
LOCATION:Live Webinar
CATEGORIES:AMA
END:VEVENT
BEGIN:VEVENT
DTSTART;TZID=America/Chicago:20240917T080000
DTEND;TZID=America/Chicago:20240917T170000
DTSTAMP:20260423T020907
CREATED:20240903T112302Z
LAST-MODIFIED:20241023T211216Z
UID:58214-1726560000-1726592400@mecop.stagingthedigitalscratch.com
SUMMARY:South Baldwin Tumor Board
DESCRIPTION:1. Review patient cases and all necessary findings (pathology\, radiology\, surgery\, etc.) and discuss key\nfindings to determine course of treatment.\n2. Discuss implications amongst multidisciplinary team members\, and review best practices\, current\nevidence-based findings\, etc.\n3. Assign treatment protocols based on consensus of the multidisciplinary team.
URL:https://mecop.stagingthedigitalscratch.com/event/south-baldwin-tumor-board-32/
LOCATION:Baldwin Health
CATEGORIES:AMA
END:VEVENT
BEGIN:VEVENT
DTSTART;TZID=America/Chicago:20240916T080000
DTEND;TZID=America/Chicago:20240916T170000
DTSTAMP:20260423T020907
CREATED:20240917T142452Z
LAST-MODIFIED:20240917T142452Z
UID:58379-1726473600-1726506000@mecop.stagingthedigitalscratch.com
SUMMARY:Medical Management of Shoulder Dystocia
DESCRIPTION:Unavailable
URL:https://mecop.stagingthedigitalscratch.com/event/medical-management-of-shoulder-dystocia-2/
LOCATION:Enduring Activity
CATEGORIES:AMA
END:VEVENT
BEGIN:VEVENT
DTSTART;TZID=America/Chicago:20240914T080000
DTEND;TZID=America/Chicago:20240914T170000
DTSTAMP:20260423T020907
CREATED:20250113T185333Z
LAST-MODIFIED:20250113T185956Z
UID:60564-1726300800-1726333200@mecop.stagingthedigitalscratch.com
SUMMARY:59th Annual Meeting
DESCRIPTION:Unavailable
URL:https://mecop.stagingthedigitalscratch.com/event/59th-annual-meeting/
LOCATION:Barcelona Spain
CATEGORIES:AMA
END:VEVENT
BEGIN:VEVENT
DTSTART;TZID=America/Chicago:20240913T130000
DTEND;TZID=America/Chicago:20240913T140000
DTSTAMP:20260423T020907
CREATED:20240913T203310Z
LAST-MODIFIED:20240913T220539Z
UID:58342-1726232400-1726236000@mecop.stagingthedigitalscratch.com
SUMMARY:Risk Adjustment and Different Strokes
DESCRIPTION:Review CMS-HCC risk adjustment model and why it is important\nReview specific official ICD-10-CM coding guidelines and how they are applied for HCC diagnosis coding\nIdentify elements of the medical record that help support the validation of an HCC diagnosis condition\nIdentify documentation deficiencies for specific conditions.
URL:https://mecop.stagingthedigitalscratch.com/event/risk-adjustment-and-different-strokes-2/
LOCATION:Live Webinar
CATEGORIES:AMA
END:VEVENT
BEGIN:VEVENT
DTSTART;TZID=America/Chicago:20240913T080000
DTEND;TZID=America/Chicago:20240913T170000
DTSTAMP:20260423T020907
CREATED:20241027T105536Z
LAST-MODIFIED:20241027T105536Z
UID:59044-1726214400-1726246800@mecop.stagingthedigitalscratch.com
SUMMARY:2024 Faculty Teaching Credits Interventional Radiology Clerkship
DESCRIPTION:Unavailable
URL:https://mecop.stagingthedigitalscratch.com/event/2024-faculty-teaching-credits-interventional-radiology-clerkship/
LOCATION:Sarasota Regional Campus\, 5560 Bee Ridge Rd\, Sarasota\, FL\, 34233\, United States
CATEGORIES:AMA
END:VEVENT
BEGIN:VEVENT
DTSTART;TZID=America/Chicago:20240912T080000
DTEND;TZID=America/Chicago:20240912T170000
DTSTAMP:20260423T020907
CREATED:20241004T214327Z
LAST-MODIFIED:20241114T190552Z
UID:58594-1726128000-1726160400@mecop.stagingthedigitalscratch.com
SUMMARY:PEEP Risk Adjustment and the Facts of Life about Pediatric Conditions
DESCRIPTION:Review CMS-HCC risk adjustment model and why it is important\nReview specific official ICD-10-CM coding guidelines and how they are applied for HCC diagnosis coding\nIdentify elements of the medical record that help support the validation of an HCC diagnosis condition\nIdentify documentation deficiencies for specific conditions
URL:https://mecop.stagingthedigitalscratch.com/event/peep-risk-adjustment-and-the-facts-of-life-about-pediatric-conditions/
LOCATION:Internet Enduring Material
CATEGORIES:AMA
END:VEVENT
BEGIN:VEVENT
DTSTART;TZID=America/Chicago:20240912T080000
DTEND;TZID=America/Chicago:20240912T170000
DTSTAMP:20260423T020907
CREATED:20240923T142258Z
LAST-MODIFIED:20240923T143435Z
UID:58432-1726128000-1726160400@mecop.stagingthedigitalscratch.com
SUMMARY:NFO Business of Medicine Web Series: Documentation Essentials for Healthcare Professionals
DESCRIPTION:Documentation in patient health records is used in a variety of ways. It memorializes patient care\, facilitates communication among caregivers\, forms the basis for coding and billing\, provides data pertinent to quality improvement\, and may provide information that is critical to the defense of legal action. Unfortunately\, documentation issues continue to be a contributing factor in adverse events and malpractice claims. This program addresses common documentation issues and provides realistic strategies to enhance patient safety efforts through documentation. \nObjectives: \nDescribe the function and benefit of documentation. Identify lessons learned from the defense of claims. Discuss best practices to avoid documentation issues. Establish goals to strengthen documentation.
URL:https://mecop.stagingthedigitalscratch.com/event/nfo-business-of-medicine-web-series-documentation-essentials-for-healthcare-professionals/
LOCATION:Live Webcast
CATEGORIES:AMA
END:VEVENT
END:VCALENDAR