BEGIN:VCALENDAR
VERSION:2.0
PRODID:-//Mecop - ECPv6.5.1.5//NONSGML v1.0//EN
CALSCALE:GREGORIAN
METHOD:PUBLISH
X-WR-CALNAME:Mecop
X-ORIGINAL-URL:https://mecop.stagingthedigitalscratch.com
X-WR-CALDESC:Events for Mecop
REFRESH-INTERVAL;VALUE=DURATION:PT1H
X-Robots-Tag:noindex
X-PUBLISHED-TTL:PT1H
BEGIN:VTIMEZONE
TZID:America/Chicago
BEGIN:DAYLIGHT
TZOFFSETFROM:-0600
TZOFFSETTO:-0500
TZNAME:CDT
DTSTART:20240310T080000
END:DAYLIGHT
BEGIN:STANDARD
TZOFFSETFROM:-0500
TZOFFSETTO:-0600
TZNAME:CST
DTSTART:20241103T070000
END:STANDARD
END:VTIMEZONE
BEGIN:VEVENT
DTSTART;TZID=America/Chicago:20241004T080000
DTEND;TZID=America/Chicago:20241004T154500
DTSTAMP:20260423T004614
CREATED:20240412T120139Z
LAST-MODIFIED:20241018T132724Z
UID:56521-1728028800-1728056700@mecop.stagingthedigitalscratch.com
SUMMARY:MUSM Faith in Rural Health Summit
DESCRIPTION:Faith in Rural Health Rural Health physician in trenches response to Covid 19 \n1.Discuss the importance of early involvement of chaplains\, faith leaders in crisis with clear communication between health care providers and faith leaders\n2. Involvement of faith leaders in decision-making when possible regarding standards of care and policies.\n3. Challenges in addressing a health care crisis in a community with many unfavorable social determinants of health\n4. Importance of communication\, preparation\, and collaboration \nMeeting on the Road to Jericho- \n1. Appreciate the connection between religious faith and physical health\n2. Discern health from unhealthy faith practices\n3. Develop coalitions between faith and health communities. \nResearch on Faith in Rural Health: A State of The Field and Overview of Student Research- \n1. To identify important themes\, claims\, and problems in research on faith in health\n2. To review the ways in which current MUSM medical students learn about faith in healthcare\n3. To explain the collaborative nature of student research on faith in rural health\n4. To discuss students’ suggestions for initiatives and programs emerging from their faith in rural health research. \nCollaborations in Action\, A Panel Discussion- \n1. To introduce Faith/Health collaborations in Rural counties.\n2. To illustrate how each county has developed their unique projects.\n3. To discover how these have worked/are working in each county to address their self-identified needs.\n4. To Introduce past inters from past Faith in Rural Health internships\n5. To discover how interdisciplinary work in counties has informed their training.\n6. To invite participants to ask questions\, engage in conversation\, and evaluate how they might use this model of building faith/health collaborations in their community. \n 
URL:https://mecop.stagingthedigitalscratch.com/event/musm-faith-in-rural-health-summit/
LOCATION:President’s Dining Room\, Mercer University\, Macon Campus
CATEGORIES:AMA
END:VEVENT
BEGIN:VEVENT
DTSTART;TZID=America/Chicago:20241003T080000
DTEND;TZID=America/Chicago:20241030T170000
DTSTAMP:20260423T004614
CREATED:20241030T155441Z
LAST-MODIFIED:20241030T160519Z
UID:59105-1727942400-1730307600@mecop.stagingthedigitalscratch.com
SUMMARY:NFO Business of Medicine Web Series: Understanding the Incident to Provision
DESCRIPTION:Incident to is a CMS billing concept. During our session we will discuss the requirements of incident to billing and how to remain compliant. We will also review some clinical scenarios. \nAt the conclusion of this program\, participants should be able to: 1. What is incident to billing? 2. What is the reimbursement model for incident to billing. 3. What the guidelines are for incident to billing. 4. Documentation requirements for incident to billing. 5. How to apply the incident to guidelines.
URL:https://mecop.stagingthedigitalscratch.com/event/nfo-business-of-medicine-web-series-understanding-the-incident-to-provision-2/
LOCATION:Internet Live Webcast
CATEGORIES:AMA
END:VEVENT
BEGIN:VEVENT
DTSTART;TZID=America/Chicago:20241002T080000
DTEND;TZID=America/Chicago:20241002T170000
DTSTAMP:20260423T004614
CREATED:20241004T205610Z
LAST-MODIFIED:20241031T141231Z
UID:58575-1727856000-1727888400@mecop.stagingthedigitalscratch.com
SUMMARY:FSU Fundamentals of Teaching in the FSU COM Clinical Education Program I Module
DESCRIPTION:Unavailable
URL:https://mecop.stagingthedigitalscratch.com/event/fsu-fundamentals-of-teaching-in-the-fsu-com-clinical-education-program-i-module-5/
LOCATION:Enduring Material
CATEGORIES:AMA
END:VEVENT
BEGIN:VEVENT
DTSTART;TZID=America/Chicago:20241001T080000
DTEND;TZID=America/Chicago:20241028T170000
DTSTAMP:20260423T004614
CREATED:20241028T171853Z
LAST-MODIFIED:20241028T173653Z
UID:59067-1727769600-1730134800@mecop.stagingthedigitalscratch.com
SUMMARY:KAMAP Introduction to Dermal Fillers
DESCRIPTION:Explain the mechanism of action of hyaluronic acid dermal fillers.\nIdentify safe prescribing practices of hyaluronic acid dermal fillers\nDemonstrate safe administration of hyaluronic acid dermal fillers\nAnticipate the risk of side effects\, adverse events\, and complications of administration of hyaluronic acid dermal fillers.\nOutline possible side effects of hyaluronic acid dermal fillers.\nUnderstand management of emergent complications of hyaluronic acid dermal fillers.
URL:https://mecop.stagingthedigitalscratch.com/event/kamap-introduction-to-dermal-fillers-3/
LOCATION:Kentucky
CATEGORIES:AMA
END:VEVENT
BEGIN:VEVENT
DTSTART;TZID=America/Chicago:20241001T080000
DTEND;TZID=America/Chicago:20241004T170000
DTSTAMP:20260423T004614
CREATED:20241004T213729Z
LAST-MODIFIED:20241220T170152Z
UID:58592-1727769600-1728061200@mecop.stagingthedigitalscratch.com
SUMMARY:PEEP Risk Adjustment 101
DESCRIPTION:Review CMS-HCC risk adjustment model and why it is important\nReview specific official ICD-10-CM coding guidelines and how they are applied for HCC diagnosis coding\nIdentify elements of the medical record that help support the validation of an HCC diagnosis condition\nIdentify documentation deficiencies for specific conditions
URL:https://mecop.stagingthedigitalscratch.com/event/peep-risk-adjustment-101-3/
LOCATION:Internet Enduring Material
CATEGORIES:AMA
END:VEVENT
BEGIN:VEVENT
DTSTART;TZID=America/Chicago:20241001T080000
DTEND;TZID=America/Chicago:20241001T170000
DTSTAMP:20260423T004614
CREATED:20250425T112951Z
LAST-MODIFIED:20250425T113724Z
UID:62223-1727769600-1727802000@mecop.stagingthedigitalscratch.com
SUMMARY:AAO-HNSF 2024 Annual Meeting and OTO Expo
DESCRIPTION:Unavailable
URL:https://mecop.stagingthedigitalscratch.com/event/aao-hnsf-2024-annual-meeting-and-oto-expo/
LOCATION:Live
CATEGORIES:AMA
END:VEVENT
BEGIN:VEVENT
DTSTART;TZID=America/Chicago:20241001T080000
DTEND;TZID=America/Chicago:20241001T170000
DTSTAMP:20260423T004614
CREATED:20241028T172450Z
LAST-MODIFIED:20241028T173755Z
UID:59071-1727769600-1727802000@mecop.stagingthedigitalscratch.com
SUMMARY:KAMAP Advanced Neuromodulators and Dermal Filler
DESCRIPTION:1. Identify the advanced areas of injection of neuromodulators & dermal fillers.\n2. Identify safe prescribing practices of neuromodulators & dermal fillers.\n3. Demonstrate safe administration of neuromodulators & dermal fillers.\n4. Demonstrate safe and appropriate injection techniques of advanced\nneuromodulator and dermal filler areas discussed in this course.\n5. Discuss danger zones and possible side effects of advanced neuromodulator &\ndermal filler administration.
URL:https://mecop.stagingthedigitalscratch.com/event/kamap-advanced-neuromodulators-and-dermal-filler/
LOCATION:Kentucky
CATEGORIES:AMA
END:VEVENT
BEGIN:VEVENT
DTSTART;TZID=America/Chicago:20241001T080000
DTEND;TZID=America/Chicago:20241001T170000
DTSTAMP:20260423T004614
CREATED:20241028T172017Z
LAST-MODIFIED:20241028T173725Z
UID:59069-1727769600-1727802000@mecop.stagingthedigitalscratch.com
SUMMARY:KAMAP Introduction to Neuromodulators
DESCRIPTION:Explain the mechanism of action of neuromodulators.\nIdentify safe prescribing practices of neuromodulators.\nDemonstrate safe administration of neuromodulators.\nAnticipate the risk of side effects\, adverse events\, and complications of administration of neuromodulators.\nOutline possible side effects of neuromodulator administration.
URL:https://mecop.stagingthedigitalscratch.com/event/kamap-introduction-to-neuromodulators-4/
LOCATION:Kentucky
CATEGORIES:AMA
END:VEVENT
BEGIN:VEVENT
DTSTART;TZID=America/Chicago:20241001T070000
DTEND;TZID=America/Chicago:20241010T170000
DTSTAMP:20260423T004614
CREATED:20241030T154123Z
LAST-MODIFIED:20241030T154737Z
UID:59102-1727766000-1728579600@mecop.stagingthedigitalscratch.com
SUMMARY:NFO Business of Medicine Web Series: Understanding the Incident to Provision
DESCRIPTION:Incident to is a CMS billing concept. During our session we will discuss the requirements of incident to billing and how to remain compliant. We will also review some clinical scenarios. \nAt the conclusion of this program\, participants should be able to: 1. What is incident to billing? 2. What is the reimbursement model for incident to billing. 3. What the guidelines are for incident to billing. 4. Documentation requirements for incident to billing. 5. How to apply the incident to guidelines.
URL:https://mecop.stagingthedigitalscratch.com/event/nfo-business-of-medicine-web-series-understanding-the-incident-to-provision/
LOCATION:Internet Live Webcast
CATEGORIES:AMA
END:VEVENT
BEGIN:VEVENT
DTSTART;TZID=America/Chicago:20240927T073000
DTEND;TZID=America/Chicago:20240927T164500
DTSTAMP:20260423T004614
CREATED:20240618T145214Z
LAST-MODIFIED:20250120T185336Z
UID:57297-1727422200-1727455500@mecop.stagingthedigitalscratch.com
SUMMARY:University of Miami Skin Cancer Symposium
DESCRIPTION:TBA
URL:https://mecop.stagingthedigitalscratch.com/event/university-of-miami-skin-cancer-symposium/
LOCATION:Loews Miami Beach
CATEGORIES:AMA
END:VEVENT
BEGIN:VEVENT
DTSTART;TZID=America/Chicago:20240926T180000
DTEND;TZID=America/Chicago:20240926T200000
DTSTAMP:20260423T004614
CREATED:20241206T164908Z
LAST-MODIFIED:20241213T130425Z
UID:59944-1727373600-1727380800@mecop.stagingthedigitalscratch.com
SUMMARY:FSU-Orlando
DESCRIPTION:To explain the science behind why people believe in conspiracy theories and the importance of critical thinking.
URL:https://mecop.stagingthedigitalscratch.com/event/orlando-all-faculty-meeting/
LOCATION:Orlando\, Florida
CATEGORIES:AMA
END:VEVENT
BEGIN:VEVENT
DTSTART;TZID=America/Chicago:20240925T120000
DTEND;TZID=America/Chicago:20240925T130000
DTSTAMP:20260423T004614
CREATED:20240708T230640Z
LAST-MODIFIED:20241017T195922Z
UID:57536-1727265600-1727269200@mecop.stagingthedigitalscratch.com
SUMMARY:MUSM Rural Healthcare Ethics ECHO Program
DESCRIPTION:1.Review the trends in health disparities among rural women and recognize the determinants both within and external to the health care system.\n2. Appreciate the social and structural factors that influence health outcomes and recognize the ways in which health care providers and policymakers can reduce generational cycles of health disparity.\n3. Discuss opportunities to improve the health and pregnancy outcomes for rural women.
URL:https://mecop.stagingthedigitalscratch.com/event/musm-rural-healthcare-ethics-echo-program-8/
LOCATION:Live
CATEGORIES:AMA
END:VEVENT
BEGIN:VEVENT
DTSTART;TZID=America/Chicago:20240925T080000
DTEND;TZID=America/Chicago:20240925T170000
DTSTAMP:20260423T004614
CREATED:20241004T214919Z
LAST-MODIFIED:20241220T171015Z
UID:58600-1727251200-1727283600@mecop.stagingthedigitalscratch.com
SUMMARY:Diabetes Type 2 Basic Care ACT
DESCRIPTION:See content.
URL:https://mecop.stagingthedigitalscratch.com/event/diabetes-type-2-basic-care-act-4/
LOCATION:Internet Enduring Material
CATEGORIES:AMA
END:VEVENT
BEGIN:VEVENT
DTSTART;TZID=America/Chicago:20240925T080000
DTEND;TZID=America/Chicago:20240925T170000
DTSTAMP:20260423T004614
CREATED:20241004T214713Z
LAST-MODIFIED:20241205T172632Z
UID:58598-1727251200-1727283600@mecop.stagingthedigitalscratch.com
SUMMARY:Diabetes Type 1 Basic Care ACT
DESCRIPTION:See content.
URL:https://mecop.stagingthedigitalscratch.com/event/diabetes-type-1-basic-care-act-4/
LOCATION:Internet Enduring Material
CATEGORIES:AMA
END:VEVENT
BEGIN:VEVENT
DTSTART;TZID=America/Chicago:20240925T080000
DTEND;TZID=America/Chicago:20240925T170000
DTSTAMP:20260423T004614
CREATED:20240924T181320Z
LAST-MODIFIED:20241009T192359Z
UID:58454-1727251200-1727283600@mecop.stagingthedigitalscratch.com
SUMMARY:Andalusia Health Grand Rounds
DESCRIPTION:1. Discuss the history of opioid use in North America\n2. Provide the latest opioid prescribing guideline as outlined by the CDC\n3\, Provide the latest opioid prescribing guidelines from the Alabama Medicaid Agency
URL:https://mecop.stagingthedigitalscratch.com/event/andalusia-health-grand-rounds-6/
LOCATION:Andalusia Health
CATEGORIES:AMA
END:VEVENT
BEGIN:VEVENT
DTSTART;TZID=America/Chicago:20240924T080000
DTEND;TZID=America/Chicago:20240924T170000
DTSTAMP:20260423T004614
CREATED:20240924T182830Z
LAST-MODIFIED:20240925T222854Z
UID:58459-1727164800-1727197200@mecop.stagingthedigitalscratch.com
SUMMARY:Risk Adjustment and Different Strokes
DESCRIPTION:Review CMS-HCC risk adjustment model and why it is important\nReview specific official ICD-10-CM coding guidelines and how they are applied for HCC diagnosis coding\nIdentify elements of the medical record that help support the validation of an HCC diagnosis condition\nIdentify documentation deficiencies for specific conditions.
URL:https://mecop.stagingthedigitalscratch.com/event/risk-adjustment-and-different-strokes-4/
LOCATION:Live Webinar
CATEGORIES:AMA
END:VEVENT
BEGIN:VEVENT
DTSTART;TZID=America/Chicago:20240923T080000
DTEND;TZID=America/Chicago:20240923T170000
DTSTAMP:20260423T004614
CREATED:20240925T230239Z
LAST-MODIFIED:20240925T230747Z
UID:58504-1727078400-1727110800@mecop.stagingthedigitalscratch.com
SUMMARY:KAMAP Bioidentical Hormone Replacement Therapy
DESCRIPTION:Review foundations of BHRT \nDetermine indications for Pellet Therapy \nIdentify signs of Hormonal Decline \nUnderstand the benefits of BHRT within your Practice. \nIdentify other options of HRT other then pellet therapy. \nReview of specifics of BHRT pellet therapy in Males & Females. \nAnticipate the risk of side effects\, adverse events\, and complications of administration of BHRT pellets.
URL:https://mecop.stagingthedigitalscratch.com/event/kamap-bioidentical-hormone-replacement-therapy/
LOCATION:Kentucky
CATEGORIES:AMA
END:VEVENT
BEGIN:VEVENT
DTSTART;TZID=America/Chicago:20240922T080000
DTEND;TZID=America/Chicago:20240922T170000
DTSTAMP:20260423T004614
CREATED:20241004T220340Z
LAST-MODIFIED:20241220T215047Z
UID:58612-1726992000-1727024400@mecop.stagingthedigitalscratch.com
SUMMARY:PEEP Risk Adjustment and Pediatrics 101
DESCRIPTION:Review CMS-HCC risk adjustment model and why it is important\nReview specific official ICD-10-CM coding guidelines and how they are applied for HCC diagnosis coding\nIdentify elements of the medical record that help support the validation of an HCC diagnosis condition\nIdentify documentation deficiencies for specific conditions
URL:https://mecop.stagingthedigitalscratch.com/event/peep-risk-adjustment-and-pediatrics-101/
LOCATION:Internet Enduring Material
CATEGORIES:AMA
END:VEVENT
BEGIN:VEVENT
DTSTART;TZID=America/Chicago:20240921T080000
DTEND;TZID=America/Chicago:20240921T170000
DTSTAMP:20260423T004614
CREATED:20240925T143654Z
LAST-MODIFIED:20240925T144139Z
UID:58477-1726905600-1726938000@mecop.stagingthedigitalscratch.com
SUMMARY:Facial Balacing and Biostimulators with Injector Coach Institute
DESCRIPTION:Facial Balancing: \nPerfect the patient consultation\nSpeak confidently about pricing\nDifferentiate facial shapes\nApply techniques to blend transition zones\nDemonstrate profiecency on practicum \nBiostimulators: \nIdentify which aesthetic products qualify as biostimulators \nIdentify mechanism of action of different biostimulators \nDemonstrate competency in reconsitituion and dilution of biostimulators\, depending on body area \nDemonstrate appropriate technique for injection of biostimulators\, depending on body area \nOutline the uses for biostimulatory agents in regenerative aesthetics and their role in the future of the industry
URL:https://mecop.stagingthedigitalscratch.com/event/facial-balacing-and-biostimulators-with-injector-coach-institute/
LOCATION:Mind Body Soul Medical
CATEGORIES:AMA
END:VEVENT
BEGIN:VEVENT
DTSTART;TZID=America/Chicago:20240921T080000
DTEND;TZID=America/Chicago:20240921T170000
DTSTAMP:20260423T004614
CREATED:20240923T143710Z
LAST-MODIFIED:20240923T143922Z
UID:58437-1726905600-1726938000@mecop.stagingthedigitalscratch.com
SUMMARY:Neurotoxin Training w/Jaime
DESCRIPTION:Discuss the FDA-approved and off-label uses of neurotoxin. \nOutline proper product preparation and placement. \nDiscuss facial anatomy\, contraindications and patient consult. \nDemonstrate proper preparation\, patient consultation\, technique and injection of neurotoxin.
URL:https://mecop.stagingthedigitalscratch.com/event/neurotoxin-training-w-jaime/
LOCATION:Watt Plastic Surgery
CATEGORIES:AMA
END:VEVENT
BEGIN:VEVENT
DTSTART;TZID=America/Chicago:20240920T080000
DTEND;TZID=America/Chicago:20240920T170000
DTSTAMP:20260423T004614
CREATED:20241210T192349Z
LAST-MODIFIED:20241210T192521Z
UID:60072-1726819200-1726851600@mecop.stagingthedigitalscratch.com
SUMMARY:2024 Faculty Teaching Credits Surgery/Trauma Critical Care Clerkship
DESCRIPTION:Unavailable
URL:https://mecop.stagingthedigitalscratch.com/event/2024-faculty-teaching-credits-surgery-trauma-critical-care-clerkship/
LOCATION:Sarasota Regional Campus\, 5560 Bee Ridge Rd\, Sarasota\, FL\, 34233\, United States
CATEGORIES:AMA
END:VEVENT
BEGIN:VEVENT
DTSTART;TZID=America/Chicago:20240920T080000
DTEND;TZID=America/Chicago:20240920T170000
DTSTAMP:20260423T004614
CREATED:20241210T143300Z
LAST-MODIFIED:20241210T143300Z
UID:60050-1726819200-1726851600@mecop.stagingthedigitalscratch.com
SUMMARY:2024 Faculty Teaching Credits Family Medicine/Sports Medicine Clerkship
DESCRIPTION:Unavailable
URL:https://mecop.stagingthedigitalscratch.com/event/2024-faculty-teaching-credits-family-medicine-sports-medicine-clerkship/
LOCATION:Pensacola Regional Campus\, 11000 University Parkway Bldg 234\, 2nd Floor\, Pensacola\, FL\, 32514-5750\, United States
CATEGORIES:AMA
END:VEVENT
BEGIN:VEVENT
DTSTART;TZID=America/Chicago:20240920T080000
DTEND;TZID=America/Chicago:20240920T170000
DTSTAMP:20260423T004614
CREATED:20241206T124550Z
LAST-MODIFIED:20241206T124550Z
UID:59922-1726819200-1726851600@mecop.stagingthedigitalscratch.com
SUMMARY:2024 Faculty Teaching Credits Pediatric Otolaryngology Clerkship
DESCRIPTION:Unavailable
URL:https://mecop.stagingthedigitalscratch.com/event/2024-faculty-teaching-credits-pediatric-otolaryngology-clerkship/
LOCATION:Pensacola Regional Campus\, 11000 University Parkway Bldg 234\, 2nd Floor\, Pensacola\, FL\, 32514-5750\, United States
CATEGORIES:AMA
END:VEVENT
BEGIN:VEVENT
DTSTART;TZID=America/Chicago:20240920T080000
DTEND;TZID=America/Chicago:20240920T170000
DTSTAMP:20260423T004614
CREATED:20241202T165611Z
LAST-MODIFIED:20241202T165611Z
UID:59792-1726819200-1726851600@mecop.stagingthedigitalscratch.com
SUMMARY:2024 Faculty Teaching Credits Internal Medicine/Endocrinology Clerkship
DESCRIPTION:Unavailable
URL:https://mecop.stagingthedigitalscratch.com/event/2024-faculty-teaching-credits-internal-medicine-endocrinology-clerkship/
LOCATION:Daytona Beach Regional Campus\, 1200 W International Speedway\, Daytona Beach\, FL\, 32114\, United States
CATEGORIES:AMA
END:VEVENT
BEGIN:VEVENT
DTSTART;TZID=America/Chicago:20240920T080000
DTEND;TZID=America/Chicago:20240920T170000
DTSTAMP:20260423T004614
CREATED:20241126T223409Z
LAST-MODIFIED:20241126T223409Z
UID:59721-1726819200-1726851600@mecop.stagingthedigitalscratch.com
SUMMARY:2024 Faculty Teaching Credits Gynecologic Oncology Clerkship
DESCRIPTION:Unavailable
URL:https://mecop.stagingthedigitalscratch.com/event/2024-faculty-teaching-credits-gynecologic-oncology-clerkship-2/
LOCATION:Orlando Regional Campus\, Orlando\, FL\, United States
CATEGORIES:AMA
END:VEVENT
BEGIN:VEVENT
DTSTART;TZID=America/Chicago:20240920T080000
DTEND;TZID=America/Chicago:20240920T170000
DTSTAMP:20260423T004614
CREATED:20241124T155143Z
LAST-MODIFIED:20241124T155143Z
UID:59609-1726819200-1726851600@mecop.stagingthedigitalscratch.com
SUMMARY:2024 Faculty Teaching Credits Neurosurgery Clerkship
DESCRIPTION:Unavailable
URL:https://mecop.stagingthedigitalscratch.com/event/2024-faculty-teaching-credits-neurosurgery-clerkship/
LOCATION:Fort Pierce Regional Campus\, 1200 W International Speedway Blvd #101\, Daytona Beach\, FL\, 32114\, United States
CATEGORIES:AMA
END:VEVENT
BEGIN:VEVENT
DTSTART;TZID=America/Chicago:20240920T080000
DTEND;TZID=America/Chicago:20240920T170000
DTSTAMP:20260423T004614
CREATED:20241121T182935Z
LAST-MODIFIED:20241211T190521Z
UID:59554-1726819200-1726851600@mecop.stagingthedigitalscratch.com
SUMMARY:2024 Faculty Teaching Credits Forensic Pathology Clerkship
DESCRIPTION:Unavailable
URL:https://mecop.stagingthedigitalscratch.com/event/2024-faculty-teaching-credits-forensic-pathology-clerkship-2/
LOCATION:Orlando Regional Campus\, Orlando\, FL\, United States
CATEGORIES:AMA
END:VEVENT
BEGIN:VEVENT
DTSTART;TZID=America/Chicago:20240920T080000
DTEND;TZID=America/Chicago:20240920T170000
DTSTAMP:20260423T004614
CREATED:20241120T172711Z
LAST-MODIFIED:20241120T173911Z
UID:59527-1726819200-1726851600@mecop.stagingthedigitalscratch.com
SUMMARY:2024 Faculty Teaching Credits Vascular Surgery Clerkship
DESCRIPTION:Unavailable
URL:https://mecop.stagingthedigitalscratch.com/event/2024-faculty-teaching-credits-vascular-surgery-clerkship-2/
LOCATION:Sarasota Regional Campus\, 5560 Bee Ridge Rd\, Sarasota\, FL\, 34233\, United States
CATEGORIES:AMA
END:VEVENT
BEGIN:VEVENT
DTSTART;TZID=America/Chicago:20240920T080000
DTEND;TZID=America/Chicago:20240920T170000
DTSTAMP:20260423T004614
CREATED:20241119T204828Z
LAST-MODIFIED:20241119T204828Z
UID:59498-1726819200-1726851600@mecop.stagingthedigitalscratch.com
SUMMARY:2024 Faculty Teaching Credits Surgery/Urology Clerkship
DESCRIPTION:Unavailable
URL:https://mecop.stagingthedigitalscratch.com/event/2024-faculty-teaching-credits-surgery-urology-clerkship-2/
LOCATION:Pensacola Regional Campus\, 11000 University Parkway Bldg 234\, 2nd Floor\, Pensacola\, FL\, 32514-5750\, United States
CATEGORIES:AMA
END:VEVENT
BEGIN:VEVENT
DTSTART;TZID=America/Chicago:20240920T080000
DTEND;TZID=America/Chicago:20240920T170000
DTSTAMP:20260423T004614
CREATED:20241118T145408Z
LAST-MODIFIED:20241118T145408Z
UID:59455-1726819200-1726851600@mecop.stagingthedigitalscratch.com
SUMMARY:2024 Faculty Teaching Credits Internal Medicine/Dermatology Teaching Credits
DESCRIPTION:Unavailable
URL:https://mecop.stagingthedigitalscratch.com/event/2024-faculty-teaching-credits-internal-medicine-dermatology-teaching-credits/
LOCATION:Daytona Beach Regional Campus\, 1200 W International Speedway\, Daytona Beach\, FL\, 32114\, United States
CATEGORIES:AMA
END:VEVENT
END:VCALENDAR