BEGIN:VCALENDAR
VERSION:2.0
PRODID:-//Mecop - ECPv6.5.1.5//NONSGML v1.0//EN
CALSCALE:GREGORIAN
METHOD:PUBLISH
X-WR-CALNAME:Mecop
X-ORIGINAL-URL:https://mecop.stagingthedigitalscratch.com
X-WR-CALDESC:Events for Mecop
REFRESH-INTERVAL;VALUE=DURATION:PT1H
X-Robots-Tag:noindex
X-PUBLISHED-TTL:PT1H
BEGIN:VTIMEZONE
TZID:America/Chicago
BEGIN:DAYLIGHT
TZOFFSETFROM:-0600
TZOFFSETTO:-0500
TZNAME:CDT
DTSTART:20240310T080000
END:DAYLIGHT
BEGIN:STANDARD
TZOFFSETFROM:-0500
TZOFFSETTO:-0600
TZNAME:CST
DTSTART:20241103T070000
END:STANDARD
END:VTIMEZONE
BEGIN:VEVENT
DTSTART;TZID=America/Chicago:20241016T080000
DTEND;TZID=America/Chicago:20241016T170000
DTSTAMP:20260423T063820
CREATED:20241019T224622Z
LAST-MODIFIED:20241019T224907Z
UID:58921-1729065600-1729098000@mecop.stagingthedigitalscratch.com
SUMMARY:Recommendations for Incidental Gallbladder Polyp Management
DESCRIPTION:Unavailable
URL:https://mecop.stagingthedigitalscratch.com/event/recommendations-for-incidental-gallbladder-polyp-management/
LOCATION:Enduring Activity
CATEGORIES:AMA
END:VEVENT
BEGIN:VEVENT
DTSTART;TZID=America/Chicago:20241016T080000
DTEND;TZID=America/Chicago:20241016T170000
DTSTAMP:20260423T063820
CREATED:20241019T223959Z
LAST-MODIFIED:20241019T224203Z
UID:58918-1729065600-1729098000@mecop.stagingthedigitalscratch.com
SUMMARY:Radiologic Extranodal Extension of Metastatic Lymph Nodes
DESCRIPTION:Unavailable
URL:https://mecop.stagingthedigitalscratch.com/event/radiologic-extranodal-extension-of-metastatic-lymph-nodes/
LOCATION:Enduring Activity
CATEGORIES:AMA
END:VEVENT
BEGIN:VEVENT
DTSTART;TZID=America/Chicago:20241016T080000
DTEND;TZID=America/Chicago:20241016T170000
DTSTAMP:20260423T063820
CREATED:20241019T223140Z
LAST-MODIFIED:20241019T223340Z
UID:58915-1729065600-1729098000@mecop.stagingthedigitalscratch.com
SUMMARY:Use of ChatGPT in Radiology Reporting and Patient Questions
DESCRIPTION:Unavailable
URL:https://mecop.stagingthedigitalscratch.com/event/use-of-chatgpt-in-radiology-reporting-and-patient-questions/
LOCATION:Enduring Activity
CATEGORIES:AMA
END:VEVENT
BEGIN:VEVENT
DTSTART;TZID=America/Chicago:20241016T080000
DTEND;TZID=America/Chicago:20241016T170000
DTSTAMP:20260423T063820
CREATED:20241016T184017Z
LAST-MODIFIED:20241016T184126Z
UID:58728-1729065600-1729098000@mecop.stagingthedigitalscratch.com
SUMMARY:Management of Negative Multiparametric Prostate MRI Examinations
DESCRIPTION:Unavailable
URL:https://mecop.stagingthedigitalscratch.com/event/management-of-negative-multiparametric-prostate-mri-examinations/
LOCATION:Enduring Activity
CATEGORIES:AMA
END:VEVENT
BEGIN:VEVENT
DTSTART;TZID=America/Chicago:20241016T080000
DTEND;TZID=America/Chicago:20241016T170000
DTSTAMP:20260423T063820
CREATED:20241016T183237Z
LAST-MODIFIED:20241016T183649Z
UID:58725-1729065600-1729098000@mecop.stagingthedigitalscratch.com
SUMMARY:PCa Upgrade and Downgrade Rates for PI-RADS v2.0 Versus v2.1
DESCRIPTION:Unavailable
URL:https://mecop.stagingthedigitalscratch.com/event/pca-upgrade-and-downgrade-rates-for-pi-rads-v2-0-versus-v2-1/
LOCATION:Enduring Activity
CATEGORIES:AMA
END:VEVENT
BEGIN:VEVENT
DTSTART;TZID=America/Chicago:20241016T080000
DTEND;TZID=America/Chicago:20241016T170000
DTSTAMP:20260423T063820
CREATED:20241016T181250Z
LAST-MODIFIED:20241016T181615Z
UID:58719-1729065600-1729098000@mecop.stagingthedigitalscratch.com
SUMMARY:FDG PET/CT and Lymphoma Treated With CAR T-Cell Therapy
DESCRIPTION:Unavailable
URL:https://mecop.stagingthedigitalscratch.com/event/fdg-pet-ct-and-lymphoma-treated-with-car-t-cell-therapy/
LOCATION:Enduring Activity
CATEGORIES:AMA
END:VEVENT
BEGIN:VEVENT
DTSTART;TZID=America/Chicago:20241016T080000
DTEND;TZID=America/Chicago:20241016T170000
DTSTAMP:20260423T063820
CREATED:20241016T180647Z
LAST-MODIFIED:20241016T180946Z
UID:58716-1729065600-1729098000@mecop.stagingthedigitalscratch.com
SUMMARY:AKI Risk After IV Iodinated Contrast Media Exposure
DESCRIPTION:Unavailable
URL:https://mecop.stagingthedigitalscratch.com/event/aki-risk-after-iv-iodinated-contrast-media-exposure/
LOCATION:Enduring Activity
CATEGORIES:AMA
END:VEVENT
BEGIN:VEVENT
DTSTART;TZID=America/Chicago:20241016T080000
DTEND;TZID=America/Chicago:20241016T170000
DTSTAMP:20260423T063820
CREATED:20241016T175538Z
LAST-MODIFIED:20241016T175538Z
UID:58714-1729065600-1729098000@mecop.stagingthedigitalscratch.com
SUMMARY:#95131 Prescription Opioids and Pain Management:
DESCRIPTION:Unavailable
URL:https://mecop.stagingthedigitalscratch.com/event/95131-prescription-opioids-and-pain-management-2/
LOCATION:Enduring Material
CATEGORIES:AMA,Prescribing of Controlled Substances
END:VEVENT
BEGIN:VEVENT
DTSTART;TZID=America/Chicago:20241016T080000
DTEND;TZID=America/Chicago:20241016T170000
DTSTAMP:20260423T063820
CREATED:20240923T184954Z
LAST-MODIFIED:20241024T143930Z
UID:58443-1729065600-1729098000@mecop.stagingthedigitalscratch.com
SUMMARY:Better Health Group Monthly Town Hall Meeting
DESCRIPTION:TBA
URL:https://mecop.stagingthedigitalscratch.com/event/better-health-group-monthly-town-hall-meeting-7/
LOCATION:Zoom
CATEGORIES:AMA
END:VEVENT
BEGIN:VEVENT
DTSTART;TZID=America/Chicago:20241015T120000
DTEND;TZID=America/Chicago:20241015T130000
DTSTAMP:20260423T063820
CREATED:20241015T134828Z
LAST-MODIFIED:20241023T114335Z
UID:58694-1728993600-1728997200@mecop.stagingthedigitalscratch.com
SUMMARY:MUSM Clinical Faculty Development Series
DESCRIPTION:Participants will learn how to define burnout and recognize its key characteristics.\nParticipants will understand the importance of addressing burnout and its impact on professional careers.\nParticipants will identify the pillars of wellness and practice microskill techniques to combat burnout in themselves and others.
URL:https://mecop.stagingthedigitalscratch.com/event/musm-clinical-faculty-development-series-22/
LOCATION:Live
CATEGORIES:AMA
END:VEVENT
BEGIN:VEVENT
DTSTART;TZID=America/Chicago:20241015T080000
DTEND;TZID=America/Chicago:20241015T170000
DTSTAMP:20260423T063820
CREATED:20241114T191001Z
LAST-MODIFIED:20241114T191006Z
UID:59341-1728979200-1729011600@mecop.stagingthedigitalscratch.com
SUMMARY:COPD ACT
DESCRIPTION:See document
URL:https://mecop.stagingthedigitalscratch.com/event/copd-act-4/
LOCATION:Internet Enduring Material
CATEGORIES:AMA
END:VEVENT
BEGIN:VEVENT
DTSTART;TZID=America/Chicago:20241015T080000
DTEND;TZID=America/Chicago:20241015T170000
DTSTAMP:20260423T063820
CREATED:20241021T163223Z
LAST-MODIFIED:20241021T163228Z
UID:58964-1728979200-1729011600@mecop.stagingthedigitalscratch.com
SUMMARY:ENT Pearls and Mastery of the Ear & Oral Cavity
DESCRIPTION:Understand oral cavity and oropharyngeal anatomy\, learn proper exam technique\, identify common oral cavity/oropharyngeal disease presentations\, and understand best treatment approaches for these conditions\nUnderstand nasal cavity anatomy\, learn proper exam techniques\, and identify common nasal cavity diagnoses with correct treatment protocols.\nLearn proper neck examination\, best imaging choices for various diagnoses\, and identify common neck pathological states with appropriate treatments.\nBecome much more confident in ear examinations through the use of otoscopy (normal and pneumatic otoscopy)\nLearn the use of performing the Valsalva maneuver during otoscopy – and how this may help diagnostic accuracy.\nLearn the proper use of the tuning fork – and implementing this to help discern middle ear pathology or tympanic membrane perforations.\nLearn how to perform tympanometry – and utilizing this to help detect the presence or absence of middle ear fluid/purulence or a tympanic membrane perforation.\nIdentification and proper treatment of otitis externa\nLearn various cerumen removal tools and techniques for cerumen and ear foreign bodies.\nLearn how to drain an auricular hematoma and properly place bolster.
URL:https://mecop.stagingthedigitalscratch.com/event/ent-pearls-and-mastery-of-the-ear-oral-cavity/
LOCATION:Internet Enduring Material
CATEGORIES:AMA
END:VEVENT
BEGIN:VEVENT
DTSTART;TZID=America/Chicago:20241015T080000
DTEND;TZID=America/Chicago:20241015T170000
DTSTAMP:20260423T063820
CREATED:20241017T112205Z
LAST-MODIFIED:20241018T172021Z
UID:58763-1728979200-1729011600@mecop.stagingthedigitalscratch.com
SUMMARY:Risk Adjustment and The Rules of Engagement: ICD-10-CM Coding Updates
DESCRIPTION:Review CMS-HCC risk adjustment model and why it is important\nReview specific official ICD-10-CM coding guidelines and how they are applied for HCC diagnosis coding\nIdentify elements of the medical record that help support the validation of an HCC diagnosis condition\nIdentify documentation deficiencies for specific conditions
URL:https://mecop.stagingthedigitalscratch.com/event/risk-adjustment-and-the-rules-of-engagement-for-icd-10-coding-updates-endeavour/
LOCATION:Live Webinar
CATEGORIES:AMA
END:VEVENT
BEGIN:VEVENT
DTSTART;TZID=America/Chicago:20241015T080000
DTEND;TZID=America/Chicago:20241015T170000
DTSTAMP:20260423T063820
CREATED:20241016T110546Z
LAST-MODIFIED:20241016T110546Z
UID:58705-1728979200-1729011600@mecop.stagingthedigitalscratch.com
SUMMARY:Prescribing Controlled Substances
DESCRIPTION:Unavailable
URL:https://mecop.stagingthedigitalscratch.com/event/prescribing-controlled-substances-7/
LOCATION:Enduring Activity
CATEGORIES:AMA,Prescribing of Controlled Substances
END:VEVENT
BEGIN:VEVENT
DTSTART;TZID=America/Chicago:20241015T080000
DTEND;TZID=America/Chicago:20241015T170000
DTSTAMP:20260423T063820
CREATED:20241015T175738Z
LAST-MODIFIED:20241015T175738Z
UID:58699-1728979200-1729011600@mecop.stagingthedigitalscratch.com
SUMMARY:Medical Errors:
DESCRIPTION:Unavailable
URL:https://mecop.stagingthedigitalscratch.com/event/medical-errors-8/
LOCATION:Enduring Material
CATEGORIES:AMA,MedErrors
END:VEVENT
BEGIN:VEVENT
DTSTART;TZID=America/Chicago:20241014T080000
DTEND;TZID=America/Chicago:20241014T170000
DTSTAMP:20260423T063820
CREATED:20241226T144834Z
LAST-MODIFIED:20241226T144840Z
UID:60306-1728892800-1728925200@mecop.stagingthedigitalscratch.com
SUMMARY:Hypertension ACT
DESCRIPTION:See content
URL:https://mecop.stagingthedigitalscratch.com/event/hypertension-act-5/
LOCATION:Internet Enduring Material
CATEGORIES:AMA
END:VEVENT
BEGIN:VEVENT
DTSTART;TZID=America/Chicago:20241014T080000
DTEND;TZID=America/Chicago:20241014T170000
DTSTAMP:20260423T063820
CREATED:20241201T222020Z
LAST-MODIFIED:20241201T222140Z
UID:59767-1728892800-1728925200@mecop.stagingthedigitalscratch.com
SUMMARY:2024 Faculty Teaching Credits HMC-General Surgery/PACE/Doctoring 3
DESCRIPTION:Unavailable
URL:https://mecop.stagingthedigitalscratch.com/event/2024-faculty-teaching-credits-hmc-general-surgery-pace-doctoring-3/
LOCATION:Daytona Beach Regional Campus\, 1200 W International Speedway\, Daytona Beach\, FL\, 32114\, United States
CATEGORIES:AMA
END:VEVENT
BEGIN:VEVENT
DTSTART;TZID=America/Chicago:20241014T080000
DTEND;TZID=America/Chicago:20241014T170000
DTSTAMP:20260423T063820
CREATED:20241016T123920Z
LAST-MODIFIED:20241016T174825Z
UID:58712-1728892800-1728925200@mecop.stagingthedigitalscratch.com
SUMMARY:FSU MBTI-Using Knowledge of Personality Type to Enhance Clinical Teaching Module
DESCRIPTION:Unavailable
URL:https://mecop.stagingthedigitalscratch.com/event/fsu-mbti-using-knowledge-of-personality-type-to-enhance-clinical-teaching-module-9/
LOCATION:Enduring Material
CATEGORIES:AMA
END:VEVENT
BEGIN:VEVENT
DTSTART;TZID=America/Chicago:20241014T080000
DTEND;TZID=America/Chicago:20241014T170000
DTSTAMP:20260423T063820
CREATED:20241016T122505Z
LAST-MODIFIED:20241016T122803Z
UID:58707-1728892800-1728925200@mecop.stagingthedigitalscratch.com
SUMMARY:FSU Identifying and Preventing Academic and Non-academic Difficulties Among M3 and M4 Learners Module
DESCRIPTION:Unavailable
URL:https://mecop.stagingthedigitalscratch.com/event/fsu-identifying-and-preventing-academic-and-non-academic-difficulties-among-m3-and-m4-learners-module-7/
LOCATION:Enduring Material
CATEGORIES:AMA
END:VEVENT
BEGIN:VEVENT
DTSTART;TZID=America/Chicago:20241013T080000
DTEND;TZID=America/Chicago:20241013T170000
DTSTAMP:20260423T063820
CREATED:20241226T150826Z
LAST-MODIFIED:20241226T150831Z
UID:60327-1728806400-1728838800@mecop.stagingthedigitalscratch.com
SUMMARY:PEEP Risk Adjustment and CKD
DESCRIPTION:See content.
URL:https://mecop.stagingthedigitalscratch.com/event/peep-risk-adjustment-and-ckd-3/
LOCATION:Internet Enduring Material
CATEGORIES:AMA
END:VEVENT
BEGIN:VEVENT
DTSTART;TZID=America/Chicago:20241013T080000
DTEND;TZID=America/Chicago:20241013T170000
DTSTAMP:20260423T063820
CREATED:20241226T150641Z
LAST-MODIFIED:20241226T150645Z
UID:60325-1728806400-1728838800@mecop.stagingthedigitalscratch.com
SUMMARY:PEEP Risk Adjustment and Diabetes with Complications
DESCRIPTION:Review CMS-HCC risk adjustment model and why it is important\nReview specific official ICD-10-CM coding guidelines and how they are applied for HCC diagnosis coding\nIdentify elements of the medical record that help support the validation of an HCC diagnosis condition\nIdentify documentation deficiencies for specific conditions
URL:https://mecop.stagingthedigitalscratch.com/event/peep-risk-adjustment-and-diabetes-with-complications-5/
LOCATION:Internet Enduring Material
CATEGORIES:AMA
END:VEVENT
BEGIN:VEVENT
DTSTART;TZID=America/Chicago:20241013T080000
DTEND;TZID=America/Chicago:20241013T170000
DTSTAMP:20260423T063820
CREATED:20241226T150458Z
LAST-MODIFIED:20241226T150503Z
UID:60323-1728806400-1728838800@mecop.stagingthedigitalscratch.com
SUMMARY:PEEP Risk Adjustment and Behavioral Health
DESCRIPTION:In the context of behavioral health:\nReview CMS-HCC risk adjustment model and why it is important\nReview specific official ICD-10-CM coding guidelines and how they are applied for HCC diagnosis coding\nIdentify elements of the medical record that help support the validation of an HCC diagnosis condition\nIdentify documentation deficiencies for specific conditions
URL:https://mecop.stagingthedigitalscratch.com/event/peep-risk-adjustment-and-behavioral-health-5/
LOCATION:Internet Enduring Material
CATEGORIES:AMA
END:VEVENT
BEGIN:VEVENT
DTSTART;TZID=America/Chicago:20241013T080000
DTEND;TZID=America/Chicago:20241013T170000
DTSTAMP:20260423T063820
CREATED:20241014T194556Z
LAST-MODIFIED:20241014T194959Z
UID:58680-1728806400-1728838800@mecop.stagingthedigitalscratch.com
SUMMARY:2024 Maintenance of Certification (MOC) Program
DESCRIPTION:Unavailable
URL:https://mecop.stagingthedigitalscratch.com/event/2024-maintenance-of-certification-moc-program-2/
LOCATION:Enduring Material
CATEGORIES:AMA
END:VEVENT
BEGIN:VEVENT
DTSTART;TZID=America/Chicago:20241012T080000
DTEND;TZID=America/Chicago:20241115T170000
DTSTAMP:20260423T063820
CREATED:20241115T162650Z
LAST-MODIFIED:20241206T160431Z
UID:59395-1728720000-1731690000@mecop.stagingthedigitalscratch.com
SUMMARY:Value-Based Prescribing ACT
DESCRIPTION:See content.
URL:https://mecop.stagingthedigitalscratch.com/event/value-based-prescribing-act-4/
LOCATION:Internet Enduring Material
CATEGORIES:AMA
END:VEVENT
BEGIN:VEVENT
DTSTART;TZID=America/Chicago:20241012T080000
DTEND;TZID=America/Chicago:20241115T170000
DTSTAMP:20260423T063820
CREATED:20241115T162514Z
LAST-MODIFIED:20241206T160400Z
UID:59393-1728720000-1731690000@mecop.stagingthedigitalscratch.com
SUMMARY:Urinary Incontinence in Adults ACT
DESCRIPTION:See content.
URL:https://mecop.stagingthedigitalscratch.com/event/urinary-incontinence-in-adults-act-4/
LOCATION:Internet Enduring Material
CATEGORIES:AMA
END:VEVENT
BEGIN:VEVENT
DTSTART;TZID=America/Chicago:20241012T080000
DTEND;TZID=America/Chicago:20241115T170000
DTSTAMP:20260423T063820
CREATED:20241115T154853Z
LAST-MODIFIED:20241220T171635Z
UID:59381-1728720000-1731690000@mecop.stagingthedigitalscratch.com
SUMMARY:Management of Obesity in Adults ACT
DESCRIPTION:See content.
URL:https://mecop.stagingthedigitalscratch.com/event/management-of-obesity-in-adults-act-4/
LOCATION:Internet Enduring Material
CATEGORIES:AMA
END:VEVENT
BEGIN:VEVENT
DTSTART;TZID=America/Chicago:20241011T080000
DTEND;TZID=America/Chicago:20241011T170000
DTSTAMP:20260423T063820
CREATED:20241108T233423Z
LAST-MODIFIED:20241208T204516Z
UID:59217-1728633600-1728666000@mecop.stagingthedigitalscratch.com
SUMMARY:2024 Faculty Teaching Credits Women's Health
DESCRIPTION:Unavailable
URL:https://mecop.stagingthedigitalscratch.com/event/2024-faculty-teaching-credits-womens-health-2/
LOCATION:Orlando Regional Campus\, Orlando\, FL\, United States
CATEGORIES:AMA
END:VEVENT
BEGIN:VEVENT
DTSTART;TZID=America/Chicago:20241011T080000
DTEND;TZID=America/Chicago:20241011T170000
DTSTAMP:20260423T063820
CREATED:20241014T201145Z
LAST-MODIFIED:20241014T201235Z
UID:58687-1728633600-1728666000@mecop.stagingthedigitalscratch.com
SUMMARY:Risk Adjustment and the Rules of Engagement: ICD-10-CM Coding Updates
DESCRIPTION:The goal of this session is to enhance your knowledge to the principles of CMS-HCC risk adjustment model and the importance of accurate and complete documentation requirements for ICD-10-CM diagnosis coding.\nThere will be discussions on CMS-HCC risk adjustment coding\, documentation challenges\, and official ICD-10-CM diagnosis coding guidelines. \nObjectives:\nReview CMS-HCC risk adjustment model and why it is important\nReview specific official ICD-10-CM coding guidelines and how they are applied for HCC diagnosis coding\nIdentify elements of the medical record that help support the validation of an HCC diagnosis condition\nIdentify documentation deficiencies for specific conditions
URL:https://mecop.stagingthedigitalscratch.com/event/risk-adjustment-and-the-rules-of-engagement-icd-10-cm-coding-updates-2/
LOCATION:Internet Live Webcast
CATEGORIES:AMA
END:VEVENT
BEGIN:VEVENT
DTSTART;TZID=America/Chicago:20241010T080000
DTEND;TZID=America/Chicago:20241115T170000
DTSTAMP:20260423T063820
CREATED:20241115T161844Z
LAST-MODIFIED:20241206T160111Z
UID:59390-1728547200-1731690000@mecop.stagingthedigitalscratch.com
SUMMARY:PEEP Risk Adjustment 102
DESCRIPTION:Review CMS-HCC risk adjustment model and why it is important\nReview specific official ICD-10-CM coding guidelines and how they are applied for HCC diagnosis coding\nIdentify elements of the medical record that help support the validation of an HCC diagnosis condition\nIdentify documentation deficiencies for specific conditions
URL:https://mecop.stagingthedigitalscratch.com/event/peep-risk-adjustment-102-3/
LOCATION:Internet Enduring Material
CATEGORIES:AMA
END:VEVENT
BEGIN:VEVENT
DTSTART;TZID=America/Chicago:20241010T080000
DTEND;TZID=America/Chicago:20241010T170000
DTSTAMP:20260423T063820
CREATED:20241226T145649Z
LAST-MODIFIED:20241226T145654Z
UID:60315-1728547200-1728579600@mecop.stagingthedigitalscratch.com
SUMMARY:PEEP V28 CMS HCC Risk Adjustment Model Changes
DESCRIPTION:Review CMS-HCC risk adjustment model and why it is important\nReview specific official ICD-10-CM coding guidelines and how they are applied for HCC diagnosis coding\nIdentify elements of the medical record that help support the validation of an HCC diagnosis condition\nIdentify documentation deficiencies for specific conditions.
URL:https://mecop.stagingthedigitalscratch.com/event/peep-v28-cms-hcc-risk-adjustment-model-changes-5/
LOCATION:Internet Enduring Material
CATEGORIES:AMA
END:VEVENT
END:VCALENDAR