BEGIN:VCALENDAR
VERSION:2.0
PRODID:-//Mecop - ECPv6.5.1.5//NONSGML v1.0//EN
CALSCALE:GREGORIAN
METHOD:PUBLISH
X-WR-CALNAME:Mecop
X-ORIGINAL-URL:https://mecop.stagingthedigitalscratch.com
X-WR-CALDESC:Events for Mecop
REFRESH-INTERVAL;VALUE=DURATION:PT1H
X-Robots-Tag:noindex
X-PUBLISHED-TTL:PT1H
BEGIN:VTIMEZONE
TZID:America/Chicago
BEGIN:DAYLIGHT
TZOFFSETFROM:-0600
TZOFFSETTO:-0500
TZNAME:CDT
DTSTART:20240310T080000
END:DAYLIGHT
BEGIN:STANDARD
TZOFFSETFROM:-0500
TZOFFSETTO:-0600
TZNAME:CST
DTSTART:20241103T070000
END:STANDARD
END:VTIMEZONE
BEGIN:VEVENT
DTSTART;TZID=America/Chicago:20241027T080000
DTEND;TZID=America/Chicago:20241027T170000
DTSTAMP:20260422T171933
CREATED:20241226T150045Z
LAST-MODIFIED:20241226T150246Z
UID:60319-1730016000-1730048400@mecop.stagingthedigitalscratch.com
SUMMARY:PEEP Risk Adjustment and Neurology
DESCRIPTION:Review CMS-HCC risk adjustment model and why it is important\nReview specific official ICD-10-CM coding guidelines and how they are applied for HCC diagnosis coding\nIdentify elements of the medical record that help support the validation of an HCC diagnosis condition\nIdentify documentation deficiencies for specific conditions
URL:https://mecop.stagingthedigitalscratch.com/event/peep-risk-adjustment-and-neurology-5/
LOCATION:Internet Enduring Material
CATEGORIES:AMA
END:VEVENT
BEGIN:VEVENT
DTSTART;TZID=America/Chicago:20241026T080000
DTEND;TZID=America/Chicago:20241026T170000
DTSTAMP:20260422T171933
CREATED:20241112T142742Z
LAST-MODIFIED:20241112T142742Z
UID:59299-1729929600-1729962000@mecop.stagingthedigitalscratch.com
SUMMARY:2024 Maintenance of Certification (MOC) Program
DESCRIPTION:Unavailable
URL:https://mecop.stagingthedigitalscratch.com/event/2024-maintenance-of-certification-moc-program-3/
LOCATION:Enduring Activity
CATEGORIES:AMA
END:VEVENT
BEGIN:VEVENT
DTSTART;TZID=America/Chicago:20241025T080000
DTEND;TZID=America/Chicago:20241206T170000
DTSTAMP:20260422T171933
CREATED:20241115T153404Z
LAST-MODIFIED:20241226T150332Z
UID:59371-1729843200-1733504400@mecop.stagingthedigitalscratch.com
SUMMARY:PEEP Risk Adjustment Heart Failure and Arrhythmias
DESCRIPTION:Review CMS-HCC risk adjustment model and why it is important\nReview specific official ICD-10-CM coding guidelines and how they are applied for HCC diagnosis coding\nIdentify elements of the medical record that help support the validation of an HCC diagnosis condition\nIdentify documentation deficiencies for specific conditions
URL:https://mecop.stagingthedigitalscratch.com/event/peep-risk-adjustment-heart-failure-and-arrhythmias-4/
LOCATION:Internet Enduring Material
CATEGORIES:AMA
END:VEVENT
BEGIN:VEVENT
DTSTART;TZID=America/Chicago:20241025T080000
DTEND;TZID=America/Chicago:20241025T170000
DTSTAMP:20260422T171933
CREATED:20241226T150946Z
LAST-MODIFIED:20241226T150950Z
UID:60329-1729843200-1729875600@mecop.stagingthedigitalscratch.com
SUMMARY:Advance Care Planning ACT
DESCRIPTION:See document
URL:https://mecop.stagingthedigitalscratch.com/event/advance-care-planning-act-6/
LOCATION:Internet Enduring Material
CATEGORIES:AMA
END:VEVENT
BEGIN:VEVENT
DTSTART;TZID=America/Chicago:20241024T080000
DTEND;TZID=America/Chicago:20241024T170000
DTSTAMP:20260422T171933
CREATED:20241120T162044Z
LAST-MODIFIED:20241120T162050Z
UID:59515-1729756800-1729789200@mecop.stagingthedigitalscratch.com
SUMMARY:NFO Business of Medicine Web Series: Use of Lasers to treat TMD and Pain
DESCRIPTION:This interactive webinar will explore the clinical application of Low-Level Laser Therapy (LLLT) in treating Temporomandibular Joint Disorders (TMD) and associated pain in the head and neck region. Participants will gain insights into the biological mechanisms behind LLLT\, including its anti-inflammatory and analgesic properties\, and how it can stimulate tissue repair. The session will cover best practices for laser implementation\, patient selection criteria\, and case studies demonstrating successful treatment outcomes. Attendees will leave with a deeper understanding of how LLLT can enhance treatment plans\, improve patient recovery times\, and potentially reduce the need for more invasive interventions. \nAt the conclusion of this program\, participants should be able to: 1. To learn how lasers can be implemented and used to promote healing and reduce pain. 2. To understand the mechanisms of Low-Level Laser Therapy (LLLT) in stimulating tissue repair and reducing inflammation in patients with TMD. 3. To explore patient selection criteria and practical guidelines for incorporating laser therapy into clinical practice for head and neck pain. 4. To review case studies highlighting the effectiveness of laser treatment in improving patient outcomes for TMD and related conditions.
URL:https://mecop.stagingthedigitalscratch.com/event/nfo-business-of-medicine-web-series-use-of-lasers-to-treat-tmd-and-pain/
LOCATION:Internet Live Webcast
CATEGORIES:AMA
END:VEVENT
BEGIN:VEVENT
DTSTART;TZID=America/Chicago:20241024T080000
DTEND;TZID=America/Chicago:20241024T170000
DTSTAMP:20260422T171933
CREATED:20241104T192823Z
LAST-MODIFIED:20241105T172914Z
UID:59156-1729756800-1729789200@mecop.stagingthedigitalscratch.com
SUMMARY:SMG Risk Adjustment and New Provider Training
DESCRIPTION:The goal of today’s session is to enhance your knowledge to the principles of Value Based Hierarchical Condition Category(HCC) Risk Adjustment(RA) model(s) and the importance of accurate and complete documentation requirements for ICD-10-CM diagnosis coding. \nReview Hierarchical Condition Category (HCC) Value Based Risk Adjustment model(s) and why it is important \nStronger understanding of the medical coding guidelines and regulations\, including compliance and the impact of diagnosis coding \nMindfulness to the auditing process for Center for Medicare and Medicaid Services (CMS) – HCC risk adjustment models and documenting and reporting chronic conditions yearly \nAwareness of “other” HCC Risk Models (Commercial\, Medicaid (TENNCARE)) \nRealize the importance of a Risk Adjustment auditing process \nQuality Updates
URL:https://mecop.stagingthedigitalscratch.com/event/smg-risk-adjustment-and-new-provider-training-3/
LOCATION:Internet Live Webcast
CATEGORIES:AMA
END:VEVENT
BEGIN:VEVENT
DTSTART;TZID=America/Chicago:20241022T080000
DTEND;TZID=America/Chicago:20241022T170000
DTSTAMP:20260422T171933
CREATED:20241023T154257Z
LAST-MODIFIED:20241023T162638Z
UID:59002-1729584000-1729616400@mecop.stagingthedigitalscratch.com
SUMMARY:MUSM Clinical Faculty Development Series
DESCRIPTION:Trace the historical development of vaccines and their impact on public health.\nDifferentiate between vaccine types and their mechanisms of action.\nAssess the positive effects of vaccination on disease prevention.\nExplore current issues affecting vaccination rates and access.\nExamine factors contributing to declining vaccination rates in communities.
URL:https://mecop.stagingthedigitalscratch.com/event/musm-clinical-faculty-development-series-26/
LOCATION:Live
CATEGORIES:AMA
END:VEVENT
BEGIN:VEVENT
DTSTART;TZID=America/Chicago:20241022T080000
DTEND;TZID=America/Chicago:20241022T170000
DTSTAMP:20260422T171933
CREATED:20241022T232522Z
LAST-MODIFIED:20241024T150125Z
UID:58996-1729584000-1729616400@mecop.stagingthedigitalscratch.com
SUMMARY:Risk Adjustment and The Rules of Engagement: ICD-10-CM Coding Updates
DESCRIPTION:Review CMS-HCC risk adjustment model and why it is important\nReview specific official ICD-10-CM coding guidelines and how they are applied for HCC diagnosis coding\nIdentify elements of the medical record that help support the validation of an HCC diagnosis condition\nIdentify documentation deficiencies for specific conditions
URL:https://mecop.stagingthedigitalscratch.com/event/risk-adjustment-and-the-rules-of-engagement-icd-10-coding-updates/
LOCATION:Live Webinar
CATEGORIES:AMA
END:VEVENT
BEGIN:VEVENT
DTSTART;TZID=America/Chicago:20241022T070000
DTEND;TZID=America/Chicago:20241022T080000
DTSTAMP:20260422T171933
CREATED:20240925T124619Z
LAST-MODIFIED:20241117T135947Z
UID:58474-1729580400-1729584000@mecop.stagingthedigitalscratch.com
SUMMARY:Baldwin Health Tumor Board
DESCRIPTION:1. Review patient cases and all necessary findings (pathology\, radiology\, surgery\, etc.) and discuss key\nfindings to determine course of treatment.\n2. Discuss implications amongst multidisciplinary team members\, and review best practices\, current\nevidence-based findings\, etc.\n3. Assign treatment protocols based on consensus of the multidisciplinary team.
URL:https://mecop.stagingthedigitalscratch.com/event/south-baldwin-tumor-board-33/
LOCATION:Baldwin Health
CATEGORIES:AMA
END:VEVENT
BEGIN:VEVENT
DTSTART;TZID=America/Chicago:20241020T080000
DTEND;TZID=America/Chicago:20241020T170000
DTSTAMP:20260422T171933
CREATED:20241226T145457Z
LAST-MODIFIED:20241226T145502Z
UID:60313-1729411200-1729443600@mecop.stagingthedigitalscratch.com
SUMMARY:Chronic Non-Cancer Pain ACT
DESCRIPTION:See content
URL:https://mecop.stagingthedigitalscratch.com/event/chronic-non-cancer-pain-act-3/
LOCATION:Internet Enduring Material
CATEGORIES:AMA
END:VEVENT
BEGIN:VEVENT
DTSTART;TZID=America/Chicago:20241020T080000
DTEND;TZID=America/Chicago:20241020T170000
DTSTAMP:20260422T171933
CREATED:20241115T153610Z
LAST-MODIFIED:20241115T153641Z
UID:59373-1729411200-1729443600@mecop.stagingthedigitalscratch.com
SUMMARY:Heart Failure ACT
DESCRIPTION:See content.
URL:https://mecop.stagingthedigitalscratch.com/event/heart-failure-act-4/
LOCATION:Internet Enduring Material
CATEGORIES:AMA
END:VEVENT
BEGIN:VEVENT
DTSTART;TZID=America/Chicago:20241020T080000
DTEND;TZID=America/Chicago:20241020T170000
DTSTAMP:20260422T171933
CREATED:20241022T090834Z
LAST-MODIFIED:20241022T090834Z
UID:58981-1729411200-1729443600@mecop.stagingthedigitalscratch.com
SUMMARY:Medical Management of Shoulder Dystocia
DESCRIPTION:Unavailable
URL:https://mecop.stagingthedigitalscratch.com/event/medical-management-of-shoulder-dystocia-3/
LOCATION:Enduring Activity
CATEGORIES:AMA
END:VEVENT
BEGIN:VEVENT
DTSTART;TZID=America/Chicago:20241019T080000
DTEND;TZID=America/Chicago:20241019T170000
DTSTAMP:20260422T171933
CREATED:20241021T180954Z
LAST-MODIFIED:20241021T183012Z
UID:58975-1729324800-1729357200@mecop.stagingthedigitalscratch.com
SUMMARY:Non-Surgical BBL with Injector Coach Institute
DESCRIPTION:Outline available proceudres\, techniques and methodologies to improve\, lift and contour the buttocks.\nDiscuss complications\, indications\, consent\, and anatomy.\nOutline materials needed and product preparation.\nDemonstrate the mapping process and its uniqueness to each patient.\nEffectively apply skills in a lab setting under direct supervision.\nAchieve symmetry\, projection and desired results on model patients.
URL:https://mecop.stagingthedigitalscratch.com/event/non-surgical-bbl-with-injector-coach-institute/
LOCATION:Mind Body Soul Medical
CATEGORIES:AMA
END:VEVENT
BEGIN:VEVENT
DTSTART;TZID=America/Chicago:20241018T080000
DTEND;TZID=America/Chicago:20241018T170000
DTSTAMP:20260422T171933
CREATED:20241115T231507Z
LAST-MODIFIED:20241115T231638Z
UID:59439-1729238400-1729270800@mecop.stagingthedigitalscratch.com
SUMMARY:Skin Esteem Institute: Neurotoxin and Dermal Filler for Beginners
DESCRIPTION:Review the aging process and facial anatomy\nReview an effective consultation and patient selection\nReview beginner injectable rejuvenation techniques using Neurotoxins\nReview beginner injectable rejuvenation techniques using Dermal Fillers\nHands-on Injectable training
URL:https://mecop.stagingthedigitalscratch.com/event/skin-esteem-institute-neurotoxin-and-dermal-filler-for-beginners-8/
LOCATION:Kentucky
CATEGORIES:AMA
END:VEVENT
BEGIN:VEVENT
DTSTART;TZID=America/Chicago:20241018T080000
DTEND;TZID=America/Chicago:20241018T170000
DTSTAMP:20260422T171933
CREATED:20241115T224945Z
LAST-MODIFIED:20250226T163648Z
UID:59431-1729238400-1729270800@mecop.stagingthedigitalscratch.com
SUMMARY:Community Medical Services Provider Manual: Addiction Primer
DESCRIPTION:Content/Robert Sherrick\, MD
URL:https://mecop.stagingthedigitalscratch.com/event/community-medical-services-provider-manual-addiction-primer-3/
LOCATION:Enduring Material
CATEGORIES:AMA
END:VEVENT
BEGIN:VEVENT
DTSTART;TZID=America/Chicago:20241018T080000
DTEND;TZID=America/Chicago:20241018T170000
DTSTAMP:20260422T171933
CREATED:20241029T143659Z
LAST-MODIFIED:20241029T143707Z
UID:59087-1729238400-1729270800@mecop.stagingthedigitalscratch.com
SUMMARY:KAMAP The Science Behind PRP/PRF
DESCRIPTION:
URL:https://mecop.stagingthedigitalscratch.com/event/kamap-the-science-behind-prp-prf-3/
LOCATION:Internet Enduring Material
CATEGORIES:AMA
END:VEVENT
BEGIN:VEVENT
DTSTART;TZID=America/Chicago:20241018T080000
DTEND;TZID=America/Chicago:20241018T170000
DTSTAMP:20260422T171933
CREATED:20241024T184135Z
LAST-MODIFIED:20241031T140602Z
UID:59020-1729238400-1729270800@mecop.stagingthedigitalscratch.com
SUMMARY:FSU Fundamentals of Teaching in the FSU COM Clinical Education Program II Module
DESCRIPTION:Unavailable
URL:https://mecop.stagingthedigitalscratch.com/event/fsu-fundamentals-of-teaching-in-the-fsu-com-clinical-education-program-ii-module-8/
LOCATION:Enduring Activity
CATEGORIES:AMA
END:VEVENT
BEGIN:VEVENT
DTSTART;TZID=America/Chicago:20241018T080000
DTEND;TZID=America/Chicago:20241018T170000
DTSTAMP:20260422T171933
CREATED:20241021T154633Z
LAST-MODIFIED:20241021T154638Z
UID:58962-1729238400-1729270800@mecop.stagingthedigitalscratch.com
SUMMARY:KAMAP Hyaluronidase: The Safety Net of Aesthetics
DESCRIPTION:Explain the mechanism of action of hyaluronidase\nIdentify safe prescribing practices of hyaluronidase\nDemonstrate safe administration of hyaluronidase\nCompare primary and secondary uses of hyaluronidase in medical aesthetics\nAnticipate the risk of allergic reaction to hyaluronidase\nOutline possible side effects of hyaluronidase administration
URL:https://mecop.stagingthedigitalscratch.com/event/kamap-hyaluronidase-the-safety-net-of-aesthetics-3/
LOCATION:Internet Enduring Material
CATEGORIES:AMA
END:VEVENT
BEGIN:VEVENT
DTSTART;TZID=America/Chicago:20241018T080000
DTEND;TZID=America/Chicago:20241018T170000
DTSTAMP:20260422T171933
CREATED:20241021T153021Z
LAST-MODIFIED:20241021T153026Z
UID:58958-1729238400-1729270800@mecop.stagingthedigitalscratch.com
SUMMARY:KAMAP Mastering the Frontalis with Neurotoxins
DESCRIPTION:Explain the mechanism of action of neurotoxin.\nIdentify safe prescribing practices of neurotoxin\nUnderstand how to utilize the Theory of Convergence in practice.\nIdentify ways to mitigate possible complications from neurotoxin administration.\nUtilize clinical pearls to improve practice of neurotoxin administration.
URL:https://mecop.stagingthedigitalscratch.com/event/kamap-mastering-the-frontalis-with-neurotoxins-2/
LOCATION:Internet Enduring Material
CATEGORIES:AMA
END:VEVENT
BEGIN:VEVENT
DTSTART;TZID=America/Chicago:20241016T080000
DTEND;TZID=America/Chicago:20241030T170000
DTSTAMP:20260422T171933
CREATED:20241030T160915Z
LAST-MODIFIED:20241030T161236Z
UID:59108-1729065600-1730307600@mecop.stagingthedigitalscratch.com
SUMMARY:NFO Business of Medicine Web Series: Understanding the Incident to Provision
DESCRIPTION:Incident to is a CMS billing concept. During our session we will discuss the requirements of incident to billing and how to remain compliant. We will also review some clinical scenarios. \nAt the conclusion of this program\, participants should be able to: 1. What is incident to billing? 2. What is the reimbursement model for incident to billing. 3. What the guidelines are for incident to billing. 4. Documentation requirements for incident to billing. 5. How to apply the incident to guidelines
URL:https://mecop.stagingthedigitalscratch.com/event/nfo-business-of-medicine-web-series-understanding-the-incident-to-provision-3/
LOCATION:Internet Live Webcast
CATEGORIES:AMA
END:VEVENT
BEGIN:VEVENT
DTSTART;TZID=America/Chicago:20241016T080000
DTEND;TZID=America/Chicago:20241016T170000
DTSTAMP:20260422T171933
CREATED:20241020T122746Z
LAST-MODIFIED:20241020T122905Z
UID:58933-1729065600-1729098000@mecop.stagingthedigitalscratch.com
SUMMARY:Pitfalls of AI in Radiology
DESCRIPTION:Unavailable
URL:https://mecop.stagingthedigitalscratch.com/event/pitfalls-of-ai-in-radiology/
LOCATION:Enduring Activity
CATEGORIES:AMA
END:VEVENT
BEGIN:VEVENT
DTSTART;TZID=America/Chicago:20241016T080000
DTEND;TZID=America/Chicago:20241016T170000
DTSTAMP:20260422T171933
CREATED:20241020T122137Z
LAST-MODIFIED:20241020T122554Z
UID:58930-1729065600-1729098000@mecop.stagingthedigitalscratch.com
SUMMARY:FDG PET/CT Versus FDG PET/MRI in Patients With Cancer
DESCRIPTION:Unavailable
URL:https://mecop.stagingthedigitalscratch.com/event/fdg-pet-ct-versus-fdg-pet-mri-in-patients-with-cancer/
LOCATION:Enduring Activity
CATEGORIES:AMA
END:VEVENT
BEGIN:VEVENT
DTSTART;TZID=America/Chicago:20241016T080000
DTEND;TZID=America/Chicago:20241016T170000
DTSTAMP:20260422T171933
CREATED:20241020T112237Z
LAST-MODIFIED:20241020T112404Z
UID:58927-1729065600-1729098000@mecop.stagingthedigitalscratch.com
SUMMARY:Myositis and Its Mimics
DESCRIPTION:Unavailable
URL:https://mecop.stagingthedigitalscratch.com/event/myositis-and-its-mimics/
LOCATION:Enduring Activity
CATEGORIES:AMA
END:VEVENT
BEGIN:VEVENT
DTSTART;TZID=America/Chicago:20241016T080000
DTEND;TZID=America/Chicago:20241016T170000
DTSTAMP:20260422T171933
CREATED:20241020T111538Z
LAST-MODIFIED:20241020T111658Z
UID:58924-1729065600-1729098000@mecop.stagingthedigitalscratch.com
SUMMARY:Management of Severe Allergic-Like Contrast Media Reactions
DESCRIPTION:Unavailable
URL:https://mecop.stagingthedigitalscratch.com/event/management-of-severe-allergic-like-contrast-media-reactions/
LOCATION:Enduring Activity
CATEGORIES:AMA
END:VEVENT
BEGIN:VEVENT
DTSTART;TZID=America/Chicago:20241016T080000
DTEND;TZID=America/Chicago:20241016T170000
DTSTAMP:20260422T171933
CREATED:20241019T224622Z
LAST-MODIFIED:20241019T224907Z
UID:58921-1729065600-1729098000@mecop.stagingthedigitalscratch.com
SUMMARY:Recommendations for Incidental Gallbladder Polyp Management
DESCRIPTION:Unavailable
URL:https://mecop.stagingthedigitalscratch.com/event/recommendations-for-incidental-gallbladder-polyp-management/
LOCATION:Enduring Activity
CATEGORIES:AMA
END:VEVENT
BEGIN:VEVENT
DTSTART;TZID=America/Chicago:20241016T080000
DTEND;TZID=America/Chicago:20241016T170000
DTSTAMP:20260422T171933
CREATED:20241019T223959Z
LAST-MODIFIED:20241019T224203Z
UID:58918-1729065600-1729098000@mecop.stagingthedigitalscratch.com
SUMMARY:Radiologic Extranodal Extension of Metastatic Lymph Nodes
DESCRIPTION:Unavailable
URL:https://mecop.stagingthedigitalscratch.com/event/radiologic-extranodal-extension-of-metastatic-lymph-nodes/
LOCATION:Enduring Activity
CATEGORIES:AMA
END:VEVENT
BEGIN:VEVENT
DTSTART;TZID=America/Chicago:20241016T080000
DTEND;TZID=America/Chicago:20241016T170000
DTSTAMP:20260422T171933
CREATED:20241019T223140Z
LAST-MODIFIED:20241019T223340Z
UID:58915-1729065600-1729098000@mecop.stagingthedigitalscratch.com
SUMMARY:Use of ChatGPT in Radiology Reporting and Patient Questions
DESCRIPTION:Unavailable
URL:https://mecop.stagingthedigitalscratch.com/event/use-of-chatgpt-in-radiology-reporting-and-patient-questions/
LOCATION:Enduring Activity
CATEGORIES:AMA
END:VEVENT
BEGIN:VEVENT
DTSTART;TZID=America/Chicago:20241016T080000
DTEND;TZID=America/Chicago:20241016T170000
DTSTAMP:20260422T171933
CREATED:20241016T184017Z
LAST-MODIFIED:20241016T184126Z
UID:58728-1729065600-1729098000@mecop.stagingthedigitalscratch.com
SUMMARY:Management of Negative Multiparametric Prostate MRI Examinations
DESCRIPTION:Unavailable
URL:https://mecop.stagingthedigitalscratch.com/event/management-of-negative-multiparametric-prostate-mri-examinations/
LOCATION:Enduring Activity
CATEGORIES:AMA
END:VEVENT
BEGIN:VEVENT
DTSTART;TZID=America/Chicago:20241016T080000
DTEND;TZID=America/Chicago:20241016T170000
DTSTAMP:20260422T171933
CREATED:20241016T183237Z
LAST-MODIFIED:20241016T183649Z
UID:58725-1729065600-1729098000@mecop.stagingthedigitalscratch.com
SUMMARY:PCa Upgrade and Downgrade Rates for PI-RADS v2.0 Versus v2.1
DESCRIPTION:Unavailable
URL:https://mecop.stagingthedigitalscratch.com/event/pca-upgrade-and-downgrade-rates-for-pi-rads-v2-0-versus-v2-1/
LOCATION:Enduring Activity
CATEGORIES:AMA
END:VEVENT
BEGIN:VEVENT
DTSTART;TZID=America/Chicago:20241016T080000
DTEND;TZID=America/Chicago:20241016T170000
DTSTAMP:20260422T171933
CREATED:20241016T181250Z
LAST-MODIFIED:20241016T181615Z
UID:58719-1729065600-1729098000@mecop.stagingthedigitalscratch.com
SUMMARY:FDG PET/CT and Lymphoma Treated With CAR T-Cell Therapy
DESCRIPTION:Unavailable
URL:https://mecop.stagingthedigitalscratch.com/event/fdg-pet-ct-and-lymphoma-treated-with-car-t-cell-therapy/
LOCATION:Enduring Activity
CATEGORIES:AMA
END:VEVENT
END:VCALENDAR