BEGIN:VCALENDAR
VERSION:2.0
PRODID:-//Mecop - ECPv6.5.1.5//NONSGML v1.0//EN
CALSCALE:GREGORIAN
METHOD:PUBLISH
X-WR-CALNAME:Mecop
X-ORIGINAL-URL:https://mecop.stagingthedigitalscratch.com
X-WR-CALDESC:Events for Mecop
REFRESH-INTERVAL;VALUE=DURATION:PT1H
X-Robots-Tag:noindex
X-PUBLISHED-TTL:PT1H
BEGIN:VTIMEZONE
TZID:America/Chicago
BEGIN:DAYLIGHT
TZOFFSETFROM:-0600
TZOFFSETTO:-0500
TZNAME:CDT
DTSTART:20240310T080000
END:DAYLIGHT
BEGIN:STANDARD
TZOFFSETFROM:-0500
TZOFFSETTO:-0600
TZNAME:CST
DTSTART:20241103T070000
END:STANDARD
BEGIN:DAYLIGHT
TZOFFSETFROM:-0600
TZOFFSETTO:-0500
TZNAME:CDT
DTSTART:20250309T080000
END:DAYLIGHT
BEGIN:STANDARD
TZOFFSETFROM:-0500
TZOFFSETTO:-0600
TZNAME:CST
DTSTART:20251102T070000
END:STANDARD
END:VTIMEZONE
BEGIN:VEVENT
DTSTART;TZID=America/Chicago:20250106T080000
DTEND;TZID=America/Chicago:20250106T170000
DTSTAMP:20260421T150938
CREATED:20250106T205807Z
LAST-MODIFIED:20250106T205814Z
UID:60384-1736150400-1736182800@mecop.stagingthedigitalscratch.com
SUMMARY:Prescribing Controlled Substances: The Florida Physician Requirement
DESCRIPTION:
URL:https://mecop.stagingthedigitalscratch.com/event/prescribing-controlled-substances-the-florida-physician-requirement/
LOCATION:Internet Enduring Material
CATEGORIES:AMA,Prescribing of Controlled Substances
END:VEVENT
BEGIN:VEVENT
DTSTART;TZID=America/Chicago:20250106T080000
DTEND;TZID=America/Chicago:20250106T170000
DTSTAMP:20260421T150938
CREATED:20250106T182020Z
LAST-MODIFIED:20250106T182830Z
UID:60364-1736150400-1736182800@mecop.stagingthedigitalscratch.com
SUMMARY:Managing Acute and Chronic Pain and Substance Use Disorders In Pediatrics Update
DESCRIPTION:
URL:https://mecop.stagingthedigitalscratch.com/event/managing-acute-and-chronic-pain-and-substance-use-disorders-in-pediatrics-update-2/
LOCATION:Enduring Material
CATEGORIES:AMA,Prescribing of Controlled Substances
END:VEVENT
BEGIN:VEVENT
DTSTART;TZID=America/Chicago:20250105T080000
DTEND;TZID=America/Chicago:20250105T170000
DTSTAMP:20260421T150938
CREATED:20250106T210152Z
LAST-MODIFIED:20250106T210441Z
UID:60386-1736064000-1736096400@mecop.stagingthedigitalscratch.com
SUMMARY:KAMAP Mastering the Frontalis with Neurotoxins
DESCRIPTION:Explain the mechanism of action of neurotoxin.\nIdentify safe prescribing practices of neurotoxin\nUnderstand how to utilize the Theory of Convergence in practice.\nIdentify ways to mitigate possible complications from neurotoxin administration.\nUtilize clinical pearls to improve practice of neurotoxin administration.
URL:https://mecop.stagingthedigitalscratch.com/event/kamap-mastering-the-frontalis-with-neurotoxins-4/
LOCATION:Internet Enduring Material
CATEGORIES:AMA
END:VEVENT
BEGIN:VEVENT
DTSTART;TZID=America/Chicago:20250101T080000
DTEND;TZID=America/Chicago:20250101T170000
DTSTAMP:20260421T150938
CREATED:20250107T141301Z
LAST-MODIFIED:20250131T201100Z
UID:60410-1735718400-1735750800@mecop.stagingthedigitalscratch.com
SUMMARY:FSU Fundamentals of Teaching in the FSU COM Clinical Education Program II Module
DESCRIPTION:Unavailable
URL:https://mecop.stagingthedigitalscratch.com/event/fsu-fundamentals-of-teaching-in-the-fsu-com-clinical-education-program-ii-module-11/
LOCATION:Enduring Material
CATEGORIES:AMA
END:VEVENT
BEGIN:VEVENT
DTSTART;TZID=America/Chicago:20250101T080000
DTEND;TZID=America/Chicago:20250101T170000
DTSTAMP:20260421T150938
CREATED:20250107T140026Z
LAST-MODIFIED:20250131T201234Z
UID:60405-1735718400-1735750800@mecop.stagingthedigitalscratch.com
SUMMARY:FSU Fundamentals of Teaching in the FSU COM Clinical Education Program I Module
DESCRIPTION:Unavailable
URL:https://mecop.stagingthedigitalscratch.com/event/fsu-fundamentals-of-teaching-in-the-fsu-com-clinical-education-program-i-module-8/
LOCATION:Enduring materials
CATEGORIES:AMA
END:VEVENT
BEGIN:VEVENT
DTSTART;TZID=America/Chicago:20241231T080000
DTEND;TZID=America/Chicago:20241231T170000
DTSTAMP:20260421T150938
CREATED:20250107T005502Z
LAST-MODIFIED:20250107T005755Z
UID:60396-1735632000-1735664400@mecop.stagingthedigitalscratch.com
SUMMARY:Atrial Fibrillation ACT
DESCRIPTION:See content.
URL:https://mecop.stagingthedigitalscratch.com/event/atrial-fibrillation-act-4/
LOCATION:Internet Enduring Material
CATEGORIES:AMA
END:VEVENT
BEGIN:VEVENT
DTSTART;TZID=America/Chicago:20241230T080000
DTEND;TZID=America/Chicago:20241230T170000
DTSTAMP:20260421T150938
CREATED:20250107T172053Z
LAST-MODIFIED:20250107T172059Z
UID:60428-1735545600-1735578000@mecop.stagingthedigitalscratch.com
SUMMARY:Diabetes Preventing Cardiovascular Events ACT
DESCRIPTION:See content.
URL:https://mecop.stagingthedigitalscratch.com/event/diabetes-preventing-cardiovascular-events-act/
LOCATION:Internet Enduring Material
CATEGORIES:AMA
END:VEVENT
BEGIN:VEVENT
DTSTART;TZID=America/Chicago:20241230T080000
DTEND;TZID=America/Chicago:20241230T170000
DTSTAMP:20260421T150938
CREATED:20250107T165949Z
LAST-MODIFIED:20250107T165954Z
UID:60420-1735545600-1735578000@mecop.stagingthedigitalscratch.com
SUMMARY:Coronary Artery Disease ACT
DESCRIPTION:See content.
URL:https://mecop.stagingthedigitalscratch.com/event/coronary-artery-disease-act-3/
LOCATION:Internet Enduring Material
CATEGORIES:AMA
END:VEVENT
BEGIN:VEVENT
DTSTART;TZID=America/Chicago:20241229T080000
DTEND;TZID=America/Chicago:20241229T170000
DTSTAMP:20260421T150938
CREATED:20250106T184258Z
LAST-MODIFIED:20250107T122348Z
UID:60372-1735459200-1735491600@mecop.stagingthedigitalscratch.com
SUMMARY:A-23: Dignity\, Death\, and Patient Care
DESCRIPTION:
URL:https://mecop.stagingthedigitalscratch.com/event/a-23-dignity-death-and-patient-care/
LOCATION:Enduring Material
CATEGORIES:AMA,EndOfLife
END:VEVENT
BEGIN:VEVENT
DTSTART;TZID=America/Chicago:20241229T080000
DTEND;TZID=America/Chicago:20241229T170000
DTSTAMP:20260421T150938
CREATED:20250106T183402Z
LAST-MODIFIED:20250106T183929Z
UID:60368-1735459200-1735491600@mecop.stagingthedigitalscratch.com
SUMMARY:Bringing Dying Out of the Hospital's Closet
DESCRIPTION:
URL:https://mecop.stagingthedigitalscratch.com/event/bringing-dying-out-of-the-hospitals-closet/
LOCATION:Journal based CME activity
CATEGORIES:AMA,EndOfLife
END:VEVENT
BEGIN:VEVENT
DTSTART;TZID=America/Chicago:20241228T080000
DTEND;TZID=America/Chicago:20241228T170000
DTSTAMP:20260421T150938
CREATED:20250107T164938Z
LAST-MODIFIED:20250107T185459Z
UID:60416-1735372800-1735405200@mecop.stagingthedigitalscratch.com
SUMMARY:Florida Medical Errors
DESCRIPTION:
URL:https://mecop.stagingthedigitalscratch.com/event/florida-medical-errors/
LOCATION:Enduring Material
CATEGORIES:AMA,MedErrors
END:VEVENT
BEGIN:VEVENT
DTSTART;TZID=America/Chicago:20241222T080000
DTEND;TZID=America/Chicago:20241222T170000
DTSTAMP:20260421T150938
CREATED:20250107T232130Z
LAST-MODIFIED:20250107T232136Z
UID:60474-1734854400-1734886800@mecop.stagingthedigitalscratch.com
SUMMARY:Urinary Incontinence in Adults ACT
DESCRIPTION:See content.
URL:https://mecop.stagingthedigitalscratch.com/event/urinary-incontinence-in-adults-act-5/
LOCATION:Internet Enduring Material
CATEGORIES:AMA
END:VEVENT
BEGIN:VEVENT
DTSTART;TZID=America/Chicago:20241222T080000
DTEND;TZID=America/Chicago:20241222T170000
DTSTAMP:20260421T150938
CREATED:20250107T174618Z
LAST-MODIFIED:20250107T174626Z
UID:60442-1734854400-1734886800@mecop.stagingthedigitalscratch.com
SUMMARY:Management of Obesity in Adults ACT
DESCRIPTION:See content.
URL:https://mecop.stagingthedigitalscratch.com/event/management-of-obesity-in-adults-act-5/
LOCATION:Internet Enduring Material
CATEGORIES:AMA
END:VEVENT
BEGIN:VEVENT
DTSTART;TZID=America/Chicago:20241222T080000
DTEND;TZID=America/Chicago:20241222T170000
DTSTAMP:20260421T150938
CREATED:20250107T174352Z
LAST-MODIFIED:20250107T174358Z
UID:60440-1734854400-1734886800@mecop.stagingthedigitalscratch.com
SUMMARY:Lipid-Lowering Therapy to Reduce CVD Risk ACT
DESCRIPTION:See content.
URL:https://mecop.stagingthedigitalscratch.com/event/lipid-lowering-therapy-to-reduce-cvd-risk-act-4/
LOCATION:Internet Enduring Material
CATEGORIES:AMA
END:VEVENT
BEGIN:VEVENT
DTSTART;TZID=America/Chicago:20241222T080000
DTEND;TZID=America/Chicago:20241222T170000
DTSTAMP:20260421T150938
CREATED:20250107T172751Z
LAST-MODIFIED:20250107T172757Z
UID:60432-1734854400-1734886800@mecop.stagingthedigitalscratch.com
SUMMARY:Hypertension ACT
DESCRIPTION:See content.
URL:https://mecop.stagingthedigitalscratch.com/event/hypertension-act-6/
LOCATION:Internet Enduring Material
CATEGORIES:AMA
END:VEVENT
BEGIN:VEVENT
DTSTART;TZID=America/Chicago:20241222T080000
DTEND;TZID=America/Chicago:20241222T170000
DTSTAMP:20260421T150938
CREATED:20250107T004501Z
LAST-MODIFIED:20250107T004508Z
UID:60390-1734854400-1734886800@mecop.stagingthedigitalscratch.com
SUMMARY:Advance Care Planning ACT
DESCRIPTION:See content
URL:https://mecop.stagingthedigitalscratch.com/event/advance-care-planning-act-7/
LOCATION:Internet Enduring Material
CATEGORIES:AMA
END:VEVENT
BEGIN:VEVENT
DTSTART;TZID=America/Chicago:20241221T080000
DTEND;TZID=America/Chicago:20241221T170000
DTSTAMP:20260421T150938
CREATED:20250107T224907Z
LAST-MODIFIED:20250110T215333Z
UID:60459-1734768000-1734800400@mecop.stagingthedigitalscratch.com
SUMMARY:PEEP Risk Adjustment and CKD
DESCRIPTION:See content.
URL:https://mecop.stagingthedigitalscratch.com/event/peep-risk-adjustment-and-ckd-4/
LOCATION:Internet Enduring Material
CATEGORIES:AMA
END:VEVENT
BEGIN:VEVENT
DTSTART;TZID=America/Chicago:20241219T080000
DTEND;TZID=America/Chicago:20241219T170000
DTSTAMP:20260421T150938
CREATED:20250107T173128Z
LAST-MODIFIED:20250110T215046Z
UID:60434-1734595200-1734627600@mecop.stagingthedigitalscratch.com
SUMMARY:PEEP Risk Adjustment and Vascular Disease
DESCRIPTION:Review CMS-HCC risk adjustment model and why it is important\nReview specific official ICD-10-CM coding guidelines and how they are applied for HCC diagnosis coding\nIdentify elements of the medical record that help support the validation of an HCC diagnosis condition\nIdentify documentation deficiencies for specific conditions
URL:https://mecop.stagingthedigitalscratch.com/event/peep-risk-adjustment-and-vascular-disease-6/
LOCATION:Internet Enduring Material
CATEGORIES:AMA
END:VEVENT
BEGIN:VEVENT
DTSTART;TZID=America/Chicago:20241219T080000
DTEND;TZID=America/Chicago:20241219T170000
DTSTAMP:20260421T150938
CREATED:20250107T171347Z
LAST-MODIFIED:20250110T214726Z
UID:60422-1734595200-1734627600@mecop.stagingthedigitalscratch.com
SUMMARY:PEEP Risk Adjustment and Best Practices for Documentation and Coding
DESCRIPTION:See content.
URL:https://mecop.stagingthedigitalscratch.com/event/peep-risk-adjustment-and-best-practices-for-documentation-and-coding/
LOCATION:Internet Enduring Material
CATEGORIES:AMA
END:VEVENT
BEGIN:VEVENT
DTSTART;TZID=America/Chicago:20241218T080000
DTEND;TZID=America/Chicago:20241218T170000
DTSTAMP:20260421T150938
CREATED:20241220T130116Z
LAST-MODIFIED:20241220T130116Z
UID:60246-1734508800-1734541200@mecop.stagingthedigitalscratch.com
SUMMARY:General Adult Tumor Board 2024
DESCRIPTION:Unavailable
URL:https://mecop.stagingthedigitalscratch.com/event/general-adult-tumor-board-2024-29/
LOCATION:Ascension Sacred Heart Hospital\, FL
CATEGORIES:AMA
END:VEVENT
BEGIN:VEVENT
DTSTART;TZID=America/Chicago:20241218T080000
DTEND;TZID=America/Chicago:20241218T170000
DTSTAMP:20260421T150938
CREATED:20241218T181124Z
LAST-MODIFIED:20241219T230114Z
UID:60229-1734508800-1734541200@mecop.stagingthedigitalscratch.com
SUMMARY:Risk Adjustment and Total Recall - Best Practices in Documentation and Coding
DESCRIPTION:Review CMS-HCC risk adjustment model and why it is important\nReview specific official ICD-10-CM coding guidelines and how they are applied for HCC diagnosis coding\nIdentify elements of the medical record that help support the validation of an HCC diagnosis condition\nIdentify documentation deficiencies for specific conditions
URL:https://mecop.stagingthedigitalscratch.com/event/risk-adjustment-and-total-recall-best-practices-in-documentation-and-coding/
LOCATION:Live Webinar
CATEGORIES:AMA
END:VEVENT
BEGIN:VEVENT
DTSTART;TZID=America/Chicago:20241218T080000
DTEND;TZID=America/Chicago:20241218T170000
DTSTAMP:20260421T150938
CREATED:20241201T204717Z
LAST-MODIFIED:20241222T164624Z
UID:59760-1734508800-1734541200@mecop.stagingthedigitalscratch.com
SUMMARY:Better Health Group Monthly Town Hall Meeting
DESCRIPTION:TBA
URL:https://mecop.stagingthedigitalscratch.com/event/better-health-group-monthly-town-hall-meeting-9/
LOCATION:Zoom
CATEGORIES:AMA
END:VEVENT
BEGIN:VEVENT
DTSTART;TZID=America/Chicago:20241217T080000
DTEND;TZID=America/Chicago:20241217T170000
DTSTAMP:20260421T150938
CREATED:20250107T232325Z
LAST-MODIFIED:20250107T232333Z
UID:60476-1734422400-1734454800@mecop.stagingthedigitalscratch.com
SUMMARY:Value-Based Prescribing ACT
DESCRIPTION:See content.
URL:https://mecop.stagingthedigitalscratch.com/event/value-based-prescribing-act-5/
LOCATION:Internet Enduring Material
CATEGORIES:AMA
END:VEVENT
BEGIN:VEVENT
DTSTART;TZID=America/Chicago:20241217T080000
DTEND;TZID=America/Chicago:20241217T170000
DTSTAMP:20260421T150938
CREATED:20250107T174803Z
LAST-MODIFIED:20250107T174830Z
UID:60444-1734422400-1734454800@mecop.stagingthedigitalscratch.com
SUMMARY:Management of Obesity in Children ACT
DESCRIPTION:See content.
URL:https://mecop.stagingthedigitalscratch.com/event/management-of-obesity-in-children-act-5/
LOCATION:Internet Enduring Material
CATEGORIES:AMA
END:VEVENT
BEGIN:VEVENT
DTSTART;TZID=America/Chicago:20241217T080000
DTEND;TZID=America/Chicago:20241217T170000
DTSTAMP:20260421T150938
CREATED:20250107T171757Z
LAST-MODIFIED:20250110T214902Z
UID:60426-1734422400-1734454800@mecop.stagingthedigitalscratch.com
SUMMARY:Diabetes Type 2 Basic Care ACT
DESCRIPTION:See content.
URL:https://mecop.stagingthedigitalscratch.com/event/diabetes-type-2-basic-care-act-5/
LOCATION:Internet Enduring Material
CATEGORIES:AMA
END:VEVENT
BEGIN:VEVENT
DTSTART;TZID=America/Chicago:20241217T080000
DTEND;TZID=America/Chicago:20241217T170000
DTSTAMP:20260421T150938
CREATED:20250107T171541Z
LAST-MODIFIED:20250107T171546Z
UID:60424-1734422400-1734454800@mecop.stagingthedigitalscratch.com
SUMMARY:Diabetes Type 1 Basic Care ACT
DESCRIPTION:See content.
URL:https://mecop.stagingthedigitalscratch.com/event/diabetes-type-1-basic-care-act-5/
LOCATION:Internet Enduring Material
CATEGORIES:AMA
END:VEVENT
BEGIN:VEVENT
DTSTART;TZID=America/Chicago:20241217T080000
DTEND;TZID=America/Chicago:20241217T170000
DTSTAMP:20260421T150938
CREATED:20250107T165725Z
LAST-MODIFIED:20250110T214342Z
UID:60418-1734422400-1734454800@mecop.stagingthedigitalscratch.com
SUMMARY:Basic Coding and Documentation Principles (BCD) ACT
DESCRIPTION:Outline basic coding and documentation principles related to the CMS-HCC model to clinical notes.
URL:https://mecop.stagingthedigitalscratch.com/event/basic-coding-and-documentation-principles-bcd-act-5/
LOCATION:Internet Enduring Material
CATEGORIES:AMA
END:VEVENT
BEGIN:VEVENT
DTSTART;TZID=America/Chicago:20241217T080000
DTEND;TZID=America/Chicago:20241217T170000
DTSTAMP:20260421T150938
CREATED:20250107T005321Z
LAST-MODIFIED:20250107T005326Z
UID:60394-1734422400-1734454800@mecop.stagingthedigitalscratch.com
SUMMARY:Asthma (Children Aged 5 Years and Younger) ACT
DESCRIPTION:See content.
URL:https://mecop.stagingthedigitalscratch.com/event/asthma-children-aged-5-years-and-younger-act-4/
LOCATION:Internet Enduring Material
CATEGORIES:AMA
END:VEVENT
BEGIN:VEVENT
DTSTART;TZID=America/Chicago:20241217T080000
DTEND;TZID=America/Chicago:20241217T170000
DTSTAMP:20260421T150938
CREATED:20250106T175239Z
LAST-MODIFIED:20250324T142821Z
UID:60361-1734422400-1734454800@mecop.stagingthedigitalscratch.com
SUMMARY:Summit Medical Grand Rounds: Advancements in Alzheimer’s Treatment and Diagnosis
DESCRIPTION:Outline advancements in the diagnosis and treatment of Alzheimer’s Disease. \nDiscuss classifications of dementia and clinical checklists. \nDiscuss biomarkers and screening tools. \nReview imaging and medication options.
URL:https://mecop.stagingthedigitalscratch.com/event/summit-medical-grand-rounds-9/
LOCATION:Knoxville\, TN
CATEGORIES:AMA
END:VEVENT
BEGIN:VEVENT
DTSTART;TZID=America/Chicago:20241217T080000
DTEND;TZID=America/Chicago:20241217T170000
DTSTAMP:20260421T150938
CREATED:20241227T195310Z
LAST-MODIFIED:20241227T195637Z
UID:60331-1734422400-1734454800@mecop.stagingthedigitalscratch.com
SUMMARY:CMS Monthly Provider Meeting
DESCRIPTION:Discuss changes to UDS collection procedures \nOutline updated on-call procedure \nDiscuss internal exceptions \nOutline SAMHSA’s updated federal guidelines
URL:https://mecop.stagingthedigitalscratch.com/event/cms-monthly-provider-meeting-7/
LOCATION:Internet Live Webcast
CATEGORIES:AMA
END:VEVENT
END:VCALENDAR